Back to Multiple platform build/check report for BioC 3.12
A[B]CDEFGHIJKLMNOPQRSTUVWXYZ

CHECK report for bayNorm on tokay1

This page was generated on 2020-08-11 11:47:41 -0400 (Tue, 11 Aug 2020).

TO THE DEVELOPERS/MAINTAINERS OF THE bayNorm PACKAGE: Please make sure to use the following settings in order to reproduce any error or warning you see on this page.
Package 119/1885HostnameOS / ArchINSTALLBUILDCHECKBUILD BIN
bayNorm 1.7.0
Wenhao Tang
Snapshot Date: 2020-08-10 14:50:56 -0400 (Mon, 10 Aug 2020)
URL: https://git.bioconductor.org/packages/bayNorm
Branch: master
Last Commit: c97943c
Last Changed Date: 2020-04-27 15:20:24 -0400 (Mon, 27 Apr 2020)
malbec1 Linux (Ubuntu 18.04.4 LTS) / x86_64  OK  OK  OK UNNEEDED, same version exists in internal repository
nebbiolo1 Linux (Ubuntu 20.04.1 LTS) / x86_64  OK  OK  NA 
tokay1 Windows Server 2012 R2 Standard / x64  OK  OK [ OK ] OK UNNEEDED, same version exists in internal repository
merida1 macOS 10.14.6 Mojave / x86_64  OK  OK  OK  OK UNNEEDED, same version exists in internal repository

Summary

Package: bayNorm
Version: 1.7.0
Command: C:\Users\biocbuild\bbs-3.12-bioc\R\bin\R.exe CMD check --force-multiarch --install=check:bayNorm.install-out.txt --library=C:\Users\biocbuild\bbs-3.12-bioc\R\library --no-vignettes --timings bayNorm_1.7.0.tar.gz
StartedAt: 2020-08-11 05:06:49 -0400 (Tue, 11 Aug 2020)
EndedAt: 2020-08-11 05:10:46 -0400 (Tue, 11 Aug 2020)
EllapsedTime: 236.8 seconds
RetCode: 0
Status:  OK  
CheckDir: bayNorm.Rcheck
Warnings: 0

Command output

##############################################################################
##############################################################################
###
### Running command:
###
###   C:\Users\biocbuild\bbs-3.12-bioc\R\bin\R.exe CMD check --force-multiarch --install=check:bayNorm.install-out.txt --library=C:\Users\biocbuild\bbs-3.12-bioc\R\library --no-vignettes --timings bayNorm_1.7.0.tar.gz
###
##############################################################################
##############################################################################


* using log directory 'C:/Users/biocbuild/bbs-3.12-bioc/meat/bayNorm.Rcheck'
* using R version 4.0.2 (2020-06-22)
* using platform: x86_64-w64-mingw32 (64-bit)
* using session charset: ISO8859-1
* using option '--no-vignettes'
* checking for file 'bayNorm/DESCRIPTION' ... OK
* checking extension type ... Package
* this is package 'bayNorm' version '1.7.0'
* package encoding: UTF-8
* checking package namespace information ... OK
* checking package dependencies ... OK
* checking if this is a source package ... OK
* checking if there is a namespace ... OK
* checking for hidden files and directories ... OK
* checking for portable file names ... OK
* checking whether package 'bayNorm' can be installed ... OK
* checking installed package size ... OK
* checking package directory ... OK
* checking 'build' directory ... OK
* checking DESCRIPTION meta-information ... OK
* checking top-level files ... OK
* checking for left-over files ... OK
* checking index information ... OK
* checking package subdirectories ... OK
* checking R files for non-ASCII characters ... OK
* checking R files for syntax errors ... OK
* loading checks for arch 'i386'
** checking whether the package can be loaded ... OK
** checking whether the package can be loaded with stated dependencies ... OK
** checking whether the package can be unloaded cleanly ... OK
** checking whether the namespace can be loaded with stated dependencies ... OK
** checking whether the namespace can be unloaded cleanly ... OK
* loading checks for arch 'x64'
** checking whether the package can be loaded ... OK
** checking whether the package can be loaded with stated dependencies ... OK
** checking whether the package can be unloaded cleanly ... OK
** checking whether the namespace can be loaded with stated dependencies ... OK
** checking whether the namespace can be unloaded cleanly ... OK
* checking dependencies in R code ... OK
* checking S3 generic/method consistency ... OK
* checking replacement functions ... OK
* checking foreign function calls ... OK
* checking R code for possible problems ... OK
* checking Rd files ... OK
* checking Rd metadata ... OK
* checking Rd cross-references ... OK
* checking for missing documentation entries ... OK
* checking for code/documentation mismatches ... OK
* checking Rd \usage sections ... OK
* checking Rd contents ... OK
* checking for unstated dependencies in examples ... OK
* checking contents of 'data' directory ... OK
* checking data for non-ASCII characters ... OK
* checking data for ASCII and uncompressed saves ... OK
* checking line endings in C/C++/Fortran sources/headers ... OK
* checking line endings in Makefiles ... OK
* checking compilation flags in Makevars ... OK
* checking for GNU extensions in Makefiles ... OK
* checking for portable use of $(BLAS_LIBS) and $(LAPACK_LIBS) ... OK
* checking use of PKG_*FLAGS in Makefiles ... OK
* checking compiled code ... NOTE
Note: information on .o files for i386 is not available
Note: information on .o files for x64 is not available
File 'C:/Users/biocbuild/bbs-3.12-bioc/R/library/bayNorm/libs/i386/bayNorm.dll':
  Found '_exit', possibly from '_exit' (C)
  Found 'abort', possibly from 'abort' (C), 'runtime' (Fortran)
  Found 'exit', possibly from 'exit' (C), 'stop' (Fortran)
  Found 'printf', possibly from 'printf' (C)
File 'C:/Users/biocbuild/bbs-3.12-bioc/R/library/bayNorm/libs/x64/bayNorm.dll':
  Found '_exit', possibly from '_exit' (C)
  Found 'abort', possibly from 'abort' (C), 'runtime' (Fortran)
  Found 'exit', possibly from 'exit' (C), 'stop' (Fortran)
  Found 'printf', possibly from 'printf' (C)

Compiled code should not call entry points which might terminate R nor
write to stdout/stderr instead of to the console, nor use Fortran I/O
nor system RNGs. The detected symbols are linked into the code but
might come from libraries and not actually be called.

See 'Writing portable packages' in the 'Writing R Extensions' manual.
* checking files in 'vignettes' ... OK
* checking examples ...
** running examples for arch 'i386' ... OK
** running examples for arch 'x64' ... OK
* checking for unstated dependencies in 'tests' ... OK
* checking tests ...
** running tests for arch 'i386' ...
  Running 'testthat.R'
 OK
** running tests for arch 'x64' ...
  Running 'testthat.R'
 OK
* checking for unstated dependencies in vignettes ... OK
* checking package vignettes in 'inst/doc' ... OK
* checking running R code from vignettes ... SKIPPED
* checking re-building of vignette outputs ... SKIPPED
* checking PDF version of manual ... OK
* DONE

Status: 1 NOTE
See
  'C:/Users/biocbuild/bbs-3.12-bioc/meat/bayNorm.Rcheck/00check.log'
for details.



Installation output

bayNorm.Rcheck/00install.out

##############################################################################
##############################################################################
###
### Running command:
###
###   C:\cygwin\bin\curl.exe -O https://malbec1.bioconductor.org/BBS/3.12/bioc/src/contrib/bayNorm_1.7.0.tar.gz && rm -rf bayNorm.buildbin-libdir && mkdir bayNorm.buildbin-libdir && C:\Users\biocbuild\bbs-3.12-bioc\R\bin\R.exe CMD INSTALL --merge-multiarch --build --library=bayNorm.buildbin-libdir bayNorm_1.7.0.tar.gz && C:\Users\biocbuild\bbs-3.12-bioc\R\bin\R.exe CMD INSTALL bayNorm_1.7.0.zip && rm bayNorm_1.7.0.tar.gz bayNorm_1.7.0.zip
###
##############################################################################
##############################################################################


  % Total    % Received % Xferd  Average Speed   Time    Time     Time  Current
                                 Dload  Upload   Total   Spent    Left  Speed

  0     0    0     0    0     0      0      0 --:--:-- --:--:-- --:--:--     0
100 1331k  100 1331k    0     0  9059k      0 --:--:-- --:--:-- --:--:-- 9313k

install for i386

* installing *source* package 'bayNorm' ...
** using staged installation
** libs
"C:/rtools40/mingw32/bin/"g++  -std=gnu++11 -I"C:/Users/BIOCBU~1/BBS-3~1.12-/R/include" -DNDEBUG -DARMA_64BIT_WORD=1  -I'C:/Users/biocbuild/bbs-3.12-bioc/R/library/Rcpp/include' -I'C:/Users/biocbuild/bbs-3.12-bioc/R/library/RcppArmadillo/include' -I'C:/Users/biocbuild/bbs-3.12-bioc/R/library/RcppProgress/include'   -I"C:/extsoft/include"  -fopenmp    -O2 -Wall  -mfpmath=sse -msse2 -mstackrealign -c RcppExports.cpp -o RcppExports.o
"C:/rtools40/mingw32/bin/"g++  -std=gnu++11 -I"C:/Users/BIOCBU~1/BBS-3~1.12-/R/include" -DNDEBUG -DARMA_64BIT_WORD=1  -I'C:/Users/biocbuild/bbs-3.12-bioc/R/library/Rcpp/include' -I'C:/Users/biocbuild/bbs-3.12-bioc/R/library/RcppArmadillo/include' -I'C:/Users/biocbuild/bbs-3.12-bioc/R/library/RcppProgress/include'   -I"C:/extsoft/include"  -fopenmp    -O2 -Wall  -mfpmath=sse -msse2 -mstackrealign -c bayNorm_main.cpp -o bayNorm_main.o
bayNorm_main.cpp: In function 'Rcpp::List EstPrior_sprcpp(arma::sp_mat)':
bayNorm_main.cpp:1374:7: warning: variable 'Nrows' set but not used [-Wunused-but-set-variable]
   int Nrows;
       ^~~~~
bayNorm_main.cpp: In function 'Rcpp::List EstPrior_rcpp(Rcpp::NumericMatrix)':
bayNorm_main.cpp:1427:7: warning: variable 'Nrows' set but not used [-Wunused-but-set-variable]
   int Nrows;
       ^~~~~
C:/rtools40/mingw32/bin/g++ -shared -s -static-libgcc -o bayNorm.dll tmp.def RcppExports.o bayNorm_main.o -fopenmp -LC:/Users/BIOCBU~1/BBS-3~1.12-/R/bin/i386 -lRlapack -LC:/Users/BIOCBU~1/BBS-3~1.12-/R/bin/i386 -lRblas -lgfortran -lm -lquadmath -LC:/extsoft/lib/i386 -LC:/extsoft/lib -LC:/Users/BIOCBU~1/BBS-3~1.12-/R/bin/i386 -lR
installing to C:/Users/biocbuild/bbs-3.12-bioc/meat/bayNorm.buildbin-libdir/00LOCK-bayNorm/00new/bayNorm/libs/i386
** R
** data
** inst
** byte-compile and prepare package for lazy loading
** help
*** installing help indices
  converting help for package 'bayNorm'
    finding HTML links ... done
    AdjustSIZE_fun                          html  
    BB_Fun                                  html  
    BetaFun                                 html  
    Check_input                             html  
    DownSampling                            html  
    EXAMPLE_DATA_list                       html  
    EstPrior                                html  
    EstPrior_rcpp                           html  
    EstPrior_sprcpp                         html  
    NOISY_FUN                               html  
    Prior_fun                               html  
    SyntheticControl                        html  
    asMatrix                                html  
    as_matrix                               html  
    bayNorm                                 html  
    bayNorm_sup                             html  
    noisy_gene_detection                    html  
    t_sp                                    html  
** building package indices
** installing vignettes
** testing if installed package can be loaded from temporary location
** testing if installed package can be loaded from final location
** testing if installed package keeps a record of temporary installation path

install for x64

* installing *source* package 'bayNorm' ...
** libs
"C:/rtools40/mingw64/bin/"g++  -std=gnu++11 -I"C:/Users/BIOCBU~1/BBS-3~1.12-/R/include" -DNDEBUG -DARMA_64BIT_WORD=1  -I'C:/Users/biocbuild/bbs-3.12-bioc/R/library/Rcpp/include' -I'C:/Users/biocbuild/bbs-3.12-bioc/R/library/RcppArmadillo/include' -I'C:/Users/biocbuild/bbs-3.12-bioc/R/library/RcppProgress/include'   -I"C:/extsoft/include"  -fopenmp    -O2 -Wall  -mfpmath=sse -msse2 -mstackrealign -c RcppExports.cpp -o RcppExports.o
"C:/rtools40/mingw64/bin/"g++  -std=gnu++11 -I"C:/Users/BIOCBU~1/BBS-3~1.12-/R/include" -DNDEBUG -DARMA_64BIT_WORD=1  -I'C:/Users/biocbuild/bbs-3.12-bioc/R/library/Rcpp/include' -I'C:/Users/biocbuild/bbs-3.12-bioc/R/library/RcppArmadillo/include' -I'C:/Users/biocbuild/bbs-3.12-bioc/R/library/RcppProgress/include'   -I"C:/extsoft/include"  -fopenmp    -O2 -Wall  -mfpmath=sse -msse2 -mstackrealign -c bayNorm_main.cpp -o bayNorm_main.o
bayNorm_main.cpp: In function 'Rcpp::List EstPrior_sprcpp(arma::sp_mat)':
bayNorm_main.cpp:1374:7: warning: variable 'Nrows' set but not used [-Wunused-but-set-variable]
   int Nrows;
       ^~~~~
bayNorm_main.cpp: In function 'Rcpp::List EstPrior_rcpp(Rcpp::NumericMatrix)':
bayNorm_main.cpp:1427:7: warning: variable 'Nrows' set but not used [-Wunused-but-set-variable]
   int Nrows;
       ^~~~~
C:/rtools40/mingw64/bin/g++ -shared -s -static-libgcc -o bayNorm.dll tmp.def RcppExports.o bayNorm_main.o -fopenmp -LC:/Users/BIOCBU~1/BBS-3~1.12-/R/bin/x64 -lRlapack -LC:/Users/BIOCBU~1/BBS-3~1.12-/R/bin/x64 -lRblas -lgfortran -lm -lquadmath -LC:/extsoft/lib/x64 -LC:/extsoft/lib -LC:/Users/BIOCBU~1/BBS-3~1.12-/R/bin/x64 -lR
installing to C:/Users/biocbuild/bbs-3.12-bioc/meat/bayNorm.buildbin-libdir/bayNorm/libs/x64
** testing if installed package can be loaded
* MD5 sums
packaged installation of 'bayNorm' as bayNorm_1.7.0.zip
* DONE (bayNorm)
* installing to library 'C:/Users/biocbuild/bbs-3.12-bioc/R/library'
package 'bayNorm' successfully unpacked and MD5 sums checked

Tests output

bayNorm.Rcheck/tests_i386/testthat.Rout


R version 4.0.2 (2020-06-22) -- "Taking Off Again"
Copyright (C) 2020 The R Foundation for Statistical Computing
Platform: i386-w64-mingw32/i386 (32-bit)

R is free software and comes with ABSOLUTELY NO WARRANTY.
You are welcome to redistribute it under certain conditions.
Type 'license()' or 'licence()' for distribution details.

R is a collaborative project with many contributors.
Type 'contributors()' for more information and
'citation()' on how to cite R or R packages in publications.

Type 'demo()' for some demos, 'help()' for on-line help, or
'help.start()' for an HTML browser interface to help.
Type 'q()' to quit R.

> library(testthat)
> library(bayNorm)
> 
> test_check("bayNorm")

  |                                                                            
  |                                                                      |   0%
  |                                                                            
  |=======                                                               |  10%
  |                                                                            
  |==============                                                        |  20%
  |                                                                            
  |=====================                                                 |  30%
  |                                                                            
  |============================                                          |  40%
  |                                                                            
  |===================================                                   |  50%
  |                                                                            
  |==========================================                            |  60%
  |                                                                            
  |=================================================                     |  70%
  |                                                                            
  |========================================================              |  80%
  |                                                                            
  |===============================================================       |  90%
  |                                                                            
  |======================================================================| 100%
0%   10   20   30   40   50   60   70   80   90   100%
[----|----|----|----|----|----|----|----|----|----|
**************************************************|

  |                                                                            
  |                                                                      |   0%
  |                                                                            
  |=======                                                               |  10%
  |                                                                            
  |==============                                                        |  20%
  |                                                                            
  |=====================                                                 |  30%
  |                                                                            
  |============================                                          |  40%
  |                                                                            
  |===================================                                   |  50%
  |                                                                            
  |==========================================                            |  60%
  |                                                                            
  |=================================================                     |  70%
  |                                                                            
  |========================================================              |  80%
  |                                                                            
  |===============================================================       |  90%
  |                                                                            
  |======================================================================| 100%
0%   10   20   30   40   50   60   70   80   90   100%
[----|----|----|----|----|----|----|----|----|----|
**************************************************|

  |                                                                            
  |                                                                      |   0%
  |                                                                            
  |=======                                                               |  10%
  |                                                                            
  |==============                                                        |  20%
  |                                                                            
  |=====================                                                 |  30%
  |                                                                            
  |============================                                          |  40%
  |                                                                            
  |===================================                                   |  50%
  |                                                                            
  |==========================================                            |  60%
  |                                                                            
  |=================================================                     |  70%
  |                                                                            
  |========================================================              |  80%
  |                                                                            
  |===============================================================       |  90%
  |                                                                            
  |======================================================================| 100%
0%   10   20   30   40   50   60   70   80   90   100%
[----|----|----|----|----|----|----|----|----|----|
**************************************************|
0%   10   20   30   40   50   60   70   80   90   100%
[----|----|----|----|----|----|----|----|----|----|
**************************************************|
== testthat results  ===========================================================
[ OK: 2 | SKIPPED: 0 | WARNINGS: 0 | FAILED: 0 ]
> 
> proc.time()
   user  system elapsed 
   6.60    0.71    7.31 

bayNorm.Rcheck/tests_x64/testthat.Rout


R version 4.0.2 (2020-06-22) -- "Taking Off Again"
Copyright (C) 2020 The R Foundation for Statistical Computing
Platform: x86_64-w64-mingw32/x64 (64-bit)

R is free software and comes with ABSOLUTELY NO WARRANTY.
You are welcome to redistribute it under certain conditions.
Type 'license()' or 'licence()' for distribution details.

R is a collaborative project with many contributors.
Type 'contributors()' for more information and
'citation()' on how to cite R or R packages in publications.

Type 'demo()' for some demos, 'help()' for on-line help, or
'help.start()' for an HTML browser interface to help.
Type 'q()' to quit R.

> library(testthat)
> library(bayNorm)
> 
> test_check("bayNorm")

  |                                                                            
  |                                                                      |   0%
  |                                                                            
  |=======                                                               |  10%
  |                                                                            
  |==============                                                        |  20%
  |                                                                            
  |=====================                                                 |  30%
  |                                                                            
  |============================                                          |  40%
  |                                                                            
  |===================================                                   |  50%
  |                                                                            
  |==========================================                            |  60%
  |                                                                            
  |=================================================                     |  70%
  |                                                                            
  |========================================================              |  80%
  |                                                                            
  |===============================================================       |  90%
  |                                                                            
  |======================================================================| 100%
0%   10   20   30   40   50   60   70   80   90   100%
[----|----|----|----|----|----|----|----|----|----|
**************************************************|

  |                                                                            
  |                                                                      |   0%
  |                                                                            
  |=======                                                               |  10%
  |                                                                            
  |==============                                                        |  20%
  |                                                                            
  |=====================                                                 |  30%
  |                                                                            
  |============================                                          |  40%
  |                                                                            
  |===================================                                   |  50%
  |                                                                            
  |==========================================                            |  60%
  |                                                                            
  |=================================================                     |  70%
  |                                                                            
  |========================================================              |  80%
  |                                                                            
  |===============================================================       |  90%
  |                                                                            
  |======================================================================| 100%
0%   10   20   30   40   50   60   70   80   90   100%
[----|----|----|----|----|----|----|----|----|----|
**************************************************|

  |                                                                            
  |                                                                      |   0%
  |                                                                            
  |=======                                                               |  10%
  |                                                                            
  |==============                                                        |  20%
  |                                                                            
  |=====================                                                 |  30%
  |                                                                            
  |============================                                          |  40%
  |                                                                            
  |===================================                                   |  50%
  |                                                                            
  |==========================================                            |  60%
  |                                                                            
  |=================================================                     |  70%
  |                                                                            
  |========================================================              |  80%
  |                                                                            
  |===============================================================       |  90%
  |                                                                            
  |======================================================================| 100%
0%   10   20   30   40   50   60   70   80   90   100%
[----|----|----|----|----|----|----|----|----|----|
**************************************************|
0%   10   20   30   40   50   60   70   80   90   100%
[----|----|----|----|----|----|----|----|----|----|
**************************************************|
== testthat results  ===========================================================
[ OK: 2 | SKIPPED: 0 | WARNINGS: 0 | FAILED: 0 ]
> 
> proc.time()
   user  system elapsed 
   7.81    0.45    8.25 

Example timings

bayNorm.Rcheck/examples_i386/bayNorm-Ex.timings

nameusersystemelapsed
AdjustSIZE_fun0.020.000.02
BB_Fun0.130.000.55
BetaFun0.020.000.01
Check_input000
DownSampling0.020.000.03
EXAMPLE_DATA_list0.000.020.01
EstPrior000
EstPrior_rcpp0.000.010.02
EstPrior_sprcpp0.020.000.02
NOISY_FUN0.750.000.75
Prior_fun0.090.000.09
SyntheticControl0.000.020.02
asMatrix0.020.000.01
as_matrix000
bayNorm0.090.030.13
bayNorm_sup0.110.030.14
noisy_gene_detection0.140.030.17
t_sp0.000.020.01

bayNorm.Rcheck/examples_x64/bayNorm-Ex.timings

nameusersystemelapsed
AdjustSIZE_fun0.010.000.01
BB_Fun0.100.000.15
BetaFun0.020.000.02
Check_input0.010.000.01
DownSampling000
EXAMPLE_DATA_list000
EstPrior0.000.020.02
EstPrior_rcpp000
EstPrior_sprcpp000
NOISY_FUN0.170.010.19
Prior_fun0.060.000.06
SyntheticControl0.000.020.02
asMatrix000
as_matrix000
bayNorm0.070.010.08
bayNorm_sup0.060.000.06
noisy_gene_detection0.090.000.09
t_sp000