Back to Multiple platform build/check report for BioC 3.12
AB[C]DEFGHIJKLMNOPQRSTUVWXYZ

BUILD BIN report for CAnD on merida1

This page was generated on 2020-08-10 12:37:26 -0400 (Mon, 10 Aug 2020).

TO THE DEVELOPERS/MAINTAINERS OF THE CAnD PACKAGE: Please make sure to use the following settings in order to reproduce any error or warning you see on this page.
Package 222/1882HostnameOS / ArchINSTALLBUILDCHECKBUILD BIN
CAnD 1.21.0
Caitlin McHugh
Snapshot Date: 2020-08-09 14:51:29 -0400 (Sun, 09 Aug 2020)
URL: https://git.bioconductor.org/packages/CAnD
Branch: master
Last Commit: 1cfd2da
Last Changed Date: 2020-04-27 14:48:46 -0400 (Mon, 27 Apr 2020)
malbec1 Linux (Ubuntu 18.04.4 LTS) / x86_64  OK  OK  OK UNNEEDED, same version exists in internal repository
nebbiolo1 Linux (Ubuntu 20.04.1 LTS) / x86_64  OK  OK  OK 
tokay1 Windows Server 2012 R2 Standard / x64  OK  OK  OK  OK UNNEEDED, same version exists in internal repository
merida1 macOS 10.14.6 Mojave / x86_64  OK  OK  OK [ OK ]UNNEEDED, same version exists in internal repository

Summary

Package: CAnD
Version: 1.21.0
Command: rm -rf CAnD.buildbin-libdir && mkdir CAnD.buildbin-libdir && /Users/biocbuild/BBS/utils/build-universal.sh CAnD_1.21.0.tar.gz /Library/Frameworks/R.framework/Versions/Current/Resources/bin/R CAnD.buildbin-libdir
StartedAt: 2020-08-10 06:51:04 -0400 (Mon, 10 Aug 2020)
EndedAt: 2020-08-10 06:51:54 -0400 (Mon, 10 Aug 2020)
EllapsedTime: 50.1 seconds
RetCode: 0
Status:  OK 
PackageFile: CAnD_1.21.0.tgz
PackageFileSize: 422.5 KiB

Command output

##############################################################################
##############################################################################
###
### Running command:
###
###   rm -rf CAnD.buildbin-libdir && mkdir CAnD.buildbin-libdir && /Users/biocbuild/BBS/utils/build-universal.sh CAnD_1.21.0.tar.gz /Library/Frameworks/R.framework/Versions/Current/Resources/bin/R CAnD.buildbin-libdir
###
##############################################################################
##############################################################################


>>>>>>> 
>>>>>>> INSTALLATION WITH 'R CMD INSTALL --preclean --no-multiarch --library=CAnD.buildbin-libdir CAnD_1.21.0.tar.gz'
>>>>>>> 

* installing *source* package ‘CAnD’ ...
** using staged installation
** R
** data
** inst
** byte-compile and prepare package for lazy loading
** help
*** installing help indices
** building package indices
** installing vignettes
** testing if installed package can be loaded from temporary location
** testing if installed package can be loaded from final location
** testing if installed package keeps a record of temporary installation path
* DONE (CAnD)