Back to Multiple platform build/check report for BioC 3.12
ABCDEFGHIJKLMNOP[Q]RSTUVWXYZ

BUILD BIN report for QuaternaryProd on tokay1

This page was generated on 2021-04-22 12:33:12 -0400 (Thu, 22 Apr 2021).

To the developers/maintainers of the QuaternaryProd package:
Please make sure to use the following settings in order to reproduce any error or warning you see on this page.
Package 1437/1974HostnameOS / ArchINSTALLBUILDCHECKBUILD BIN
QuaternaryProd 1.24.0  (landing page)
Carl Tony Fakhry
Snapshot Date: 2021-04-21 14:50:06 -0400 (Wed, 21 Apr 2021)
URL: https://git.bioconductor.org/packages/QuaternaryProd
Branch: RELEASE_3_12
Last Commit: b94d3a2
Last Changed Date: 2020-10-27 11:10:17 -0400 (Tue, 27 Oct 2020)
malbec1Linux (Ubuntu 18.04.5 LTS) / x86_64  OK    OK    OK  UNNEEDED, same version exists in internal repository
tokay1Windows Server 2012 R2 Standard / x64  OK    OK    OK    OK  UNNEEDED, same version exists in internal repository
merida1macOS 10.14.6 Mojave / x86_64  OK    OK    OK    OK  UNNEEDED, same version exists in internal repository

Summary

Package: QuaternaryProd
Version: 1.24.0
Command: rm -rf QuaternaryProd.buildbin-libdir && mkdir QuaternaryProd.buildbin-libdir && C:\Users\biocbuild\bbs-3.12-bioc\R\bin\R.exe CMD INSTALL --merge-multiarch --build --library=QuaternaryProd.buildbin-libdir QuaternaryProd_1.24.0.tar.gz
StartedAt: 2021-04-22 09:36:28 -0400 (Thu, 22 Apr 2021)
EndedAt: 2021-04-22 09:37:20 -0400 (Thu, 22 Apr 2021)
EllapsedTime: 52.3 seconds
RetCode: 0
Status:   OK   
PackageFile: QuaternaryProd_1.24.0.zip
PackageFileSize: 11.53 MiB

Command output

##############################################################################
##############################################################################
###
### Running command:
###
###   rm -rf QuaternaryProd.buildbin-libdir && mkdir QuaternaryProd.buildbin-libdir && C:\Users\biocbuild\bbs-3.12-bioc\R\bin\R.exe CMD INSTALL --merge-multiarch --build --library=QuaternaryProd.buildbin-libdir QuaternaryProd_1.24.0.tar.gz
###
##############################################################################
##############################################################################



install for i386

* installing *source* package 'QuaternaryProd' ...
** using staged installation
** libs
"C:/rtools40/mingw32/bin/"g++ -std=gnu++11  -I"C:/Users/BIOCBU~1/BBS-3~1.12-/R/include" -DNDEBUG  -I'C:/Users/biocbuild/bbs-3.12-bioc/R/library/Rcpp/include'   -I"C:/extsoft/include"     -O2 -Wall  -mfpmath=sse -msse2 -mstackrealign -c QuaternaryProd.cpp -o QuaternaryProd.o
"C:/rtools40/mingw32/bin/"g++ -std=gnu++11  -I"C:/Users/BIOCBU~1/BBS-3~1.12-/R/include" -DNDEBUG  -I'C:/Users/biocbuild/bbs-3.12-bioc/R/library/Rcpp/include'   -I"C:/extsoft/include"     -O2 -Wall  -mfpmath=sse -msse2 -mstackrealign -c QuaternaryProdUtils.cpp -o QuaternaryProdUtils.o
"C:/rtools40/mingw32/bin/"g++ -std=gnu++11  -I"C:/Users/BIOCBU~1/BBS-3~1.12-/R/include" -DNDEBUG  -I'C:/Users/biocbuild/bbs-3.12-bioc/R/library/Rcpp/include'   -I"C:/extsoft/include"     -O2 -Wall  -mfpmath=sse -msse2 -mstackrealign -c RcppExports.cpp -o RcppExports.o
C:/rtools40/mingw32/bin/g++ -std=gnu++11 -shared -s -static-libgcc -o QuaternaryProd.dll tmp.def QuaternaryProd.o QuaternaryProdUtils.o RcppExports.o -LC:/extsoft/lib/i386 -LC:/extsoft/lib -LC:/Users/BIOCBU~1/BBS-3~1.12-/R/bin/i386 -lR
installing to C:/Users/biocbuild/bbs-3.12-bioc/meat/QuaternaryProd.buildbin-libdir/00LOCK-QuaternaryProd/00new/QuaternaryProd/libs/i386
** R
** inst
** byte-compile and prepare package for lazy loading
** help
*** installing help indices
  converting help for package 'QuaternaryProd'
    finding HTML links ... done
    QP_Pmf                                  html  
    QP_Probability                          html  
    QP_Pvalue                               html  
    QP_SigPvalue                            html  
    QP_Support                              html  
    QuaternaryProd-package                  html  
    RunCRE_HSAStringDB                      html  
** building package indices
** installing vignettes
** testing if installed package can be loaded from temporary location
** testing if installed package can be loaded from final location
** testing if installed package keeps a record of temporary installation path

install for x64

* installing *source* package 'QuaternaryProd' ...
** libs
"C:/rtools40/mingw64/bin/"g++ -std=gnu++11  -I"C:/Users/BIOCBU~1/BBS-3~1.12-/R/include" -DNDEBUG  -I'C:/Users/biocbuild/bbs-3.12-bioc/R/library/Rcpp/include'   -I"C:/extsoft/include"     -O2 -Wall  -mfpmath=sse -msse2 -mstackrealign -c QuaternaryProd.cpp -o QuaternaryProd.o
"C:/rtools40/mingw64/bin/"g++ -std=gnu++11  -I"C:/Users/BIOCBU~1/BBS-3~1.12-/R/include" -DNDEBUG  -I'C:/Users/biocbuild/bbs-3.12-bioc/R/library/Rcpp/include'   -I"C:/extsoft/include"     -O2 -Wall  -mfpmath=sse -msse2 -mstackrealign -c QuaternaryProdUtils.cpp -o QuaternaryProdUtils.o
"C:/rtools40/mingw64/bin/"g++ -std=gnu++11  -I"C:/Users/BIOCBU~1/BBS-3~1.12-/R/include" -DNDEBUG  -I'C:/Users/biocbuild/bbs-3.12-bioc/R/library/Rcpp/include'   -I"C:/extsoft/include"     -O2 -Wall  -mfpmath=sse -msse2 -mstackrealign -c RcppExports.cpp -o RcppExports.o
C:/rtools40/mingw64/bin/g++ -std=gnu++11 -shared -s -static-libgcc -o QuaternaryProd.dll tmp.def QuaternaryProd.o QuaternaryProdUtils.o RcppExports.o -LC:/extsoft/lib/x64 -LC:/extsoft/lib -LC:/Users/BIOCBU~1/BBS-3~1.12-/R/bin/x64 -lR
installing to C:/Users/biocbuild/bbs-3.12-bioc/meat/QuaternaryProd.buildbin-libdir/QuaternaryProd/libs/x64
** testing if installed package can be loaded
* MD5 sums
packaged installation of 'QuaternaryProd' as QuaternaryProd_1.24.0.zip
* DONE (QuaternaryProd)