Back to Multiple platform build/check report for BioC 3.12
AB[C]DEFGHIJKLMNOPQRSTUVWXYZ

INSTALL report for CHARGE on merida1

This page was generated on 2020-08-06 12:25:26 -0400 (Thu, 06 Aug 2020).

TO THE DEVELOPERS/MAINTAINERS OF THE CHARGE PACKAGE: Please make sure to use the following settings in order to reproduce any error or warning you see on this page.
Package 262/1882HostnameOS / ArchINSTALLBUILDCHECKBUILD BIN
CHARGE 1.9.1
Benjamin Mayne
Snapshot Date: 2020-08-05 14:50:59 -0400 (Wed, 05 Aug 2020)
URL: https://git.bioconductor.org/packages/CHARGE
Branch: master
Last Commit: eadf39e
Last Changed Date: 2020-06-08 10:06:16 -0400 (Mon, 08 Jun 2020)
malbec1 Linux (Ubuntu 18.04.4 LTS) / x86_64  ERROR  ERROR  skipped 
tokay1 Windows Server 2012 R2 Standard / x64  ERROR  ERROR  skipped  skipped 
merida1 macOS 10.14.6 Mojave / x86_64 [ ERROR ] ERROR  skipped  skipped 

Summary

Package: CHARGE
Version: 1.9.1
Command: /Library/Frameworks/R.framework/Versions/Current/Resources/bin/R CMD INSTALL CHARGE
StartedAt: 2020-08-05 17:52:15 -0400 (Wed, 05 Aug 2020)
EndedAt: 2020-08-05 17:52:15 -0400 (Wed, 05 Aug 2020)
EllapsedTime: 0.7 seconds
RetCode: 1
Status:  ERROR 

Command output

##############################################################################
##############################################################################
###
### Running command:
###
###   /Library/Frameworks/R.framework/Versions/Current/Resources/bin/R CMD INSTALL CHARGE
###
##############################################################################
##############################################################################


* installing to library ‘/Library/Frameworks/R.framework/Versions/4.0/Resources/library’
ERROR: dependency ‘modes’ is not available for package ‘CHARGE’
* removing ‘/Library/Frameworks/R.framework/Versions/4.0/Resources/library/CHARGE’