Back to Multiple platform build/check report for BioC 3.12
[A]BCDEFGHIJKLMNOPQRSTUVWXYZ

Multiple platform build/check report for BioC 3.12

All results for package annotate

This page was generated on 2021-04-11 12:08:46 -0400 (Sun, 11 Apr 2021).

Package 61/1974HostnameOS / ArchINSTALLBUILDCHECKBUILD BIN
annotate 1.68.0  (landing page)
Bioconductor Package Maintainer
Snapshot Date: 2021-04-10 14:50:04 -0400 (Sat, 10 Apr 2021)
URL: https://git.bioconductor.org/packages/annotate
Branch: RELEASE_3_12
Last Commit: 98cdb12
Last Changed Date: 2020-10-27 10:21:39 -0400 (Tue, 27 Oct 2020)
malbec1Linux (Ubuntu 18.04.5 LTS) / x86_64  OK    OK    OK  UNNEEDED, same version exists in internal repository
tokay1Windows Server 2012 R2 Standard / x64  OK    OK    OK    OK  UNNEEDED, same version exists in internal repository
merida1macOS 10.14.6 Mojave / x86_64  OK    OK    OK    OK  UNNEEDED, same version exists in internal repository

Results for Bioconductor software packages that depend directly on package annotate

QUICK STATSOS / ArchINSTALLBUILDCHECKBUILD BIN
malbec1Linux (Ubuntu 18.04.5 LTS) / x86_64
0137
0137
001027
tokay1Windows Server 2012 R2 Standard / x64
0136
0136
01926
0036
merida1macOS 10.14.6 Mojave / x86_64
0137
0137
00928
0037
Package 1/38HostnameOS / ArchINSTALLBUILDCHECKBUILD BIN
CAFE 1.26.0  (landing page)
Sander Bollen
Last Commit: 2dd3923
Last Changed Date: 2020-10-27 10:55:14 -0400
malbec1Linux (Ubuntu 18.04.5 LTS) / x86_64  OK    OK    WARNINGS  UNNEEDED, same version exists in internal repository
tokay1Windows Server 2012 R2 Standard / x64  OK    OK    WARNINGS    OK  UNNEEDED, same version exists in internal repository
merida1macOS 10.14.6 Mojave / x86_64  OK    OK    WARNINGS    OK  UNNEEDED, same version exists in internal repository
Package 2/38HostnameOS / ArchINSTALLBUILDCHECKBUILD BIN
Category 2.56.0  (landing page)
Bioconductor Package Maintainer
Last Commit: ad478ca
Last Changed Date: 2020-10-27 10:26:14 -0400
malbec1Linux (Ubuntu 18.04.5 LTS) / x86_64  OK    OK    OK  UNNEEDED, same version exists in internal repository
tokay1Windows Server 2012 R2 Standard / x64  OK    OK    OK    OK  UNNEEDED, same version exists in internal repository
merida1macOS 10.14.6 Mojave / x86_64  OK    OK    OK    OK  UNNEEDED, same version exists in internal repository
Package 3/38HostnameOS / ArchINSTALLBUILDCHECKBUILD BIN
categoryCompare 1.34.0  (landing page)
Robert M. Flight
Last Commit: b4f5da5
Last Changed Date: 2020-10-27 10:45:45 -0400
malbec1Linux (Ubuntu 18.04.5 LTS) / x86_64  OK    OK    OK  UNNEEDED, same version exists in internal repository
tokay1Windows Server 2012 R2 Standard / x64  OK    OK    OK    OK  UNNEEDED, same version exists in internal repository
merida1macOS 10.14.6 Mojave / x86_64  OK    OK    OK    OK  UNNEEDED, same version exists in internal repository
Package 4/38HostnameOS / ArchINSTALLBUILDCHECKBUILD BIN
ChromHeatMap 1.44.0  (landing page)
Tim F. Rayner
Last Commit: ee1c258
Last Changed Date: 2020-10-27 10:36:43 -0400
malbec1Linux (Ubuntu 18.04.5 LTS) / x86_64  OK    OK    OK  UNNEEDED, same version exists in internal repository
tokay1Windows Server 2012 R2 Standard / x64  OK    OK    OK    OK  UNNEEDED, same version exists in internal repository
merida1macOS 10.14.6 Mojave / x86_64  OK    OK    OK    OK  UNNEEDED, same version exists in internal repository
Package 5/38HostnameOS / ArchINSTALLBUILDCHECKBUILD BIN
CNEr 1.26.0  (landing page)
Ge Tan
Last Commit: e5e582d
Last Changed Date: 2020-10-27 10:54:44 -0400
malbec1Linux (Ubuntu 18.04.5 LTS) / x86_64  OK    OK    WARNINGS  UNNEEDED, same version exists in internal repository
tokay1Windows Server 2012 R2 Standard / x64  OK    OK    WARNINGS    OK  UNNEEDED, same version exists in internal repository
merida1macOS 10.14.6 Mojave / x86_64  OK    OK    WARNINGS    OK  UNNEEDED, same version exists in internal repository
Package 6/38HostnameOS / ArchINSTALLBUILDCHECKBUILD BIN
codelink 1.58.0  (landing page)
Diego Diez
Last Commit: 0db11e7
Last Changed Date: 2020-10-27 10:27:46 -0400
malbec1Linux (Ubuntu 18.04.5 LTS) / x86_64  OK    OK    OK  UNNEEDED, same version exists in internal repository
tokay1Windows Server 2012 R2 Standard / x64  OK    OK    OK    OK  UNNEEDED, same version exists in internal repository
merida1macOS 10.14.6 Mojave / x86_64  OK    OK    OK    OK  UNNEEDED, same version exists in internal repository
Package 7/38HostnameOS / ArchINSTALLBUILDCHECKBUILD BIN
debrowser 1.18.2  (landing page)
Alper Kucukural
Last Commit: 68e3e24
Last Changed Date: 2020-12-16 14:32:24 -0400
malbec1Linux (Ubuntu 18.04.5 LTS) / x86_64  OK    OK    OK  UNNEEDED, same version exists in internal repository
tokay1Windows Server 2012 R2 Standard / x64  OK    OK    OK    OK  UNNEEDED, same version exists in internal repository
merida1macOS 10.14.6 Mojave / x86_64  OK    OK    OK    OK  UNNEEDED, same version exists in internal repository
Package 8/38HostnameOS / ArchINSTALLBUILDCHECKBUILD BIN
DrugVsDisease 2.32.0  (landing page)
j. Saez-Rodriguez
Last Commit: c8ef84c
Last Changed Date: 2020-10-27 10:49:01 -0400
malbec1Linux (Ubuntu 18.04.5 LTS) / x86_64  OK    OK    OK  UNNEEDED, same version exists in internal repository
tokay1Windows Server 2012 R2 Standard / x64  OK    OK    OK    OK  UNNEEDED, same version exists in internal repository
merida1macOS 10.14.6 Mojave / x86_64  OK    OK    OK    OK  UNNEEDED, same version exists in internal repository
Package 9/38HostnameOS / ArchINSTALLBUILDCHECKBUILD BIN
GeneAnswers 2.32.0  (landing page)
Lei Huang and Gang Feng
Last Commit: a310951
Last Changed Date: 2020-10-27 10:36:41 -0400
malbec1Linux (Ubuntu 18.04.5 LTS) / x86_64  OK    OK    WARNINGS  UNNEEDED, same version exists in internal repository
tokay1Windows Server 2012 R2 Standard / x64  OK    OK    WARNINGS    OK  UNNEEDED, same version exists in internal repository
merida1macOS 10.14.6 Mojave / x86_64  OK    OK    WARNINGS    OK  UNNEEDED, same version exists in internal repository
Package 10/38HostnameOS / ArchINSTALLBUILDCHECKBUILD BIN
genefilter 1.72.1  (landing page)
Bioconductor Package Maintainer
Last Commit: b01b00a
Last Changed Date: 2021-01-21 09:29:49 -0400
malbec1Linux (Ubuntu 18.04.5 LTS) / x86_64  OK    OK    WARNINGS  UNNEEDED, same version exists in internal repository
tokay1Windows Server 2012 R2 Standard / x64  OK    OK    WARNINGS    OK  UNNEEDED, same version exists in internal repository
merida1macOS 10.14.6 Mojave / x86_64  OK    OK    OK    OK  UNNEEDED, same version exists in internal repository
Package 11/38HostnameOS / ArchINSTALLBUILDCHECKBUILD BIN
geneplotter 1.68.0  (landing page)
Bioconductor Package Maintainer
Last Commit: f1fea7e
Last Changed Date: 2020-10-27 10:21:46 -0400
malbec1Linux (Ubuntu 18.04.5 LTS) / x86_64  OK    OK    OK  UNNEEDED, same version exists in internal repository
tokay1Windows Server 2012 R2 Standard / x64  OK    OK    OK    OK  UNNEEDED, same version exists in internal repository
merida1macOS 10.14.6 Mojave / x86_64  OK    OK    OK    OK  UNNEEDED, same version exists in internal repository
Package 12/38HostnameOS / ArchINSTALLBUILDCHECKBUILD BIN
GlobalAncova 4.8.0  (landing page)
Manuela Hummel
Last Commit: fffc416
Last Changed Date: 2020-10-27 10:27:05 -0400
malbec1Linux (Ubuntu 18.04.5 LTS) / x86_64  OK    OK    OK  UNNEEDED, same version exists in internal repository
tokay1Windows Server 2012 R2 Standard / x64  OK    OK    OK    OK  UNNEEDED, same version exists in internal repository
merida1macOS 10.14.6 Mojave / x86_64  OK    OK    OK    OK  UNNEEDED, same version exists in internal repository
Package 13/38HostnameOS / ArchINSTALLBUILDCHECKBUILD BIN
globaltest 5.44.0  (landing page)
Jelle Goeman
Last Commit: 571933d
Last Changed Date: 2020-10-27 10:24:26 -0400
malbec1Linux (Ubuntu 18.04.5 LTS) / x86_64  OK    OK    OK  UNNEEDED, same version exists in internal repository
tokay1Windows Server 2012 R2 Standard / x64  OK    OK    OK    OK  UNNEEDED, same version exists in internal repository
merida1macOS 10.14.6 Mojave / x86_64  OK    OK    OK    OK  UNNEEDED, same version exists in internal repository
Package 14/38HostnameOS / ArchINSTALLBUILDCHECKBUILD BIN
GOSim 1.28.0  (landing page)
Holger Froehlich
Last Commit: 75911ff
Last Changed Date: 2020-10-27 10:52:54 -0400
malbec1Linux (Ubuntu 18.04.5 LTS) / x86_64  OK    OK    OK  UNNEEDED, same version exists in internal repository
tokay1Windows Server 2012 R2 Standard / x64  OK    OK    OK    OK  UNNEEDED, same version exists in internal repository
merida1macOS 10.14.6 Mojave / x86_64  OK    OK    OK    OK  UNNEEDED, same version exists in internal repository
Package 15/38HostnameOS / ArchINSTALLBUILDCHECKBUILD BIN
GOstats 2.56.0  (landing page)
Bioconductor Package Maintainer
Last Commit: 8f988c3
Last Changed Date: 2020-10-27 10:24:14 -0400
malbec1Linux (Ubuntu 18.04.5 LTS) / x86_64  OK    OK    OK  UNNEEDED, same version exists in internal repository
tokay1Windows Server 2012 R2 Standard / x64  OK    OK    WARNINGS    OK  UNNEEDED, same version exists in internal repository
merida1macOS 10.14.6 Mojave / x86_64  OK    OK    OK    OK  UNNEEDED, same version exists in internal repository
Package 16/38HostnameOS / ArchINSTALLBUILDCHECKBUILD BIN
GSEABase 1.52.1  (landing page)
Bioconductor Package Maintainer
Last Commit: 257dfcc
Last Changed Date: 2020-12-10 16:40:51 -0400
malbec1Linux (Ubuntu 18.04.5 LTS) / x86_64  OK    OK    OK  UNNEEDED, same version exists in internal repository
tokay1Windows Server 2012 R2 Standard / x64  OK    OK    OK    OK  UNNEEDED, same version exists in internal repository
merida1macOS 10.14.6 Mojave / x86_64  OK    OK    OK    OK  UNNEEDED, same version exists in internal repository
Package 17/38HostnameOS / ArchINSTALLBUILDCHECKBUILD BIN
idiogram 1.66.0  (landing page)
Karl J. Dykema
Last Commit: 3a2a6a2
Last Changed Date: 2020-10-27 10:25:53 -0400
malbec1Linux (Ubuntu 18.04.5 LTS) / x86_64  OK    OK    OK  UNNEEDED, same version exists in internal repository
tokay1Windows Server 2012 R2 Standard / x64  OK    OK    OK    OK  UNNEEDED, same version exists in internal repository
merida1macOS 10.14.6 Mojave / x86_64  OK    OK    OK    OK  UNNEEDED, same version exists in internal repository
Package 18/38HostnameOS / ArchINSTALLBUILDCHECKBUILD BIN
lumi 2.42.0  (landing page)
Lei Huang
Last Commit: a643b3b
Last Changed Date: 2020-10-27 10:30:06 -0400
malbec1Linux (Ubuntu 18.04.5 LTS) / x86_64  OK    OK    WARNINGS  UNNEEDED, same version exists in internal repository
tokay1Windows Server 2012 R2 Standard / x64  OK    OK    WARNINGS    OK  UNNEEDED, same version exists in internal repository
merida1macOS 10.14.6 Mojave / x86_64  OK    OK    WARNINGS    OK  UNNEEDED, same version exists in internal repository
Package 19/38HostnameOS / ArchINSTALLBUILDCHECKBUILD BIN
macat 1.64.0  (landing page)
Joern Toedling
Last Commit: 0612249
Last Changed Date: 2020-10-27 10:24:58 -0400
malbec1Linux (Ubuntu 18.04.5 LTS) / x86_64  OK    OK    OK  UNNEEDED, same version exists in internal repository
tokay1Windows Server 2012 R2 Standard / x64  OK    OK    OK    OK  UNNEEDED, same version exists in internal repository
merida1macOS 10.14.6 Mojave / x86_64  OK    OK    OK    OK  UNNEEDED, same version exists in internal repository
Package 20/38HostnameOS / ArchINSTALLBUILDCHECKBUILD BIN
methyAnalysis 1.32.0  (landing page)
Lei Huang
Last Commit: 722c722
Last Changed Date: 2020-10-27 10:46:56 -0400
malbec1Linux (Ubuntu 18.04.5 LTS) / x86_64  OK    OK    WARNINGS  UNNEEDED, same version exists in internal repository
tokay1Windows Server 2012 R2 Standard / x64... NOT SUPPORTED ...
merida1macOS 10.14.6 Mojave / x86_64  OK    OK    WARNINGS    OK  UNNEEDED, same version exists in internal repository
Package 21/38HostnameOS / ArchINSTALLBUILDCHECKBUILD BIN
methylumi 2.36.0  (landing page)
Sean Davis
Last Commit: 5fb0b60
Last Changed Date: 2020-10-27 10:35:47 -0400
malbec1Linux (Ubuntu 18.04.5 LTS) / x86_64  OK    OK    WARNINGS  UNNEEDED, same version exists in internal repository
tokay1Windows Server 2012 R2 Standard / x64  OK    OK    ERROR    OK  
merida1macOS 10.14.6 Mojave / x86_64  OK    OK    WARNINGS    OK  UNNEEDED, same version exists in internal repository
Package 22/38HostnameOS / ArchINSTALLBUILDCHECKBUILD BIN
MGFM 1.24.0  (landing page)
Khadija El Amrani
Last Commit: 3fcefea
Last Changed Date: 2020-10-27 10:59:10 -0400
malbec1Linux (Ubuntu 18.04.5 LTS) / x86_64  OK    OK    OK  UNNEEDED, same version exists in internal repository
tokay1Windows Server 2012 R2 Standard / x64  OK    OK    OK    OK  UNNEEDED, same version exists in internal repository
merida1macOS 10.14.6 Mojave / x86_64  OK    OK    OK    OK  UNNEEDED, same version exists in internal repository
Package 23/38HostnameOS / ArchINSTALLBUILDCHECKBUILD BIN
MGFR 1.16.0  (landing page)
Khadija El Amrani
Last Commit: 93b83a8
Last Changed Date: 2020-10-27 11:15:55 -0400
malbec1Linux (Ubuntu 18.04.5 LTS) / x86_64  OK    OK    OK  UNNEEDED, same version exists in internal repository
tokay1Windows Server 2012 R2 Standard / x64  OK    OK    OK    OK  UNNEEDED, same version exists in internal repository
merida1macOS 10.14.6 Mojave / x86_64  OK    OK    OK    OK  UNNEEDED, same version exists in internal repository
Package 24/38HostnameOS / ArchINSTALLBUILDCHECKBUILD BIN
MineICA 1.30.0  (landing page)
Anne Biton
Last Commit: 136dd69
Last Changed Date: 2020-10-27 10:49:15 -0400
malbec1Linux (Ubuntu 18.04.5 LTS) / x86_64  OK    OK    WARNINGS  UNNEEDED, same version exists in internal repository
tokay1Windows Server 2012 R2 Standard / x64  OK    OK    WARNINGS    OK  UNNEEDED, same version exists in internal repository
merida1macOS 10.14.6 Mojave / x86_64  OK    OK    WARNINGS    OK  UNNEEDED, same version exists in internal repository
Package 25/38HostnameOS / ArchINSTALLBUILDCHECKBUILD BIN
MLInterfaces 1.70.0  (landing page)
V. Carey
Last Commit: 7b076c3
Last Changed Date: 2020-10-27 10:24:32 -0400
malbec1Linux (Ubuntu 18.04.5 LTS) / x86_64  OK    OK    OK  UNNEEDED, same version exists in internal repository
tokay1Windows Server 2012 R2 Standard / x64  OK    OK    OK    OK  UNNEEDED, same version exists in internal repository
merida1macOS 10.14.6 Mojave / x86_64  OK    OK    OK    OK  UNNEEDED, same version exists in internal repository
Package 26/38HostnameOS / ArchINSTALLBUILDCHECKBUILD BIN
PathwaySplice 1.14.0  (landing page)
Aimin Yan
Last Commit: ebde4c5
Last Changed Date: 2020-10-27 11:28:21 -0400
malbec1Linux (Ubuntu 18.04.5 LTS) / x86_64  ERROR    ERROR  skipped
tokay1Windows Server 2012 R2 Standard / x64  ERROR    ERROR  skippedskipped
merida1macOS 10.14.6 Mojave / x86_64  ERROR    ERROR  skippedskipped
Package 27/38HostnameOS / ArchINSTALLBUILDCHECKBUILD BIN
PCpheno 1.52.0  (landing page)
Nolwenn Le Meur
Last Commit: 3715f48
Last Changed Date: 2020-10-27 10:32:41 -0400
malbec1Linux (Ubuntu 18.04.5 LTS) / x86_64  OK    OK    OK  UNNEEDED, same version exists in internal repository
tokay1Windows Server 2012 R2 Standard / x64  OK    OK    OK    OK  UNNEEDED, same version exists in internal repository
merida1macOS 10.14.6 Mojave / x86_64  OK    OK    OK    OK  UNNEEDED, same version exists in internal repository
Package 28/38HostnameOS / ArchINSTALLBUILDCHECKBUILD BIN
phenoTest 1.38.0  (landing page)
Evarist Planet
Last Commit: 8d87466
Last Changed Date: 2020-10-27 10:40:00 -0400
malbec1Linux (Ubuntu 18.04.5 LTS) / x86_64  OK    OK    OK  UNNEEDED, same version exists in internal repository
tokay1Windows Server 2012 R2 Standard / x64  OK    OK    OK    OK  UNNEEDED, same version exists in internal repository
merida1macOS 10.14.6 Mojave / x86_64  OK    OK    OK    OK  UNNEEDED, same version exists in internal repository
Package 29/38HostnameOS / ArchINSTALLBUILDCHECKBUILD BIN
PREDA 1.36.0  (landing page)
Francesco Ferrari
Last Commit: bf51167
Last Changed Date: 2020-10-27 10:42:27 -0400
malbec1Linux (Ubuntu 18.04.5 LTS) / x86_64  OK    OK    WARNINGS  UNNEEDED, same version exists in internal repository
tokay1Windows Server 2012 R2 Standard / x64  OK    OK    WARNINGS    OK  UNNEEDED, same version exists in internal repository
merida1macOS 10.14.6 Mojave / x86_64  OK    OK    WARNINGS    OK  UNNEEDED, same version exists in internal repository
Package 30/38HostnameOS / ArchINSTALLBUILDCHECKBUILD BIN
qpgraph 2.24.3  (landing page)
Robert Castelo
Last Commit: 38302eb
Last Changed Date: 2021-01-08 02:28:45 -0400
malbec1Linux (Ubuntu 18.04.5 LTS) / x86_64  OK    OK    WARNINGS  UNNEEDED, same version exists in internal repository
tokay1Windows Server 2012 R2 Standard / x64  OK    OK    WARNINGS    OK  UNNEEDED, same version exists in internal repository
merida1macOS 10.14.6 Mojave / x86_64  OK    OK    WARNINGS    OK  UNNEEDED, same version exists in internal repository
Package 31/38HostnameOS / ArchINSTALLBUILDCHECKBUILD BIN
ReportingTools 2.30.2  (landing page)
Jason A. Hackney , Gabriel Becker
Last Commit: d0b7f53
Last Changed Date: 2021-03-08 14:30:05 -0400
malbec1Linux (Ubuntu 18.04.5 LTS) / x86_64  OK    OK    OK  UNNEEDED, same version exists in internal repository
tokay1Windows Server 2012 R2 Standard / x64  OK    OK    OK    OK  UNNEEDED, same version exists in internal repository
merida1macOS 10.14.6 Mojave / x86_64  OK    OK    OK    OK  UNNEEDED, same version exists in internal repository
Package 32/38HostnameOS / ArchINSTALLBUILDCHECKBUILD BIN
RpsiXML 2.32.0  (landing page)
Jitao David Zhang
Last Commit: b9fbebe
Last Changed Date: 2020-10-27 10:34:07 -0400
malbec1Linux (Ubuntu 18.04.5 LTS) / x86_64  OK    OK    OK  UNNEEDED, same version exists in internal repository
tokay1Windows Server 2012 R2 Standard / x64  OK    OK    OK    OK  UNNEEDED, same version exists in internal repository
merida1macOS 10.14.6 Mojave / x86_64  OK    OK    OK    OK  UNNEEDED, same version exists in internal repository
Package 33/38HostnameOS / ArchINSTALLBUILDCHECKBUILD BIN
sampleClassifier 1.14.2  (landing page)
Khadija El Amrani
Last Commit: 567967b
Last Changed Date: 2021-01-19 08:00:09 -0400
malbec1Linux (Ubuntu 18.04.5 LTS) / x86_64  OK    OK    OK  UNNEEDED, same version exists in internal repository
tokay1Windows Server 2012 R2 Standard / x64  OK    OK    OK    OK  UNNEEDED, same version exists in internal repository
merida1macOS 10.14.6 Mojave / x86_64  OK    OK    OK    OK  UNNEEDED, same version exists in internal repository
Package 34/38HostnameOS / ArchINSTALLBUILDCHECKBUILD BIN
ScISI 1.62.0  (landing page)
Tony Chiang
Last Commit: 7fafccc
Last Changed Date: 2020-10-27 10:27:58 -0400
malbec1Linux (Ubuntu 18.04.5 LTS) / x86_64  OK    OK    OK  UNNEEDED, same version exists in internal repository
tokay1Windows Server 2012 R2 Standard / x64  OK    OK    OK    OK  UNNEEDED, same version exists in internal repository
merida1macOS 10.14.6 Mojave / x86_64  OK    OK    OK    OK  UNNEEDED, same version exists in internal repository
Package 35/38HostnameOS / ArchINSTALLBUILDCHECKBUILD BIN
SemDist 1.24.0  (landing page)
Ian Gonzalez
Last Commit: 122c538
Last Changed Date: 2020-10-27 10:58:12 -0400
malbec1Linux (Ubuntu 18.04.5 LTS) / x86_64  OK    OK    OK  UNNEEDED, same version exists in internal repository
tokay1Windows Server 2012 R2 Standard / x64  OK    OK    OK    OK  UNNEEDED, same version exists in internal repository
merida1macOS 10.14.6 Mojave / x86_64  OK    OK    OK    OK  UNNEEDED, same version exists in internal repository
Package 36/38HostnameOS / ArchINSTALLBUILDCHECKBUILD BIN
systemPipeR 1.24.3  (landing page)
Thomas Girke
Last Commit: 3cdcc6c
Last Changed Date: 2021-01-23 20:06:04 -0400
malbec1Linux (Ubuntu 18.04.5 LTS) / x86_64  OK    OK    OK  UNNEEDED, same version exists in internal repository
tokay1Windows Server 2012 R2 Standard / x64  OK    OK    OK    OK  UNNEEDED, same version exists in internal repository
merida1macOS 10.14.6 Mojave / x86_64  OK    OK    OK    OK  UNNEEDED, same version exists in internal repository
Package 37/38HostnameOS / ArchINSTALLBUILDCHECKBUILD BIN
tigre 1.44.0  (landing page)
Antti Honkela
Last Commit: 42bffa6
Last Changed Date: 2020-10-27 10:37:57 -0400
malbec1Linux (Ubuntu 18.04.5 LTS) / x86_64  OK    OK    OK  UNNEEDED, same version exists in internal repository
tokay1Windows Server 2012 R2 Standard / x64  OK    OK    OK    OK  UNNEEDED, same version exists in internal repository
merida1macOS 10.14.6 Mojave / x86_64  OK    OK    OK    OK  UNNEEDED, same version exists in internal repository
Package 38/38HostnameOS / ArchINSTALLBUILDCHECKBUILD BIN
UMI4Cats 1.0.1  (landing page)
Mireia Ramos-Rodriguez
Last Commit: 1f6f3d8
Last Changed Date: 2020-12-29 05:50:42 -0400
malbec1Linux (Ubuntu 18.04.5 LTS) / x86_64  OK    OK    OK  UNNEEDED, same version exists in internal repository
tokay1Windows Server 2012 R2 Standard / x64  OK    OK    OK    OK  UNNEEDED, same version exists in internal repository
merida1macOS 10.14.6 Mojave / x86_64  OK    OK    OK    OK  UNNEEDED, same version exists in internal repository