Back to Multiple platform build/check report for BioC 3.12
[A]BCDEFGHIJKLMNOPQRSTUVWXYZ

CHECK report for ARRmNormalization on malbec1

This page was generated on 2020-08-09 11:20:23 -0400 (Sun, 09 Aug 2020).

TO THE DEVELOPERS/MAINTAINERS OF THE ARRmNormalization PACKAGE: Please make sure to use the following settings in order to reproduce any error or warning you see on this page.
Package 82/1882HostnameOS / ArchINSTALLBUILDCHECKBUILD BIN
ARRmNormalization 1.29.0
Jean-Philippe Fortin
Snapshot Date: 2020-08-08 14:51:01 -0400 (Sat, 08 Aug 2020)
URL: https://git.bioconductor.org/packages/ARRmNormalization
Branch: master
Last Commit: 6e747ff
Last Changed Date: 2020-04-27 14:33:29 -0400 (Mon, 27 Apr 2020)
malbec1 Linux (Ubuntu 18.04.4 LTS) / x86_64  OK  OK [ OK ]UNNEEDED, same version exists in internal repository
nebbiolo1 Linux (Ubuntu 20.04.1 LTS) / x86_64  OK  OK  OK 
tokay1 Windows Server 2012 R2 Standard / x64  OK  OK  OK  OK UNNEEDED, same version exists in internal repository
merida1 macOS 10.14.6 Mojave / x86_64  OK  OK  OK  OK UNNEEDED, same version exists in internal repository

Summary

Package: ARRmNormalization
Version: 1.29.0
Command: /home/biocbuild/bbs-3.12-bioc/R/bin/R CMD check --install=check:ARRmNormalization.install-out.txt --library=/home/biocbuild/bbs-3.12-bioc/R/library --no-vignettes --timings ARRmNormalization_1.29.0.tar.gz
StartedAt: 2020-08-09 00:08:53 -0400 (Sun, 09 Aug 2020)
EndedAt: 2020-08-09 00:10:32 -0400 (Sun, 09 Aug 2020)
EllapsedTime: 98.8 seconds
RetCode: 0
Status:  OK 
CheckDir: ARRmNormalization.Rcheck
Warnings: 0

Command output

##############################################################################
##############################################################################
###
### Running command:
###
###   /home/biocbuild/bbs-3.12-bioc/R/bin/R CMD check --install=check:ARRmNormalization.install-out.txt --library=/home/biocbuild/bbs-3.12-bioc/R/library --no-vignettes --timings ARRmNormalization_1.29.0.tar.gz
###
##############################################################################
##############################################################################


* using log directory ‘/home/biocbuild/bbs-3.12-bioc/meat/ARRmNormalization.Rcheck’
* using R version 4.0.2 (2020-06-22)
* using platform: x86_64-pc-linux-gnu (64-bit)
* using session charset: UTF-8
* using option ‘--no-vignettes’
* checking for file ‘ARRmNormalization/DESCRIPTION’ ... OK
* checking extension type ... Package
* this is package ‘ARRmNormalization’ version ‘1.29.0’
* checking package namespace information ... OK
* checking package dependencies ... OK
* checking if this is a source package ... OK
* checking if there is a namespace ... OK
* checking for hidden files and directories ... OK
* checking for portable file names ... OK
* checking for sufficient/correct file permissions ... OK
* checking whether package ‘ARRmNormalization’ can be installed ... OK
* checking installed package size ... OK
* checking package directory ... OK
* checking ‘build’ directory ... OK
* checking DESCRIPTION meta-information ... OK
* checking top-level files ... OK
* checking for left-over files ... OK
* checking index information ... OK
* checking package subdirectories ... OK
* checking R files for non-ASCII characters ... OK
* checking R files for syntax errors ... OK
* checking whether the package can be loaded ... OK
* checking whether the package can be loaded with stated dependencies ... OK
* checking whether the package can be unloaded cleanly ... OK
* checking whether the namespace can be loaded with stated dependencies ... OK
* checking whether the namespace can be unloaded cleanly ... OK
* checking dependencies in R code ... NOTE
Package in Depends field not imported from: ‘ARRmData’
  These packages need to be imported from (in the NAMESPACE file)
  for when this namespace is loaded but not attached.
* checking S3 generic/method consistency ... OK
* checking replacement functions ... OK
* checking foreign function calls ... OK
* checking R code for possible problems ... NOTE
ARRm.regression: no visible global function definition for ‘C’
ARRm.regression: no visible global function definition for ‘lm’
getBackground : <anonymous>: no visible global function definition for
  ‘median’
getQuantiles: no visible global function definition for ‘data’
getQuantiles: no visible binding for global variable ‘ProbesType’
getQuantiles : <anonymous>: no visible global function definition for
  ‘quantile’
normalizeARRm: no visible global function definition for ‘data’
normalizeARRm: no visible binding for global variable ‘ProbesType’
normalizeI: no visible global function definition for ‘C’
normalizeI: no visible global function definition for ‘median’
normalizeI : <anonymous>: no visible global function definition for
  ‘quantile’
normalizeI: no visible global function definition for ‘smooth.spline’
normalizeI: no visible global function definition for ‘predict’
normalizeII: no visible global function definition for ‘C’
normalizeII: no visible global function definition for ‘median’
normalizeII : <anonymous>: no visible global function definition for
  ‘quantile’
normalizeII: no visible global function definition for ‘smooth.spline’
normalizeII: no visible global function definition for ‘predict’
positionPlots: no visible global function definition for ‘pdf’
positionPlots: no visible global function definition for ‘axis’
positionPlots: no visible global function definition for ‘abline’
positionPlots: no visible global function definition for ‘dev.off’
quantilePlots: no visible global function definition for ‘pdf’
quantilePlots: no visible global function definition for ‘points’
quantilePlots: no visible global function definition for ‘abline’
quantilePlots: no visible global function definition for ‘lm’
quantilePlots: no visible global function definition for ‘dev.off’
Undefined global functions or variables:
  C ProbesType abline axis data dev.off lm median pdf points predict
  quantile smooth.spline
Consider adding
  importFrom("grDevices", "dev.off", "pdf")
  importFrom("graphics", "abline", "axis", "points")
  importFrom("stats", "C", "lm", "median", "predict", "quantile",
             "smooth.spline")
  importFrom("utils", "data")
to your NAMESPACE file.
* checking Rd files ... OK
* checking Rd metadata ... OK
* checking Rd cross-references ... OK
* checking for missing documentation entries ... OK
* checking for code/documentation mismatches ... OK
* checking Rd \usage sections ... OK
* checking Rd contents ... OK
* checking for unstated dependencies in examples ... OK
* checking contents of ‘data’ directory ... OK
* checking data for non-ASCII characters ... OK
* checking data for ASCII and uncompressed saves ... OK
* checking files in ‘vignettes’ ... OK
* checking examples ... OK
Examples with CPU (user + system) or elapsed time > 5s
                  user system elapsed
normalizeARRm   27.384  0.616  28.037
getCoefficients 13.544  0.628  14.714
getQuantiles    11.708  0.448  12.167
positionPlots   11.288  0.344  11.652
quantilePlots   11.104  0.232  11.354
* checking for unstated dependencies in vignettes ... OK
* checking package vignettes in ‘inst/doc’ ... OK
* checking running R code from vignettes ... SKIPPED
* checking re-building of vignette outputs ... SKIPPED
* checking PDF version of manual ... OK
* DONE

Status: 2 NOTEs
See
  ‘/home/biocbuild/bbs-3.12-bioc/meat/ARRmNormalization.Rcheck/00check.log’
for details.



Installation output

ARRmNormalization.Rcheck/00install.out

##############################################################################
##############################################################################
###
### Running command:
###
###   /home/biocbuild/bbs-3.12-bioc/R/bin/R CMD INSTALL ARRmNormalization
###
##############################################################################
##############################################################################


* installing to library ‘/home/biocbuild/bbs-3.12-bioc/R/library’
* installing *source* package ‘ARRmNormalization’ ...
** using staged installation
** R
** data
** byte-compile and prepare package for lazy loading
** help
*** installing help indices
** building package indices
** installing vignettes
** testing if installed package can be loaded from temporary location
** testing if installed package can be loaded from final location
** testing if installed package keeps a record of temporary installation path
* DONE (ARRmNormalization)

Tests output


Example timings

ARRmNormalization.Rcheck/ARRmNormalization-Ex.timings

nameusersystemelapsed
ProbesType0.9640.0160.980
getBackground0.0320.0040.055
getCoefficients13.544 0.62814.714
getDesignInfo0.0040.0000.004
getQuantiles11.708 0.44812.167
normalizeARRm27.384 0.61628.037
positionPlots11.288 0.34411.652
quantilePlots11.104 0.23211.354