Back to Multiple platform build/check report for BioC 3.12
[A]BCDEFGHIJKLMNOPQRSTUVWXYZ

INSTALL report for appreci8R on merida1

This page was generated on 2020-08-11 12:02:23 -0400 (Tue, 11 Aug 2020).

TO THE DEVELOPERS/MAINTAINERS OF THE appreci8R PACKAGE: Please make sure to use the following settings in order to reproduce any error or warning you see on this page.
Package 73/1885HostnameOS / ArchINSTALLBUILDCHECKBUILD BIN
appreci8R 1.7.0
Sarah Sandmann
Snapshot Date: 2020-08-10 14:50:56 -0400 (Mon, 10 Aug 2020)
URL: https://git.bioconductor.org/packages/appreci8R
Branch: master
Last Commit: 8474b30
Last Changed Date: 2020-04-27 15:18:01 -0400 (Mon, 27 Apr 2020)
malbec1 Linux (Ubuntu 18.04.4 LTS) / x86_64  OK  OK  OK UNNEEDED, same version exists in internal repository
nebbiolo1 Linux (Ubuntu 20.04.1 LTS) / x86_64  OK  OK  NA 
tokay1 Windows Server 2012 R2 Standard / x64  OK  OK  OK  OK UNNEEDED, same version exists in internal repository
merida1 macOS 10.14.6 Mojave / x86_64 [ OK ] OK  OK  OK UNNEEDED, same version exists in internal repository

Summary

Package: appreci8R
Version: 1.7.0
Command: /Library/Frameworks/R.framework/Versions/Current/Resources/bin/R CMD INSTALL appreci8R
StartedAt: 2020-08-10 17:43:19 -0400 (Mon, 10 Aug 2020)
EndedAt: 2020-08-10 17:44:51 -0400 (Mon, 10 Aug 2020)
EllapsedTime: 92.0 seconds
RetCode: 0
Status:  OK 

Command output

##############################################################################
##############################################################################
###
### Running command:
###
###   /Library/Frameworks/R.framework/Versions/Current/Resources/bin/R CMD INSTALL appreci8R
###
##############################################################################
##############################################################################


* installing to library ‘/Library/Frameworks/R.framework/Versions/4.0/Resources/library’
* installing *source* package ‘appreci8R’ ...
** using staged installation
** R
** inst
** byte-compile and prepare package for lazy loading
No methods found in package ‘IRanges’ for request: ‘values’ when loading ‘GenomicScores’
** help
*** installing help indices
** building package indices
** installing vignettes
** testing if installed package can be loaded from temporary location
No methods found in package ‘IRanges’ for request: ‘values’ when loading ‘GenomicScores’
** testing if installed package can be loaded from final location
No methods found in package ‘IRanges’ for request: ‘values’ when loading ‘GenomicScores’
** testing if installed package keeps a record of temporary installation path
* DONE (appreci8R)