Back to Multiple platform build/check report for BioC 3.12
A[B]CDEFGHIJKLMNOPQRSTUVWXYZ

Multiple platform build/check report for BioC 3.12

Results for BiocGenerics

This page was generated on 2020-10-22 12:19:36 -0400 (Thu, 22 Oct 2020).

Package 157/1952HostnameOS / ArchINSTALLBUILDCHECKBUILD BIN
BiocGenerics 0.35.4
Bioconductor Package Maintainer
Snapshot Date: 2020-10-21 14:52:01 -0400 (Wed, 21 Oct 2020)
URL: https://git.bioconductor.org/packages/BiocGenerics
Branch: master
Last Commit: e6a7726
Last Changed Date: 2020-09-15 01:33:12 -0400 (Tue, 15 Sep 2020)
malbec1 Linux (Ubuntu 18.04.4 LTS) / x86_64  OK  OK  WARNINGS UNNEEDED, same version exists in internal repository
nebbiolo1 Linux (Ubuntu 20.04.1 LTS) / x86_64  OK  OK  WARNINGS 
tokay1 Windows Server 2012 R2 Standard / x64  OK  OK  WARNINGS  OK UNNEEDED, same version exists in internal repository
riesling1 Windows Server 2019 Standard / x64  OK  OK  WARNINGS  OK 
merida1 macOS 10.14.6 Mojave / x86_64  OK  OK  WARNINGS  OK UNNEEDED, same version exists in internal repository