Back to Multiple platform build/check report for BioC 3.12 |
|
This page was generated on 2021-05-06 12:32:10 -0400 (Thu, 06 May 2021).
To the developers/maintainers of the megadepth package: Please make sure to use the following settings in order to reproduce any error or warning you see on this page. |
Package 1034/1974 | Hostname | OS / Arch | INSTALL | BUILD | CHECK | BUILD BIN | ||||||||
megadepth 1.0.3 (landing page) David Zhang
| malbec1 | Linux (Ubuntu 18.04.5 LTS) / x86_64 | OK | OK | OK | |||||||||
tokay1 | Windows Server 2012 R2 Standard / x64 | OK | OK | OK | OK | |||||||||
merida1 | macOS 10.14.6 Mojave / x86_64 | OK | OK | OK | OK | |||||||||
Package: megadepth |
Version: 1.0.3 |
Command: rm -rf megadepth.buildbin-libdir && mkdir megadepth.buildbin-libdir && C:\Users\biocbuild\bbs-3.12-bioc\R\bin\R.exe CMD INSTALL --merge-multiarch --build --library=megadepth.buildbin-libdir megadepth_1.0.3.tar.gz |
StartedAt: 2021-05-06 09:28:21 -0400 (Thu, 06 May 2021) |
EndedAt: 2021-05-06 09:28:59 -0400 (Thu, 06 May 2021) |
EllapsedTime: 38.5 seconds |
RetCode: 0 |
Status: OK |
PackageFile: megadepth_1.0.3.zip |
PackageFileSize: 482.8 KiB |
############################################################################## ############################################################################## ### ### Running command: ### ### rm -rf megadepth.buildbin-libdir && mkdir megadepth.buildbin-libdir && C:\Users\biocbuild\bbs-3.12-bioc\R\bin\R.exe CMD INSTALL --merge-multiarch --build --library=megadepth.buildbin-libdir megadepth_1.0.3.tar.gz ### ############################################################################## ############################################################################## install for i386 * installing *source* package 'megadepth' ... ** using staged installation ** R ** inst ** byte-compile and prepare package for lazy loading ** help *** installing help indices converting help for package 'megadepth' finding HTML links ... done bam_to_bigwig html bam_to_junctions html get_coverage html install_megadepth html megadepth_cmd html read_coverage html read_junction_table html ** building package indices ** installing vignettes ** testing if installed package can be loaded from temporary location ** testing if installed package can be loaded from final location ** testing if installed package keeps a record of temporary installation path install for x64 * installing *source* package 'megadepth' ... ** testing if installed package can be loaded * MD5 sums packaged installation of 'megadepth' as megadepth_1.0.3.zip * DONE (megadepth)