Back to Multiple platform build/check report for BioC 3.12
ABC[D]EFGHIJKLMNOPQRSTUVWXYZ

BUILD BIN report for dupRadar on merida1

This page was generated on 2021-01-22 11:58:07 -0500 (Fri, 22 Jan 2021).

TO THE DEVELOPERS/MAINTAINERS OF THE dupRadar PACKAGE: Please make sure to use the following settings in order to reproduce any error or warning you see on this page.
Package 517/1974HostnameOS / ArchINSTALLBUILDCHECKBUILD BIN
dupRadar 1.20.0
Sergi Sayols , Holger Klein
Snapshot Date: 2021-01-21 14:42:12 -0500 (Thu, 21 Jan 2021)
URL: https://git.bioconductor.org/packages/dupRadar
Branch: RELEASE_3_12
Last Commit: d9b9321
Last Changed Date: 2020-10-27 11:08:08 -0500 (Tue, 27 Oct 2020)
malbec1 Linux (Ubuntu 18.04.5 LTS) / x86_64  OK  OK  OK UNNEEDED, same version exists in internal repository
nebbiolo1 Linux (Ubuntu 20.04.1 LTS) / x86_64  OK  OK  OK 
tokay1 Windows Server 2012 R2 Standard / x64 ...NOT SUPPORTED...
merida1 macOS 10.14.6 Mojave / x86_64  OK  OK  OK [ OK ]UNNEEDED, same version exists in internal repository

Summary

Package: dupRadar
Version: 1.20.0
Command: rm -rf dupRadar.buildbin-libdir && mkdir dupRadar.buildbin-libdir && /Users/biocbuild/BBS/utils/build-universal.sh dupRadar_1.20.0.tar.gz /Library/Frameworks/R.framework/Versions/Current/Resources/bin/R dupRadar.buildbin-libdir
StartedAt: 2021-01-22 07:36:04 -0500 (Fri, 22 Jan 2021)
EndedAt: 2021-01-22 07:36:56 -0500 (Fri, 22 Jan 2021)
EllapsedTime: 51.5 seconds
RetCode: 0
Status:  OK 
PackageFile: dupRadar_1.20.0.tgz
PackageFileSize: 3.668 MiB

Command output

##############################################################################
##############################################################################
###
### Running command:
###
###   rm -rf dupRadar.buildbin-libdir && mkdir dupRadar.buildbin-libdir && /Users/biocbuild/BBS/utils/build-universal.sh dupRadar_1.20.0.tar.gz /Library/Frameworks/R.framework/Versions/Current/Resources/bin/R dupRadar.buildbin-libdir
###
##############################################################################
##############################################################################


>>>>>>> 
>>>>>>> INSTALLATION WITH 'R CMD INSTALL --preclean --no-multiarch --library=dupRadar.buildbin-libdir dupRadar_1.20.0.tar.gz'
>>>>>>> 

* installing *source* package ‘dupRadar’ ...
** using staged installation
** R
** data
*** moving datasets to lazyload DB
** inst
** byte-compile and prepare package for lazy loading
** help
*** installing help indices
** building package indices
** installing vignettes
** testing if installed package can be loaded from temporary location
** testing if installed package can be loaded from final location
** testing if installed package keeps a record of temporary installation path
* DONE (dupRadar)