Back to Multiple platform build/check report for BioC 3.12
AB[C]DEFGHIJKLMNOPQRSTUVWXYZ

BUILD BIN report for ChIPanalyser on merida1

This page was generated on 2020-08-11 12:00:55 -0400 (Tue, 11 Aug 2020).

TO THE DEVELOPERS/MAINTAINERS OF THE ChIPanalyser PACKAGE: Please make sure to use the following settings in order to reproduce any error or warning you see on this page.
Package 270/1885HostnameOS / ArchINSTALLBUILDCHECKBUILD BIN
ChIPanalyser 1.11.0
Patrick C.N. Martin
Snapshot Date: 2020-08-10 14:50:56 -0400 (Mon, 10 Aug 2020)
URL: https://git.bioconductor.org/packages/ChIPanalyser
Branch: master
Last Commit: e6bd584
Last Changed Date: 2020-04-27 15:09:59 -0400 (Mon, 27 Apr 2020)
malbec1 Linux (Ubuntu 18.04.4 LTS) / x86_64  OK  OK  OK UNNEEDED, same version exists in internal repository
nebbiolo1 Linux (Ubuntu 20.04.1 LTS) / x86_64  OK  OK  NA 
tokay1 Windows Server 2012 R2 Standard / x64  OK  OK  WARNINGS  OK UNNEEDED, same version exists in internal repository
merida1 macOS 10.14.6 Mojave / x86_64  OK  OK  OK [ OK ]UNNEEDED, same version exists in internal repository

Summary

Package: ChIPanalyser
Version: 1.11.0
Command: rm -rf ChIPanalyser.buildbin-libdir && mkdir ChIPanalyser.buildbin-libdir && /Users/biocbuild/BBS/utils/build-universal.sh ChIPanalyser_1.11.0.tar.gz /Library/Frameworks/R.framework/Versions/Current/Resources/bin/R ChIPanalyser.buildbin-libdir
StartedAt: 2020-08-11 07:46:06 -0400 (Tue, 11 Aug 2020)
EndedAt: 2020-08-11 07:46:53 -0400 (Tue, 11 Aug 2020)
EllapsedTime: 46.3 seconds
RetCode: 0
Status:  OK 
PackageFile: ChIPanalyser_1.11.0.tgz
PackageFileSize: 1.246 MiB

Command output

##############################################################################
##############################################################################
###
### Running command:
###
###   rm -rf ChIPanalyser.buildbin-libdir && mkdir ChIPanalyser.buildbin-libdir && /Users/biocbuild/BBS/utils/build-universal.sh ChIPanalyser_1.11.0.tar.gz /Library/Frameworks/R.framework/Versions/Current/Resources/bin/R ChIPanalyser.buildbin-libdir
###
##############################################################################
##############################################################################


>>>>>>> 
>>>>>>> INSTALLATION WITH 'R CMD INSTALL --preclean --no-multiarch --library=ChIPanalyser.buildbin-libdir ChIPanalyser_1.11.0.tar.gz'
>>>>>>> 

* installing *source* package ‘ChIPanalyser’ ...
** using staged installation
** R
** data
*** moving datasets to lazyload DB
** inst
** byte-compile and prepare package for lazy loading
Creating a new generic function for ‘drop’ in package ‘ChIPanalyser’
** help
*** installing help indices
** building package indices
** installing vignettes
** testing if installed package can be loaded from temporary location
** testing if installed package can be loaded from final location
** testing if installed package keeps a record of temporary installation path
* DONE (ChIPanalyser)