Back to Multiple platform build/check report for BioC 3.12
A[B]CDEFGHIJKLMNOPQRSTUVWXYZ

BUILD BIN report for brendaDb on tokay1

This page was generated on 2020-08-10 12:27:08 -0400 (Mon, 10 Aug 2020).

TO THE DEVELOPERS/MAINTAINERS OF THE brendaDb PACKAGE: Please make sure to use the following settings in order to reproduce any error or warning you see on this page.
Package 197/1882HostnameOS / ArchINSTALLBUILDCHECKBUILD BIN
brendaDb 1.3.0
Yi Zhou
Snapshot Date: 2020-08-09 14:51:29 -0400 (Sun, 09 Aug 2020)
URL: https://git.bioconductor.org/packages/brendaDb
Branch: master
Last Commit: b348776
Last Changed Date: 2020-04-27 15:29:29 -0400 (Mon, 27 Apr 2020)
malbec1 Linux (Ubuntu 18.04.4 LTS) / x86_64  OK  OK  OK UNNEEDED, same version exists in internal repository
nebbiolo1 Linux (Ubuntu 20.04.1 LTS) / x86_64  OK  OK  OK 
tokay1 Windows Server 2012 R2 Standard / x64  OK  OK  OK [ OK ]UNNEEDED, same version exists in internal repository
merida1 macOS 10.14.6 Mojave / x86_64  OK  OK  OK  OK UNNEEDED, same version exists in internal repository

Summary

Package: brendaDb
Version: 1.3.0
Command: rm -rf brendaDb.buildbin-libdir && mkdir brendaDb.buildbin-libdir && C:\Users\biocbuild\bbs-3.12-bioc\R\bin\R.exe CMD INSTALL --merge-multiarch --build --library=brendaDb.buildbin-libdir brendaDb_1.3.0.tar.gz
StartedAt: 2020-08-10 08:40:55 -0400 (Mon, 10 Aug 2020)
EndedAt: 2020-08-10 08:41:24 -0400 (Mon, 10 Aug 2020)
EllapsedTime: 29.2 seconds
RetCode: 0
Status:  OK  
PackageFile: brendaDb_1.3.0.zip
PackageFileSize: 1.419 MiB

Command output

##############################################################################
##############################################################################
###
### Running command:
###
###   rm -rf brendaDb.buildbin-libdir && mkdir brendaDb.buildbin-libdir && C:\Users\biocbuild\bbs-3.12-bioc\R\bin\R.exe CMD INSTALL --merge-multiarch --build --library=brendaDb.buildbin-libdir brendaDb_1.3.0.tar.gz
###
##############################################################################
##############################################################################



install for i386

* installing *source* package 'brendaDb' ...
** using staged installation
** libs
"C:/rtools40/mingw32/bin/"g++  -std=gnu++11 -I"C:/Users/BIOCBU~1/BBS-3~1.12-/R/include" -DNDEBUG  -I'C:/Users/biocbuild/bbs-3.12-bioc/R/library/Rcpp/include'   -I"C:/extsoft/include"     -O2 -Wall  -mfpmath=sse -msse2 -mstackrealign -c RcppExports.cpp -o RcppExports.o
"C:/rtools40/mingw32/bin/"g++  -std=gnu++11 -I"C:/Users/BIOCBU~1/BBS-3~1.12-/R/include" -DNDEBUG  -I'C:/Users/biocbuild/bbs-3.12-bioc/R/library/Rcpp/include'   -I"C:/extsoft/include"     -O2 -Wall  -mfpmath=sse -msse2 -mstackrealign -c read_brenda.cpp -o read_brenda.o
C:/rtools40/mingw32/bin/g++ -shared -s -static-libgcc -o brendaDb.dll tmp.def RcppExports.o read_brenda.o -LC:/extsoft/lib/i386 -LC:/extsoft/lib -LC:/Users/BIOCBU~1/BBS-3~1.12-/R/bin/i386 -lR
installing to C:/Users/biocbuild/bbs-3.12-bioc/meat/brendaDb.buildbin-libdir/00LOCK-brendaDb/00new/brendaDb/libs/i386
** R
** data
** inst
** byte-compile and prepare package for lazy loading
** help
*** installing help indices
  converting help for package 'brendaDb'
    finding HTML links ... done
    BiocycPathwayEnzymes                    html  
    BiocycPathwayGenes                      html  
    CleanECNumber                           html  
    ConfigBPCores                           html  
    DownloadBrenda                          html  
    ExtractField                            html  
    ID2Enzyme                               html  
    InitBrendaDeprecatedEntry               html  
    InitBrendaEntry                         html  
    ParseGeneric                            html  
    ParseNoDescription                      html  
    ParseProtein                            html  
    ParseProteinNum                         html  
    ParseReaction                           html  
    ParseRecommendedName                    html  
    ParseReference                          html  
    ParseSystematicName                     html  
    PrettyPrintBrendaEntry                  html  
    PrintTreeHelper                         html  
    QueryBrenda                             html  
    QueryBrendaBase                         html  
    ReadBrenda                              html  
    ReadBrendaFile                          html  
    SelectOrganism                          html  
    SeparateEntries                         html  
    SeparateSubentries                      html  
    ShowFields                              html  
    acronyms                                html  
    brendaDb-package                        html  
    print.brenda.entries                    html  
    print.brenda.entry                      html  
*** copying figures
** building package indices
** installing vignettes
** testing if installed package can be loaded from temporary location
** testing if installed package can be loaded from final location
** testing if installed package keeps a record of temporary installation path

install for x64

* installing *source* package 'brendaDb' ...
** libs
"C:/rtools40/mingw64/bin/"g++  -std=gnu++11 -I"C:/Users/BIOCBU~1/BBS-3~1.12-/R/include" -DNDEBUG  -I'C:/Users/biocbuild/bbs-3.12-bioc/R/library/Rcpp/include'   -I"C:/extsoft/include"     -O2 -Wall  -mfpmath=sse -msse2 -mstackrealign -c RcppExports.cpp -o RcppExports.o
"C:/rtools40/mingw64/bin/"g++  -std=gnu++11 -I"C:/Users/BIOCBU~1/BBS-3~1.12-/R/include" -DNDEBUG  -I'C:/Users/biocbuild/bbs-3.12-bioc/R/library/Rcpp/include'   -I"C:/extsoft/include"     -O2 -Wall  -mfpmath=sse -msse2 -mstackrealign -c read_brenda.cpp -o read_brenda.o
C:/rtools40/mingw64/bin/g++ -shared -s -static-libgcc -o brendaDb.dll tmp.def RcppExports.o read_brenda.o -LC:/extsoft/lib/x64 -LC:/extsoft/lib -LC:/Users/BIOCBU~1/BBS-3~1.12-/R/bin/x64 -lR
installing to C:/Users/biocbuild/bbs-3.12-bioc/meat/brendaDb.buildbin-libdir/brendaDb/libs/x64
** testing if installed package can be loaded
* MD5 sums
packaged installation of 'brendaDb' as brendaDb_1.3.0.zip
* DONE (brendaDb)