Back to Multiple platform build/check report for BioC 3.12
AB[C]DEFGHIJKLMNOPQRSTUVWXYZ

BUILD BIN report for CGHregions on tokay1

This page was generated on 2020-08-07 11:58:15 -0400 (Fri, 07 Aug 2020).

TO THE DEVELOPERS/MAINTAINERS OF THE CGHregions PACKAGE: Please make sure to use the following settings in order to reproduce any error or warning you see on this page.
Package 260/1882HostnameOS / ArchINSTALLBUILDCHECKBUILD BIN
CGHregions 1.47.0
Sjoerd Vosse
Snapshot Date: 2020-08-06 14:50:46 -0400 (Thu, 06 Aug 2020)
URL: https://git.bioconductor.org/packages/CGHregions
Branch: master
Last Commit: da162cb
Last Changed Date: 2020-04-27 14:17:20 -0400 (Mon, 27 Apr 2020)
malbec1 Linux (Ubuntu 18.04.4 LTS) / x86_64  OK  OK  OK UNNEEDED, same version exists in internal repository
tokay1 Windows Server 2012 R2 Standard / x64  OK  OK  OK [ OK ]UNNEEDED, same version exists in internal repository
merida1 macOS 10.14.6 Mojave / x86_64  OK  OK  OK  OK UNNEEDED, same version exists in internal repository

Summary

Package: CGHregions
Version: 1.47.0
Command: rm -rf CGHregions.buildbin-libdir && mkdir CGHregions.buildbin-libdir && C:\Users\biocbuild\bbs-3.12-bioc\R\bin\R.exe CMD INSTALL --merge-multiarch --build --library=CGHregions.buildbin-libdir CGHregions_1.47.0.tar.gz
StartedAt: 2020-08-07 07:03:33 -0400 (Fri, 07 Aug 2020)
EndedAt: 2020-08-07 07:04:14 -0400 (Fri, 07 Aug 2020)
EllapsedTime: 41.5 seconds
RetCode: 0
Status:  OK  
PackageFile: CGHregions_1.47.0.zip
PackageFileSize: 188.5 KiB

Command output

##############################################################################
##############################################################################
###
### Running command:
###
###   rm -rf CGHregions.buildbin-libdir && mkdir CGHregions.buildbin-libdir && C:\Users\biocbuild\bbs-3.12-bioc\R\bin\R.exe CMD INSTALL --merge-multiarch --build --library=CGHregions.buildbin-libdir CGHregions_1.47.0.tar.gz
###
##############################################################################
##############################################################################



install for i386

* installing *source* package 'CGHregions' ...
** using staged installation
** R
** inst
** byte-compile and prepare package for lazy loading
** help
*** installing help indices
  converting help for package 'CGHregions'
    finding HTML links ... done
    CGHregions-package                      html  
    CGHregions                              html  
** building package indices
** installing vignettes
** testing if installed package can be loaded from temporary location
** testing if installed package can be loaded from final location
** testing if installed package keeps a record of temporary installation path

install for x64

* installing *source* package 'CGHregions' ...
** testing if installed package can be loaded
* MD5 sums
packaged installation of 'CGHregions' as CGHregions_1.47.0.zip
* DONE (CGHregions)