Back to Multiple platform build/check report for BioC 3.12
A[B]CDEFGHIJKLMNOPQRSTUVWXYZ

BUILD report for BiocOncoTK on malbec1

This page was generated on 2020-08-10 11:46:41 -0400 (Mon, 10 Aug 2020).

TO THE DEVELOPERS/MAINTAINERS OF THE BiocOncoTK PACKAGE: Please make sure to use the following settings in order to reproduce any error or warning you see on this page.
Package 155/1882HostnameOS / ArchINSTALLBUILDCHECKBUILD BIN
BiocOncoTK 1.9.0
VJ Carey
Snapshot Date: 2020-08-09 14:51:29 -0400 (Sun, 09 Aug 2020)
URL: https://git.bioconductor.org/packages/BiocOncoTK
Branch: master
Last Commit: e08ae5b
Last Changed Date: 2020-04-27 15:16:30 -0400 (Mon, 27 Apr 2020)
malbec1 Linux (Ubuntu 18.04.4 LTS) / x86_64  OK [ OK ] OK UNNEEDED, same version exists in internal repository
nebbiolo1 Linux (Ubuntu 20.04.1 LTS) / x86_64  OK  OK  OK 
tokay1 Windows Server 2012 R2 Standard / x64  OK  OK  WARNINGS  OK UNNEEDED, same version exists in internal repository
merida1 macOS 10.14.6 Mojave / x86_64  OK  OK  OK  OK UNNEEDED, same version exists in internal repository

Summary

Package: BiocOncoTK
Version: 1.9.0
Command: /home/biocbuild/bbs-3.12-bioc/R/bin/R CMD build --keep-empty-dirs --no-resave-data BiocOncoTK
StartedAt: 2020-08-09 21:01:52 -0400 (Sun, 09 Aug 2020)
EndedAt: 2020-08-09 21:03:23 -0400 (Sun, 09 Aug 2020)
EllapsedTime: 90.9 seconds
RetCode: 0
Status:  OK 
PackageFile: BiocOncoTK_1.9.0.tar.gz
PackageFileSize: 9.401 MiB

Command output

##############################################################################
##############################################################################
###
### Running command:
###
###   /home/biocbuild/bbs-3.12-bioc/R/bin/R CMD build --keep-empty-dirs --no-resave-data BiocOncoTK
###
##############################################################################
##############################################################################


* checking for file ‘BiocOncoTK/DESCRIPTION’ ... OK
* preparing ‘BiocOncoTK’:
* checking DESCRIPTION meta-information ... OK
* installing the package to build vignettes
* creating vignettes ... OK
* checking for LF line-endings in source and make files and shell scripts
* checking for empty or unneeded directories
* building ‘BiocOncoTK_1.9.0.tar.gz’