Back to Multiple platform build/check report for BioC 3.12
AB[C]DEFGHIJKLMNOPQRSTUVWXYZ

BUILD BIN report for calm on merida1

This page was generated on 2020-08-12 12:05:02 -0400 (Wed, 12 Aug 2020).

TO THE DEVELOPERS/MAINTAINERS OF THE calm PACKAGE: Please make sure to use the following settings in order to reproduce any error or warning you see on this page.
Package 215/1885HostnameOS / ArchINSTALLBUILDCHECKBUILD BIN
calm 1.3.0
Kun Liang
Snapshot Date: 2020-08-11 14:50:16 -0400 (Tue, 11 Aug 2020)
URL: https://git.bioconductor.org/packages/calm
Branch: master
Last Commit: 5527b1a
Last Changed Date: 2020-04-27 15:29:47 -0400 (Mon, 27 Apr 2020)
malbec1 Linux (Ubuntu 18.04.4 LTS) / x86_64  OK  OK  OK UNNEEDED, same version exists in internal repository
nebbiolo1 Linux (Ubuntu 20.04.1 LTS) / x86_64  OK  OK  OK 
tokay1 Windows Server 2012 R2 Standard / x64  OK  OK  OK  OK UNNEEDED, same version exists in internal repository
merida1 macOS 10.14.6 Mojave / x86_64  OK  OK  OK [ OK ]UNNEEDED, same version exists in internal repository

Summary

Package: calm
Version: 1.3.0
Command: rm -rf calm.buildbin-libdir && mkdir calm.buildbin-libdir && /Users/biocbuild/BBS/utils/build-universal.sh calm_1.3.0.tar.gz /Library/Frameworks/R.framework/Versions/Current/Resources/bin/R calm.buildbin-libdir
StartedAt: 2020-08-12 08:32:30 -0400 (Wed, 12 Aug 2020)
EndedAt: 2020-08-12 08:33:55 -0400 (Wed, 12 Aug 2020)
EllapsedTime: 84.3 seconds
RetCode: 0
Status:  OK 
PackageFile: calm_1.3.0.tgz
PackageFileSize: 415.4 KiB

Command output

##############################################################################
##############################################################################
###
### Running command:
###
###   rm -rf calm.buildbin-libdir && mkdir calm.buildbin-libdir && /Users/biocbuild/BBS/utils/build-universal.sh calm_1.3.0.tar.gz /Library/Frameworks/R.framework/Versions/Current/Resources/bin/R calm.buildbin-libdir
###
##############################################################################
##############################################################################


>>>>>>> 
>>>>>>> INSTALLATION WITH 'R CMD INSTALL --preclean --no-multiarch --library=calm.buildbin-libdir calm_1.3.0.tar.gz'
>>>>>>> 

* installing *source* package ‘calm’ ...
** using staged installation
** R
** data
** inst
** byte-compile and prepare package for lazy loading
** help
*** installing help indices
** building package indices
** installing vignettes
** testing if installed package can be loaded from temporary location
** testing if installed package can be loaded from final location
** testing if installed package keeps a record of temporary installation path
* DONE (calm)