Back to Multiple platform build/check report for BioC 3.12
ABCDEF[G]HIJKLMNOPQRSTUVWXYZ

INSTALL report for GraphPAC on tokay1

This page was generated on 2021-04-14 12:11:10 -0400 (Wed, 14 Apr 2021).

To the developers/maintainers of the GraphPAC package:
Please make sure to use the following settings in order to reproduce any error or warning you see on this page.
Package 784/1974HostnameOS / ArchINSTALLBUILDCHECKBUILD BIN
GraphPAC 1.32.0  (landing page)
Gregory Ryslik
Snapshot Date: 2021-04-13 14:50:13 -0400 (Tue, 13 Apr 2021)
URL: https://git.bioconductor.org/packages/GraphPAC
Branch: RELEASE_3_12
Last Commit: 8f7bfe2
Last Changed Date: 2020-10-27 10:48:33 -0400 (Tue, 27 Oct 2020)
malbec1Linux (Ubuntu 18.04.5 LTS) / x86_64  OK    OK    OK  UNNEEDED, same version exists in internal repository
tokay1Windows Server 2012 R2 Standard / x64  OK    OK    OK    OK  UNNEEDED, same version exists in internal repository
merida1macOS 10.14.6 Mojave / x86_64  OK    OK    OK    OK  UNNEEDED, same version exists in internal repository

Summary

Package: GraphPAC
Version: 1.32.0
Command: C:\cygwin\bin\curl.exe -O http://172.29.0.3/BBS/3.12/bioc/src/contrib/GraphPAC_1.32.0.tar.gz && rm -rf GraphPAC.buildbin-libdir && mkdir GraphPAC.buildbin-libdir && C:\Users\biocbuild\bbs-3.12-bioc\R\bin\R.exe CMD INSTALL --merge-multiarch --build --library=GraphPAC.buildbin-libdir GraphPAC_1.32.0.tar.gz && C:\Users\biocbuild\bbs-3.12-bioc\R\bin\R.exe CMD INSTALL GraphPAC_1.32.0.zip && rm GraphPAC_1.32.0.tar.gz GraphPAC_1.32.0.zip
StartedAt: 2021-04-13 17:48:33 -0400 (Tue, 13 Apr 2021)
EndedAt: 2021-04-13 17:49:08 -0400 (Tue, 13 Apr 2021)
EllapsedTime: 34.7 seconds
RetCode: 0
Status:   OK   

Command output

##############################################################################
##############################################################################
###
### Running command:
###
###   C:\cygwin\bin\curl.exe -O http://172.29.0.3/BBS/3.12/bioc/src/contrib/GraphPAC_1.32.0.tar.gz && rm -rf GraphPAC.buildbin-libdir && mkdir GraphPAC.buildbin-libdir && C:\Users\biocbuild\bbs-3.12-bioc\R\bin\R.exe CMD INSTALL --merge-multiarch --build --library=GraphPAC.buildbin-libdir GraphPAC_1.32.0.tar.gz && C:\Users\biocbuild\bbs-3.12-bioc\R\bin\R.exe CMD INSTALL GraphPAC_1.32.0.zip && rm GraphPAC_1.32.0.tar.gz GraphPAC_1.32.0.zip
###
##############################################################################
##############################################################################


  % Total    % Received % Xferd  Average Speed   Time    Time     Time  Current
                                 Dload  Upload   Total   Spent    Left  Speed

  0     0    0     0    0     0      0      0 --:--:-- --:--:-- --:--:--     0
100  223k  100  223k    0     0  13.7M      0 --:--:-- --:--:-- --:--:-- 14.5M

install for i386

* installing *source* package 'GraphPAC' ...
** using staged installation
** R
** inst
** byte-compile and prepare package for lazy loading
** help
*** installing help indices
  converting help for package 'GraphPAC'
    finding HTML links ... done
    Find.TSP.Path                           html  
    GraphClust                              html  
    Plot.Protein                            html  
    graphPAC-package                        html  
** building package indices
** installing vignettes
** testing if installed package can be loaded from temporary location
** testing if installed package can be loaded from final location
** testing if installed package keeps a record of temporary installation path

install for x64

* installing *source* package 'GraphPAC' ...
** testing if installed package can be loaded
* MD5 sums
packaged installation of 'GraphPAC' as GraphPAC_1.32.0.zip
* DONE (GraphPAC)
* installing to library 'C:/Users/biocbuild/bbs-3.12-bioc/R/library'
package 'GraphPAC' successfully unpacked and MD5 sums checked