Back to Multiple platform build/check report for BioC 3.12
ABCDEF[G]HIJKLMNOPQRSTUVWXYZ

INSTALL report for geneClassifiers on tokay1

This page was generated on 2021-01-25 11:53:03 -0500 (Mon, 25 Jan 2021).

TO THE DEVELOPERS/MAINTAINERS OF THE geneClassifiers PACKAGE: Please make sure to use the following settings in order to reproduce any error or warning you see on this page.
Package 685/1974HostnameOS / ArchINSTALLBUILDCHECKBUILD BIN
geneClassifiers 1.14.0
R Kuiper
Snapshot Date: 2021-01-24 14:40:16 -0500 (Sun, 24 Jan 2021)
URL: https://git.bioconductor.org/packages/geneClassifiers
Branch: RELEASE_3_12
Last Commit: 1267ca3
Last Changed Date: 2020-10-27 11:21:25 -0500 (Tue, 27 Oct 2020)
malbec1 Linux (Ubuntu 18.04.5 LTS) / x86_64  OK  OK  OK UNNEEDED, same version exists in internal repository
nebbiolo1 Linux (Ubuntu 20.04.1 LTS) / x86_64  OK  OK  OK 
tokay1 Windows Server 2012 R2 Standard / x64 [ OK ] OK  OK  OK UNNEEDED, same version exists in internal repository
merida1 macOS 10.14.6 Mojave / x86_64  OK  OK  OK  OK UNNEEDED, same version exists in internal repository

Summary

Package: geneClassifiers
Version: 1.14.0
Command: C:\cygwin\bin\curl.exe -O https://malbec1.bioconductor.org/BBS/3.12/bioc/src/contrib/geneClassifiers_1.14.0.tar.gz && rm -rf geneClassifiers.buildbin-libdir && mkdir geneClassifiers.buildbin-libdir && C:\Users\biocbuild\bbs-3.12-bioc\R\bin\R.exe CMD INSTALL --merge-multiarch --build --library=geneClassifiers.buildbin-libdir geneClassifiers_1.14.0.tar.gz && C:\Users\biocbuild\bbs-3.12-bioc\R\bin\R.exe CMD INSTALL geneClassifiers_1.14.0.zip && rm geneClassifiers_1.14.0.tar.gz geneClassifiers_1.14.0.zip
StartedAt: 2021-01-24 17:09:17 -0500 (Sun, 24 Jan 2021)
EndedAt: 2021-01-24 17:10:08 -0500 (Sun, 24 Jan 2021)
EllapsedTime: 51.6 seconds
RetCode: 0
Status:  OK  

Command output

##############################################################################
##############################################################################
###
### Running command:
###
###   C:\cygwin\bin\curl.exe -O https://malbec1.bioconductor.org/BBS/3.12/bioc/src/contrib/geneClassifiers_1.14.0.tar.gz && rm -rf geneClassifiers.buildbin-libdir && mkdir geneClassifiers.buildbin-libdir && C:\Users\biocbuild\bbs-3.12-bioc\R\bin\R.exe CMD INSTALL --merge-multiarch --build --library=geneClassifiers.buildbin-libdir geneClassifiers_1.14.0.tar.gz && C:\Users\biocbuild\bbs-3.12-bioc\R\bin\R.exe CMD INSTALL geneClassifiers_1.14.0.zip && rm geneClassifiers_1.14.0.tar.gz geneClassifiers_1.14.0.zip
###
##############################################################################
##############################################################################


  % Total    % Received % Xferd  Average Speed   Time    Time     Time  Current
                                 Dload  Upload   Total   Spent    Left  Speed

  0     0    0     0    0     0      0      0 --:--:-- --:--:-- --:--:--     0
  0 1282k    0     0    0     0      0      0 --:--:-- --:--:-- --:--:--     0
100 1282k  100 1282k    0     0  9627k      0 --:--:-- --:--:-- --:--:-- 9791k

install for i386

* installing *source* package 'geneClassifiers' ...
** using staged installation
** R
** data
*** moving datasets to lazyload DB
** byte-compile and prepare package for lazy loading
** help
*** installing help indices
  converting help for package 'geneClassifiers'
    finding HTML links ... done
    ClassifierParameters                    html  
    ClassifierResults                       html  
    FixedExpressionData                     html  
    bracket-methods                         html  
    dim-methods                             html  
    exampleMAS5                             html  
    finding level-2 HTML links ... done

    geneClassifiers-package                 html  
    getBatchCorrection-methods              html  
    getCitations-methods                    html  
    getClassifications-methods              html  
    getClassifier-methods                   html  
    getDecisionBoundaries-methods           html  
    getDescription-methods                  html  
    getEventChain-methods                   html  
    getIntercept-methods                    html  
    getMeans-methods                        html  
    getName-methods                         html  
    getNormalizationMethod-methods          html  
    getProbeNames-methods                   html  
    getScores-methods                       html  
    getSds-methods                          html  
    getTargetValue-methods                  html  
    getTrainingData-methods                 html  
    getWeightingType-methods                html  
    getWeights-methods                      html  
    runClassifier-methods                   html  
    setNormalizationMethod-methods          html  
    showClassifierList-methods              html  
** building package indices
** installing vignettes
** testing if installed package can be loaded from temporary location
** testing if installed package can be loaded from final location
** testing if installed package keeps a record of temporary installation path

install for x64

* installing *source* package 'geneClassifiers' ...
** testing if installed package can be loaded
* MD5 sums
packaged installation of 'geneClassifiers' as geneClassifiers_1.14.0.zip
* DONE (geneClassifiers)
* installing to library 'C:/Users/biocbuild/bbs-3.12-bioc/R/library'
package 'geneClassifiers' successfully unpacked and MD5 sums checked