Back to Multiple platform build/check report for BioC 3.12
A[B]CDEFGHIJKLMNOPQRSTUVWXYZ

CHECK report for BUS on merida1

This page was generated on 2020-08-11 11:52:52 -0400 (Tue, 11 Aug 2020).

TO THE DEVELOPERS/MAINTAINERS OF THE BUS PACKAGE: Please make sure to use the following settings in order to reproduce any error or warning you see on this page.
Package 209/1885HostnameOS / ArchINSTALLBUILDCHECKBUILD BIN
BUS 1.45.0
Yuanhua Liu
Snapshot Date: 2020-08-10 14:50:56 -0400 (Mon, 10 Aug 2020)
URL: https://git.bioconductor.org/packages/BUS
Branch: master
Last Commit: 91dd3f0
Last Changed Date: 2020-04-27 14:19:39 -0400 (Mon, 27 Apr 2020)
malbec1 Linux (Ubuntu 18.04.4 LTS) / x86_64  OK  OK  OK UNNEEDED, same version exists in internal repository
nebbiolo1 Linux (Ubuntu 20.04.1 LTS) / x86_64  OK  OK  NA 
tokay1 Windows Server 2012 R2 Standard / x64  OK  OK  OK  OK UNNEEDED, same version exists in internal repository
merida1 macOS 10.14.6 Mojave / x86_64  OK  OK [ OK ] OK UNNEEDED, same version exists in internal repository

Summary

Package: BUS
Version: 1.45.0
Command: /Library/Frameworks/R.framework/Versions/Current/Resources/bin/R CMD check --install=check:BUS.install-out.txt --library=/Library/Frameworks/R.framework/Versions/Current/Resources/library --no-vignettes --timings BUS_1.45.0.tar.gz
StartedAt: 2020-08-10 23:17:50 -0400 (Mon, 10 Aug 2020)
EndedAt: 2020-08-10 23:18:24 -0400 (Mon, 10 Aug 2020)
EllapsedTime: 33.8 seconds
RetCode: 0
Status:  OK 
CheckDir: BUS.Rcheck
Warnings: 0

Command output

##############################################################################
##############################################################################
###
### Running command:
###
###   /Library/Frameworks/R.framework/Versions/Current/Resources/bin/R CMD check --install=check:BUS.install-out.txt --library=/Library/Frameworks/R.framework/Versions/Current/Resources/library --no-vignettes --timings BUS_1.45.0.tar.gz
###
##############################################################################
##############################################################################


* using log directory ‘/Users/biocbuild/bbs-3.12-bioc/meat/BUS.Rcheck’
* using R version 4.0.2 (2020-06-22)
* using platform: x86_64-apple-darwin17.0 (64-bit)
* using session charset: UTF-8
* using option ‘--no-vignettes’
* checking for file ‘BUS/DESCRIPTION’ ... OK
* checking extension type ... Package
* this is package ‘BUS’ version ‘1.45.0’
* checking package namespace information ... OK
* checking package dependencies ... OK
* checking if this is a source package ... OK
* checking if there is a namespace ... OK
* checking for hidden files and directories ... OK
* checking for portable file names ... OK
* checking for sufficient/correct file permissions ... OK
* checking whether package ‘BUS’ can be installed ... OK
* checking installed package size ... OK
* checking package directory ... OK
* checking ‘build’ directory ... OK
* checking DESCRIPTION meta-information ... OK
* checking top-level files ... OK
* checking for left-over files ... OK
* checking index information ... OK
* checking package subdirectories ... OK
* checking R files for non-ASCII characters ... OK
* checking R files for syntax errors ... OK
* checking whether the package can be loaded ... OK
* checking whether the package can be loaded with stated dependencies ... OK
* checking whether the package can be unloaded cleanly ... OK
* checking whether the namespace can be loaded with stated dependencies ... OK
* checking whether the namespace can be unloaded cleanly ... OK
* checking dependencies in R code ... NOTE
Package in Depends field not imported from: ‘minet’
  These packages need to be imported from (in the NAMESPACE file)
  for when this namespace is loaded but not attached.
* checking S3 generic/method consistency ... OK
* checking replacement functions ... OK
* checking foreign function calls ... NOTE
Call with DUP:
   .Call("MINempirical", mat, nat, N, n1, n2, DUP = FALSE)
DUP is no longer supported and will be ignored.
* checking R code for possible problems ... NOTE
gene.pvalue : fi: warning in matrix(1:nrow(EXP), nc = 1): partial
  argument match of 'nc' to 'ncol'
gene.pvalue: warning in matrix(1:nrow(EXP), nc = 1): partial argument
  match of 'nc' to 'ncol'
gene.pvalue : fi: warning in matrix(1:ncol(real), nc = 1): partial
  argument match of 'nc' to 'ncol'
gene.pvalue: warning in matrix(1:nrow(real), nc = 1): partial argument
  match of 'nc' to 'ncol'
gene.pvalue : fi1: warning in matrix(1:ncol(real), nc = 1): partial
  argument match of 'nc' to 'ncol'
gene.trait.pvalue: warning in matrix(0, nr = nrow(EXP), nc =
  nrow(trait)): partial argument match of 'nr' to 'nrow'
gene.trait.pvalue: warning in matrix(0, nr = nrow(EXP), nc =
  nrow(trait)): partial argument match of 'nc' to 'ncol'
gene.trait.pvalue : fi: warning in matrix(1:nrow(trait), nc = 1):
  partial argument match of 'nc' to 'ncol'
gene.trait.pvalue: warning in matrix(1:nrow(EXP), nc = 1): partial
  argument match of 'nc' to 'ncol'
gene.trait.pvalue : fi: warning in matrix(1:ncol(real), nc = 1):
  partial argument match of 'nc' to 'ncol'
gene.trait.pvalue: warning in matrix(1:nrow(real), nc = 1): partial
  argument match of 'nc' to 'ncol'
gene.trait.pvalue : fj: warning in matrix(1:nrow(real), nc = 1):
  partial argument match of 'nc' to 'ncol'
gene.trait.pvalue: warning in matrix(1:ncol(real), nc = 1): partial
  argument match of 'nc' to 'ncol'
gene.pvalue: multiple local function definitions for ‘fi’ with
  different formal arguments
gene.similarity : s.similarity: no visible global function definition
  for ‘build.mim’
gene.similarity : s.similarity: no visible global function definition
  for ‘mrnet’
gene.similarity : s.similarity: no visible global function definition
  for ‘aracne’
gene.similarity : s.similarity: no visible global function definition
  for ‘clr’
gene.trait.pvalue: multiple local function definitions for ‘fi’ with
  different formal arguments
Undefined global functions or variables:
  aracne build.mim clr mrnet
* checking Rd files ... OK
* checking Rd metadata ... OK
* checking Rd cross-references ... OK
* checking for missing documentation entries ... OK
* checking for code/documentation mismatches ... OK
* checking Rd \usage sections ... OK
* checking Rd contents ... OK
* checking for unstated dependencies in examples ... OK
* checking contents of ‘data’ directory ... OK
* checking data for non-ASCII characters ... OK
* checking data for ASCII and uncompressed saves ... OK
* checking line endings in C/C++/Fortran sources/headers ... OK
* checking compiled code ... NOTE
Note: information on .o files is not available
* checking sizes of PDF files under ‘inst/doc’ ... OK
* checking files in ‘vignettes’ ... OK
* checking examples ... OK
* checking for unstated dependencies in vignettes ... OK
* checking package vignettes in ‘inst/doc’ ... OK
* checking running R code from vignettes ... SKIPPED
* checking re-building of vignette outputs ... SKIPPED
* checking PDF version of manual ... OK
* DONE

Status: 4 NOTEs
See
  ‘/Users/biocbuild/bbs-3.12-bioc/meat/BUS.Rcheck/00check.log’
for details.



Installation output

BUS.Rcheck/00install.out

##############################################################################
##############################################################################
###
### Running command:
###
###   /Library/Frameworks/R.framework/Versions/Current/Resources/bin/R CMD INSTALL BUS
###
##############################################################################
##############################################################################


* installing to library ‘/Library/Frameworks/R.framework/Versions/4.0/Resources/library’
* installing *source* package ‘BUS’ ...
** using staged installation
** libs
clang++ -mmacosx-version-min=10.13 -std=gnu++11 -I"/Library/Frameworks/R.framework/Resources/include" -DNDEBUG   -I/usr/local/include   -fPIC  -Wall -g -O2  -c BUS.cpp -o BUS.o
clang++ -mmacosx-version-min=10.13 -std=gnu++11 -dynamiclib -Wl,-headerpad_max_install_names -undefined dynamic_lookup -single_module -multiply_defined suppress -L/Library/Frameworks/R.framework/Resources/lib -L/usr/local/lib -o BUS.so BUS.o -F/Library/Frameworks/R.framework/.. -framework R -Wl,-framework -Wl,CoreFoundation
installing to /Library/Frameworks/R.framework/Versions/4.0/Resources/library/00LOCK-BUS/00new/BUS/libs
** R
** data
** inst
** byte-compile and prepare package for lazy loading
** help
*** installing help indices
** building package indices
** installing vignettes
** testing if installed package can be loaded from temporary location
** checking absolute paths in shared objects and dynamic libraries
** testing if installed package can be loaded from final location
** testing if installed package keeps a record of temporary installation path
* DONE (BUS)

Tests output


Example timings

BUS.Rcheck/BUS-Ex.timings

nameusersystemelapsed
BUS0.0820.0090.092
gene.pvalue1.2950.0651.363
gene.similarity0.0050.0010.006
gene.trait.pvalue1.3870.0231.415
gene.trait.similarity0.0200.0030.025
pred.network1.2290.0421.274
tumors.mRNA0.0150.0030.018
tumors.miRNA0.0020.0020.004