Back to Multiple platform build/check report for BioC 3.12
[A]BCDEFGHIJKLMNOPQRSTUVWXYZ

BUILD report for antiProfiles on merida1

This page was generated on 2020-08-11 11:54:58 -0400 (Tue, 11 Aug 2020).

TO THE DEVELOPERS/MAINTAINERS OF THE antiProfiles PACKAGE: Please make sure to use the following settings in order to reproduce any error or warning you see on this page.
Package 68/1885HostnameOS / ArchINSTALLBUILDCHECKBUILD BIN
antiProfiles 1.29.0
Hector Corrada Bravo
Snapshot Date: 2020-08-10 14:50:56 -0400 (Mon, 10 Aug 2020)
URL: https://git.bioconductor.org/packages/antiProfiles
Branch: master
Last Commit: d37e7c1
Last Changed Date: 2020-04-27 14:34:13 -0400 (Mon, 27 Apr 2020)
malbec1 Linux (Ubuntu 18.04.4 LTS) / x86_64  OK  OK  OK UNNEEDED, same version exists in internal repository
nebbiolo1 Linux (Ubuntu 20.04.1 LTS) / x86_64  OK  OK  NA 
tokay1 Windows Server 2012 R2 Standard / x64  OK  OK  OK  OK UNNEEDED, same version exists in internal repository
merida1 macOS 10.14.6 Mojave / x86_64  OK [ OK ] OK  OK UNNEEDED, same version exists in internal repository

Summary

Package: antiProfiles
Version: 1.29.0
Command: /Library/Frameworks/R.framework/Versions/Current/Resources/bin/R CMD build --keep-empty-dirs --no-resave-data antiProfiles
StartedAt: 2020-08-10 18:58:48 -0400 (Mon, 10 Aug 2020)
EndedAt: 2020-08-10 18:59:02 -0400 (Mon, 10 Aug 2020)
EllapsedTime: 14.0 seconds
RetCode: 0
Status:  OK 
PackageFile: antiProfiles_1.29.0.tar.gz
PackageFileSize: 142.9 KiB

Command output

##############################################################################
##############################################################################
###
### Running command:
###
###   /Library/Frameworks/R.framework/Versions/Current/Resources/bin/R CMD build --keep-empty-dirs --no-resave-data antiProfiles
###
##############################################################################
##############################################################################


* checking for file ‘antiProfiles/DESCRIPTION’ ... OK
* preparing ‘antiProfiles’:
* checking DESCRIPTION meta-information ... OK
* installing the package to build vignettes
* creating vignettes ... OK
* checking for LF line-endings in source and make files and shell scripts
* checking for empty or unneeded directories
* building ‘antiProfiles_1.29.0.tar.gz’