Back to Multiple platform build/check report for BioC 3.12
AB[C]DEFGHIJKLMNOPQRSTUVWXYZ

BUILD report for Chicago on tokay1

This page was generated on 2020-08-06 12:01:27 -0400 (Thu, 06 Aug 2020).

TO THE DEVELOPERS/MAINTAINERS OF THE Chicago PACKAGE: Please make sure to use the following settings in order to reproduce any error or warning you see on this page.
Package 267/1882HostnameOS / ArchINSTALLBUILDCHECKBUILD BIN
Chicago 1.17.0
Mikhail Spivakov
Snapshot Date: 2020-08-05 14:50:59 -0400 (Wed, 05 Aug 2020)
URL: https://git.bioconductor.org/packages/Chicago
Branch: master
Last Commit: 05d4c19
Last Changed Date: 2020-07-23 06:49:54 -0400 (Thu, 23 Jul 2020)
malbec1 Linux (Ubuntu 18.04.4 LTS) / x86_64  OK  OK  OK UNNEEDED, same version exists in internal repository
tokay1 Windows Server 2012 R2 Standard / x64  OK [ OK ] OK  OK UNNEEDED, same version exists in internal repository
merida1 macOS 10.14.6 Mojave / x86_64  OK  OK  OK  OK UNNEEDED, same version exists in internal repository

Summary

Package: Chicago
Version: 1.17.0
Command: chmod a+r Chicago -R && C:\Users\biocbuild\bbs-3.12-bioc\R\bin\R.exe CMD build --keep-empty-dirs --no-resave-data Chicago
StartedAt: 2020-08-05 20:57:35 -0400 (Wed, 05 Aug 2020)
EndedAt: 2020-08-05 21:00:18 -0400 (Wed, 05 Aug 2020)
EllapsedTime: 163.1 seconds
RetCode: 0
Status:  OK  
PackageFile: Chicago_1.17.0.tar.gz
PackageFileSize: 778.8 KiB

Command output

##############################################################################
##############################################################################
###
### Running command:
###
###   chmod a+r Chicago -R && C:\Users\biocbuild\bbs-3.12-bioc\R\bin\R.exe CMD build --keep-empty-dirs --no-resave-data Chicago
###
##############################################################################
##############################################################################


* checking for file 'Chicago/DESCRIPTION' ... OK
* preparing 'Chicago':
* checking DESCRIPTION meta-information ... OK
* installing the package to build vignettes
* creating vignettes ... OK
* checking for LF line-endings in source and make files and shell scripts
* checking for empty or unneeded directories
* looking to see if a 'data/datalist' file should be added
* building 'Chicago_1.17.0.tar.gz'