Back to Multiple platform build/check report for BioC 3.12
AB[C]DEFGHIJKLMNOPQRSTUVWXYZ

INSTALL report for CellTrails on malbec1

This page was generated on 2021-04-15 12:18:11 -0400 (Thu, 15 Apr 2021).

To the developers/maintainers of the CellTrails package:
Please make sure to use the following settings in order to reproduce any error or warning you see on this page.
Package 259/1974HostnameOS / ArchINSTALLBUILDCHECKBUILD BIN
CellTrails 1.8.0  (landing page)
Daniel Ellwanger
Snapshot Date: 2021-04-14 14:50:05 -0400 (Wed, 14 Apr 2021)
URL: https://git.bioconductor.org/packages/CellTrails
Branch: RELEASE_3_12
Last Commit: f0ce473
Last Changed Date: 2020-10-27 11:36:23 -0400 (Tue, 27 Oct 2020)
malbec1Linux (Ubuntu 18.04.5 LTS) / x86_64  OK    OK    OK  UNNEEDED, same version exists in internal repository
tokay1Windows Server 2012 R2 Standard / x64  OK    OK    OK    OK  UNNEEDED, same version exists in internal repository
merida1macOS 10.14.6 Mojave / x86_64  OK    OK    OK    OK  UNNEEDED, same version exists in internal repository

Summary

Package: CellTrails
Version: 1.8.0
Command: /home/biocbuild/bbs-3.12-bioc/R/bin/R CMD INSTALL CellTrails
StartedAt: 2021-04-14 16:34:45 -0400 (Wed, 14 Apr 2021)
EndedAt: 2021-04-14 16:35:21 -0400 (Wed, 14 Apr 2021)
EllapsedTime: 35.8 seconds
RetCode: 0
Status:   OK  

Command output

##############################################################################
##############################################################################
###
### Running command:
###
###   /home/biocbuild/bbs-3.12-bioc/R/bin/R CMD INSTALL CellTrails
###
##############################################################################
##############################################################################


* installing to library ‘/home/biocbuild/bbs-3.12-bioc/R/library’
* installing *source* package ‘CellTrails’ ...
** using staged installation
** R
** data
** inst
** byte-compile and prepare package for lazy loading
** help
*** installing help indices
** building package indices
** installing vignettes
** testing if installed package can be loaded from temporary location
** testing if installed package can be loaded from final location
** testing if installed package keeps a record of temporary installation path
* DONE (CellTrails)