Back to Multiple platform build/check report for BioC 3.12
A[B]CDEFGHIJKLMNOPQRSTUVWXYZ

BUILD report for BridgeDbR on merida1

This page was generated on 2020-08-11 11:56:48 -0400 (Tue, 11 Aug 2020).

TO THE DEVELOPERS/MAINTAINERS OF THE BridgeDbR PACKAGE: Please make sure to use the following settings in order to reproduce any error or warning you see on this page.
Package 200/1885HostnameOS / ArchINSTALLBUILDCHECKBUILD BIN
BridgeDbR 1.23.0
Egon Willighagen
Snapshot Date: 2020-08-10 14:50:56 -0400 (Mon, 10 Aug 2020)
URL: https://git.bioconductor.org/packages/BridgeDbR
Branch: master
Last Commit: ee9ccef
Last Changed Date: 2020-04-27 14:45:02 -0400 (Mon, 27 Apr 2020)
malbec1 Linux (Ubuntu 18.04.4 LTS) / x86_64  OK  OK  OK UNNEEDED, same version exists in internal repository
nebbiolo1 Linux (Ubuntu 20.04.1 LTS) / x86_64  OK  OK  NA 
tokay1 Windows Server 2012 R2 Standard / x64  ERROR  OK  ERROR  ERROR 
merida1 macOS 10.14.6 Mojave / x86_64  OK [ OK ] OK  OK UNNEEDED, same version exists in internal repository

Summary

Package: BridgeDbR
Version: 1.23.0
Command: /Library/Frameworks/R.framework/Versions/Current/Resources/bin/R CMD build --keep-empty-dirs --no-resave-data BridgeDbR
StartedAt: 2020-08-10 19:29:37 -0400 (Mon, 10 Aug 2020)
EndedAt: 2020-08-10 19:29:46 -0400 (Mon, 10 Aug 2020)
EllapsedTime: 8.8 seconds
RetCode: 0
Status:  OK 
PackageFile: BridgeDbR_1.23.0.tar.gz
PackageFileSize: 2.587 MiB

Command output

##############################################################################
##############################################################################
###
### Running command:
###
###   /Library/Frameworks/R.framework/Versions/Current/Resources/bin/R CMD build --keep-empty-dirs --no-resave-data BridgeDbR
###
##############################################################################
##############################################################################


* checking for file ‘BridgeDbR/DESCRIPTION’ ... OK
* preparing ‘BridgeDbR’:
* checking DESCRIPTION meta-information ... OK
* installing the package to build vignettes
* creating vignettes ... OK
* checking for LF line-endings in source and make files and shell scripts
* checking for empty or unneeded directories
* building ‘BridgeDbR_1.23.0.tar.gz’