Back to Multiple platform build/check report for BioC 3.12
A[B]CDEFGHIJKLMNOPQRSTUVWXYZ

BUILD BIN report for biomvRCNS on merida1

This page was generated on 2020-08-11 11:54:49 -0400 (Tue, 11 Aug 2020).

TO THE DEVELOPERS/MAINTAINERS OF THE biomvRCNS PACKAGE: Please make sure to use the following settings in order to reproduce any error or warning you see on this page.
Package 171/1885HostnameOS / ArchINSTALLBUILDCHECKBUILD BIN
biomvRCNS 1.29.0
Yang Du
Snapshot Date: 2020-08-10 14:50:56 -0400 (Mon, 10 Aug 2020)
URL: https://git.bioconductor.org/packages/biomvRCNS
Branch: master
Last Commit: a8eb7d4
Last Changed Date: 2020-04-27 14:33:11 -0400 (Mon, 27 Apr 2020)
malbec1 Linux (Ubuntu 18.04.4 LTS) / x86_64  OK  OK  OK UNNEEDED, same version exists in internal repository
nebbiolo1 Linux (Ubuntu 20.04.1 LTS) / x86_64  OK  OK  NA 
tokay1 Windows Server 2012 R2 Standard / x64  OK  OK  OK  OK UNNEEDED, same version exists in internal repository
merida1 macOS 10.14.6 Mojave / x86_64  OK  OK  OK [ OK ]UNNEEDED, same version exists in internal repository

Summary

Package: biomvRCNS
Version: 1.29.0
Command: rm -rf biomvRCNS.buildbin-libdir && mkdir biomvRCNS.buildbin-libdir && /Users/biocbuild/BBS/utils/build-universal.sh biomvRCNS_1.29.0.tar.gz /Library/Frameworks/R.framework/Versions/Current/Resources/bin/R biomvRCNS.buildbin-libdir
StartedAt: 2020-08-11 06:47:38 -0400 (Tue, 11 Aug 2020)
EndedAt: 2020-08-11 06:48:42 -0400 (Tue, 11 Aug 2020)
EllapsedTime: 64.2 seconds
RetCode: 0
Status:  OK 
PackageFile: biomvRCNS_1.29.0.tgz
PackageFileSize: 1.117 MiB

Command output

##############################################################################
##############################################################################
###
### Running command:
###
###   rm -rf biomvRCNS.buildbin-libdir && mkdir biomvRCNS.buildbin-libdir && /Users/biocbuild/BBS/utils/build-universal.sh biomvRCNS_1.29.0.tar.gz /Library/Frameworks/R.framework/Versions/Current/Resources/bin/R biomvRCNS.buildbin-libdir
###
##############################################################################
##############################################################################


>>>>>>> 
>>>>>>> INSTALLATION WITH 'R CMD INSTALL --preclean --no-multiarch --library=biomvRCNS.buildbin-libdir biomvRCNS_1.29.0.tar.gz'
>>>>>>> 

* installing *source* package ‘biomvRCNS’ ...
** using staged installation
** libs
clang -mmacosx-version-min=10.13 -I"/Library/Frameworks/R.framework/Resources/include" -DNDEBUG   -I/usr/local/include   -fPIC  -Wall -g -O2  -c biomvRCNS.c -o biomvRCNS.o
clang -mmacosx-version-min=10.13 -dynamiclib -Wl,-headerpad_max_install_names -undefined dynamic_lookup -single_module -multiply_defined suppress -L/Library/Frameworks/R.framework/Resources/lib -L/usr/local/lib -o biomvRCNS.so biomvRCNS.o -F/Library/Frameworks/R.framework/.. -framework R -Wl,-framework -Wl,CoreFoundation
installing to /Users/biocbuild/bbs-3.12-bioc/meat/biomvRCNS.buildbin-libdir/00LOCK-biomvRCNS/00new/biomvRCNS/libs
** R
** data
** inst
** byte-compile and prepare package for lazy loading
** help
*** installing help indices
** building package indices
** installing vignettes
** testing if installed package can be loaded from temporary location
** checking absolute paths in shared objects and dynamic libraries
** testing if installed package can be loaded from final location
** testing if installed package keeps a record of temporary installation path
* DONE (biomvRCNS)


>>>>>>> 
>>>>>>> FIXING LINKS FOR biomvRCNS.buildbin-libdir/biomvRCNS/libs/biomvRCNS.so
>>>>>>> 

install_name_tool -change "/usr/local/lib/libgcc_s.1.dylib" "/Library/Frameworks/R.framework/Versions/4.0/Resources/lib/libgcc_s.1.dylib" "biomvRCNS.buildbin-libdir/biomvRCNS/libs/biomvRCNS.so"
install_name_tool -change "/usr/local/lib/libgfortran.5.dylib" "/Library/Frameworks/R.framework/Versions/4.0/Resources/lib/libgfortran.5.dylib" "biomvRCNS.buildbin-libdir/biomvRCNS/libs/biomvRCNS.so"
install_name_tool -change "/usr/local/lib/libquadmath.0.dylib" "/Library/Frameworks/R.framework/Versions/4.0/Resources/lib/libquadmath.0.dylib" "biomvRCNS.buildbin-libdir/biomvRCNS/libs/biomvRCNS.so"