Back to Multiple platform build/check report for BioC 3.12
A[B]CDEFGHIJKLMNOPQRSTUVWXYZ

INSTALL report for BRAIN on tokay1

This page was generated on 2020-08-06 11:54:21 -0400 (Thu, 06 Aug 2020).

TO THE DEVELOPERS/MAINTAINERS OF THE BRAIN PACKAGE: Please make sure to use the following settings in order to reproduce any error or warning you see on this page.
Package 191/1882HostnameOS / ArchINSTALLBUILDCHECKBUILD BIN
BRAIN 1.35.0
Piotr Dittwald
Snapshot Date: 2020-08-05 14:50:59 -0400 (Wed, 05 Aug 2020)
URL: https://git.bioconductor.org/packages/BRAIN
Branch: master
Last Commit: cf2d9e9
Last Changed Date: 2020-04-27 14:28:46 -0400 (Mon, 27 Apr 2020)
malbec1 Linux (Ubuntu 18.04.4 LTS) / x86_64  OK  OK  WARNINGS UNNEEDED, same version exists in internal repository
tokay1 Windows Server 2012 R2 Standard / x64 [ OK ] OK  WARNINGS  OK UNNEEDED, same version exists in internal repository
merida1 macOS 10.14.6 Mojave / x86_64  OK  OK  WARNINGS  OK UNNEEDED, same version exists in internal repository

Summary

Package: BRAIN
Version: 1.35.0
Command: C:\cygwin\bin\curl.exe -O https://malbec1.bioconductor.org/BBS/3.12/bioc/src/contrib/BRAIN_1.35.0.tar.gz && rm -rf BRAIN.buildbin-libdir && mkdir BRAIN.buildbin-libdir && C:\Users\biocbuild\bbs-3.12-bioc\R\bin\R.exe CMD INSTALL --merge-multiarch --build --library=BRAIN.buildbin-libdir BRAIN_1.35.0.tar.gz && C:\Users\biocbuild\bbs-3.12-bioc\R\bin\R.exe CMD INSTALL BRAIN_1.35.0.zip && rm BRAIN_1.35.0.tar.gz BRAIN_1.35.0.zip
StartedAt: 2020-08-05 17:10:03 -0400 (Wed, 05 Aug 2020)
EndedAt: 2020-08-05 17:10:58 -0400 (Wed, 05 Aug 2020)
EllapsedTime: 55.6 seconds
RetCode: 0
Status:  OK  

Command output

##############################################################################
##############################################################################
###
### Running command:
###
###   C:\cygwin\bin\curl.exe -O https://malbec1.bioconductor.org/BBS/3.12/bioc/src/contrib/BRAIN_1.35.0.tar.gz && rm -rf BRAIN.buildbin-libdir && mkdir BRAIN.buildbin-libdir && C:\Users\biocbuild\bbs-3.12-bioc\R\bin\R.exe CMD INSTALL --merge-multiarch --build --library=BRAIN.buildbin-libdir BRAIN_1.35.0.tar.gz && C:\Users\biocbuild\bbs-3.12-bioc\R\bin\R.exe CMD INSTALL BRAIN_1.35.0.zip && rm BRAIN_1.35.0.tar.gz BRAIN_1.35.0.zip
###
##############################################################################
##############################################################################


  % Total    % Received % Xferd  Average Speed   Time    Time     Time  Current
                                 Dload  Upload   Total   Spent    Left  Speed

  0     0    0     0    0     0      0      0 --:--:-- --:--:-- --:--:--     0
  0 1756k    0     0    0     0      0      0 --:--:-- --:--:-- --:--:--     0
100 1756k  100 1756k    0     0  33.3M      0 --:--:-- --:--:-- --:--:-- 35.0M

install for i386

* installing *source* package 'BRAIN' ...
** using staged installation
** R
** inst
** byte-compile and prepare package for lazy loading
** help
*** installing help indices
  converting help for package 'BRAIN'
    finding HTML links ... done
    BRAIN-package                           html  
    calculateAverageMass                    html  
    calculateIsotopicProbabilities          html  
    calculateMonoisotopicMass               html  
    calculateNrPeaks                        html  
    getAtomsFromSeq                         html  
    useBRAIN                                html  
    useBRAIN2                               html  
** building package indices
** installing vignettes
** testing if installed package can be loaded from temporary location
** testing if installed package can be loaded from final location
** testing if installed package keeps a record of temporary installation path

install for x64

* installing *source* package 'BRAIN' ...
** testing if installed package can be loaded
* MD5 sums
packaged installation of 'BRAIN' as BRAIN_1.35.0.zip
* DONE (BRAIN)
* installing to library 'C:/Users/biocbuild/bbs-3.12-bioc/R/library'
package 'BRAIN' successfully unpacked and MD5 sums checked