Back to Multiple platform build/check report for BioC 3.12
ABCDEFGHIJKL[M]NOPQRSTUVWXYZ

Multiple platform build/check report for BioC 3.12

Results for MOFA

This page was generated on 2021-01-19 11:51:13 -0500 (Tue, 19 Jan 2021).

Package 1133/1974HostnameOS / ArchINSTALLBUILDCHECKBUILD BIN
MOFA 1.6.1
Britta Velten
Snapshot Date: 2021-01-18 14:42:24 -0500 (Mon, 18 Jan 2021)
URL: https://git.bioconductor.org/packages/MOFA
Branch: RELEASE_3_12
Last Commit: d50ed60
Last Changed Date: 2020-10-28 10:42:35 -0500 (Wed, 28 Oct 2020)
malbec1 Linux (Ubuntu 18.04.5 LTS) / x86_64  OK  OK  WARNINGS UNNEEDED, same version exists in internal repository
nebbiolo1 Linux (Ubuntu 20.04.1 LTS) / x86_64  OK  OK  WARNINGS 
tokay1 Windows Server 2012 R2 Standard / x64  OK  OK  WARNINGS  OK UNNEEDED, same version exists in internal repository
merida1 macOS 10.14.6 Mojave / x86_64  OK  OK  WARNINGS  OK UNNEEDED, same version exists in internal repository