Back to Multiple platform build/check report for BioC 3.12

Results for merida1

This page was generated on 2020-08-09 12:51:21 -0400 (Sun, 09 Aug 2020).

Package status is indicated by one of the following glyphs
 TIMEOUT  INSTALL, BUILD, CHECK or BUILD BIN of package took more than 40 minutes Use the check boxes to show only packages with the selected status types.
 ERROR  Bad DESCRIPTION file or INSTALL, BUILD or BUILD BIN of package failed, or CHECK produced errors
 WARNINGS  CHECK of package produced warnings
 OK  INSTALL, BUILD, CHECK or BUILD BIN of package was OK
 skipped  CHECK or BUILD BIN of package was skipped because the BUILD step failed
 NA  BUILD, CHECK or BUILD BIN result is not available because of an anomaly in the Build System
Click on any glyph in the report below to access the detailed results.
Package propagation status is indicated by one of the following LEDs
YES YES: Package was propagated because it didn't previously exist or version was bumped
NO NO: Package was not propagated because of a problem (impossible dependencies, or version lower than what is already propagated)
UNNEEDED UNNEEDED: Package was not propagated because it is already in the repository with this version. A version bump is required in order to propagate it

A crossed-out package name indicates the package is deprecated


SUMMARYOS / ArchINSTALLBUILDCHECKBUILD BIN
malbec1 Linux (Ubuntu 18.04.4 LTS) / x86_64 
0491832
0961785
0582741453
nebbiolo1 Linux (Ubuntu 20.04.1 LTS) / x86_64 
0591822
01371744
1672731403
tokay1 Windows Server 2012 R2 Standard / x64 
0711783
11021751
7923881264
0231728
[merida1] macOS 10.14.6 Mojave / x86_64 
0591814
01211752
0592721421
011751
A
ABCDEFGHIJKLMNOPQRSTUVWXYZ
PackageMaintainerINSTALLBUILDCHECKBUILD BIN
1/1882a4 1.37.0Tobias Verbeke OK  ERROR  skipped  skipped 
2/1882a4Base 1.37.0Tobias Verbeke OK  OK  WARNINGS  OK UNNEEDED, same version exists in internal repository
3/1882a4Classif 1.37.0Tobias Verbeke OK  OK  OK  OK UNNEEDED, same version exists in internal repository
4/1882a4Core 1.37.0Tobias Verbeke OK  OK  OK  OK UNNEEDED, same version exists in internal repository
5/1882a4Preproc 1.37.0Tobias Verbeke OK  OK  OK  OK UNNEEDED, same version exists in internal repository
6/1882a4Reporting 1.37.0Tobias Verbeke OK  OK  WARNINGS  OK UNNEEDED, same version exists in internal repository
7/1882ABAEnrichment 1.19.0Steffi Grote OK  OK  OK  OK UNNEEDED, same version exists in internal repository
8/1882ABarray 1.57.0Yongming Andrew Sun OK  OK  OK  OK UNNEEDED, same version exists in internal repository
9/1882abseqR 1.7.0JiaHong Fong OK  OK  OK  OK UNNEEDED, same version exists in internal repository
10/1882ABSSeq 1.43.0Wentao Yang OK  OK  OK  OK UNNEEDED, same version exists in internal repository
11/1882acde 1.19.0Juan Pablo Acosta OK  OK  OK  OK UNNEEDED, same version exists in internal repository
12/1882ACE 1.7.0Jos B Poell OK  OK  OK  OK UNNEEDED, same version exists in internal repository
13/1882aCGH 1.67.0Peter Dimitrov OK  OK  OK  OK UNNEEDED, same version exists in internal repository
14/1882ACME 2.45.0Sean Davis OK  OK  OK  OK UNNEEDED, same version exists in internal repository
15/1882ADaCGH2 2.29.0Ramon Diaz-Uriarte ERROR  ERROR  skipped  skipped 
16/1882ADAM 1.5.0Jose Luiz Rybarczyk Filho OK  OK  OK  OK UNNEEDED, same version exists in internal repository
17/1882ADAMgui 1.5.0Jose Luiz Rybarczyk Filho OK  OK  OK  OK UNNEEDED, same version exists in internal repository
18/1882adaptest 1.9.1Weixin Cai ERROR  ERROR  skipped  skipped 
19/1882adductomicsR 1.5.0Josie Hayes OK  OK  WARNINGS  OK UNNEEDED, same version exists in internal repository
20/1882adSplit 1.59.0Claudio Lottaz OK  OK  WARNINGS  OK UNNEEDED, same version exists in internal repository
21/1882AffiXcan 1.7.0Alessandro Lussana OK  OK  OK  OK UNNEEDED, same version exists in internal repository
22/1882affxparser 1.61.0Kasper Daniel Hansen OK  OK  WARNINGS  OK UNNEEDED, same version exists in internal repository
23/1882affy 1.67.0Rafael A. Irizarry OK  OK  WARNINGS  OK UNNEEDED, same version exists in internal repository
24/1882affycomp 1.65.0Rafael A. Irizarry OK  OK  OK  OK UNNEEDED, same version exists in internal repository
25/1882AffyCompatible 1.49.0Martin Morgan OK  OK  OK  OK UNNEEDED, same version exists in internal repository
26/1882affyContam 1.47.0V. Carey OK  OK  OK  OK UNNEEDED, same version exists in internal repository
27/1882affycoretools 1.61.2James W. MacDonald OK  OK  OK  OK UNNEEDED, same version exists in internal repository
28/1882AffyExpress 1.55.0Xuejun Arthur Li OK  OK  OK  OK UNNEEDED, same version exists in internal repository
29/1882affyILM 1.41.0Myriam Kroll and Fabrice Berger OK  OK  OK  OK UNNEEDED, same version exists in internal repository
30/1882affyio 1.59.0Ben Bolstad OK  OK  OK  OK UNNEEDED, same version exists in internal repository
31/1882affylmGUI 1.63.0Gordon Smyth OK  OK  OK  OK UNNEEDED, same version exists in internal repository
32/1882affyPara 1.49.0Markus Schmidberger OK  OK  OK  OK UNNEEDED, same version exists in internal repository
33/1882affyPLM 1.65.0Ben Bolstad OK  OK  OK  OK UNNEEDED, same version exists in internal repository
34/1882affyQCReport 1.67.0Craig Parman OK  OK  OK  OK UNNEEDED, same version exists in internal repository
35/1882AffyRNADegradation 1.35.0Mario Fasold OK  OK  OK  OK UNNEEDED, same version exists in internal repository
36/1882AGDEX 1.37.0Cuilan lani Gao OK  OK  OK  OK UNNEEDED, same version exists in internal repository
37/1882agilp 3.21.0Benny Chain OK  OK  OK  OK UNNEEDED, same version exists in internal repository
38/1882AgiMicroRna 2.39.0Pedro Lopez-Romero OK  OK  OK  OK UNNEEDED, same version exists in internal repository
39/1882AIMS 1.21.0Eric R Paquet OK  OK  OK  OK UNNEEDED, same version exists in internal repository
40/1882ALDEx2 1.21.1Greg Gloor OK  OK  OK  OK UNNEEDED, same version exists in internal repository
41/1882alevinQC 1.5.1Charlotte Soneson OK  OK  OK  OK UNNEEDED, same version exists in internal repository
42/1882AllelicImbalance 1.27.0Jesper R Gadin OK  OK  OK  OK UNNEEDED, same version exists in internal repository
43/1882AlphaBeta 1.3.3Yadollah Shahryary Dizaji OK  OK  OK  OK UNNEEDED, same version exists in internal repository
44/1882alpine 1.15.0Michael Love OK  OK  OK  OK UNNEEDED, same version exists in internal repository
45/1882ALPS 1.3.0Venu Thatikonda OK  OK  OK  OK UNNEEDED, same version exists in internal repository
46/1882alsace 1.25.0Ron Wehrens OK  OK  OK  OK UNNEEDED, same version exists in internal repository
47/1882altcdfenvs 2.51.0Laurent Gautier OK  OK  OK  OK UNNEEDED, same version exists in internal repository
48/1882AMARETTO 1.5.0Olivier Gevaert OK  OK  OK  OK UNNEEDED, same version exists in internal repository
49/1882AMOUNTAIN 1.15.0Dong Li OK  OK  OK  OK UNNEEDED, same version exists in internal repository
50/1882amplican 1.11.1Eivind Valen OK  OK  OK  OK UNNEEDED, same version exists in internal repository
51/1882Anaquin 2.13.0Ted Wong OK  OK  OK  OK UNNEEDED, same version exists in internal repository
52/1882AneuFinder 1.17.0Aaron Taudt OK  OK  OK  OK UNNEEDED, same version exists in internal repository
53/1882ANF 1.11.0Tianle Ma OK  OK  OK  OK UNNEEDED, same version exists in internal repository
54/1882animalcules 1.5.1Yue Zhao OK  OK  OK  OK UNNEEDED, same version exists in internal repository
55/1882annaffy 1.61.0Colin A. Smith OK  OK  WARNINGS  OK UNNEEDED, same version exists in internal repository
56/1882annmap 1.31.0Chris Wirth OK  OK  WARNINGS  OK UNNEEDED, same version exists in internal repository
57/1882annotate 1.67.0Bioconductor Package Maintainer OK  OK  OK  OK UNNEEDED, same version exists in internal repository
58/1882AnnotationDbi 1.51.3Bioconductor Package Maintainer OK  OK  OK  OK UNNEEDED, same version exists in internal repository
59/1882AnnotationFilter 1.13.0Bioconductor Package Maintainer OK  OK  OK  OK UNNEEDED, same version exists in internal repository
60/1882AnnotationForge 1.31.2Bioconductor Package Maintainer OK  OK  OK  OK UNNEEDED, same version exists in internal repository
61/1882AnnotationFuncs 1.39.0Stefan McKinnon Edwards OK  OK  OK  OK UNNEEDED, same version exists in internal repository
62/1882AnnotationHub 2.21.2Bioconductor Package Maintainer OK  OK  WARNINGS  OK UNNEEDED, same version exists in internal repository
63/1882AnnotationHubData 1.19.3Bioconductor Package Maintainer OK  OK  WARNINGS  OK UNNEEDED, same version exists in internal repository
64/1882annotationTools 1.63.0Alexandre Kuhn OK  OK  OK  OK UNNEEDED, same version exists in internal repository
65/1882annotatr 1.15.2Raymond G. Cavalcante OK  OK  OK  OK UNNEEDED, same version exists in internal repository
66/1882anota 1.37.0Ola Larsson OK  OK  OK  OK UNNEEDED, same version exists in internal repository
67/1882anota2seq 1.11.0Christian Oertlin , Julie Lorent OK  OK  OK  OK UNNEEDED, same version exists in internal repository
68/1882antiProfiles 1.29.0Hector Corrada Bravo OK  OK  OK  OK UNNEEDED, same version exists in internal repository
69/1882AnVIL 1.1.14Martin Morgan OK  OK  OK  OK UNNEEDED, same version exists in internal repository
70/1882APAlyzer 1.3.3Ruijia Wang OK  OK  OK  OK UNNEEDED, same version exists in internal repository
71/1882apComplex 2.55.0Denise Scholtens OK  OK  OK  OK UNNEEDED, same version exists in internal repository
72/1882apeglm 1.11.1Anqi Zhu OK  OK  OK  OK UNNEEDED, same version exists in internal repository
73/1882appreci8R 1.7.0Sarah Sandmann OK  OK  OK  OK UNNEEDED, same version exists in internal repository
74/1882aroma.light 3.19.0Henrik Bengtsson OK  OK  OK  OK UNNEEDED, same version exists in internal repository
75/1882ArrayExpress 1.49.0Suhaib Mohammed ERROR  ERROR  skipped  skipped 
76/1882ArrayExpressHTS 1.39.1Angela Goncalves , Andrew Tikhonov OK  OK  OK  OK UNNEEDED, same version exists in internal repository
77/1882arrayMvout 1.47.0V. Carey OK  OK  OK  OK UNNEEDED, same version exists in internal repository
78/1882arrayQuality 1.67.0Agnes Paquet OK  OK  WARNINGS  OK UNNEEDED, same version exists in internal repository
79/1882arrayQualityMetrics 3.45.0Mike Smith OK  OK  OK  OK UNNEEDED, same version exists in internal repository
80/1882ArrayTools 1.49.0Arthur Li OK  OK  OK  OK UNNEEDED, same version exists in internal repository
81/1882ArrayTV 1.27.1Eitan Halper-Stromberg OK  ERROR  skipped  skipped 
82/1882ARRmNormalization 1.29.0Jean-Philippe Fortin OK  OK  OK  OK UNNEEDED, same version exists in internal repository
83/1882artMS 1.7.5David Jimenez-Morales OK  OK  WARNINGS  OK UNNEEDED, same version exists in internal repository
84/1882ASAFE 1.15.0Qian Zhang OK  OK  OK  OK UNNEEDED, same version exists in internal repository
85/1882ASEB 1.33.0Likun Wang OK  OK  OK  OK UNNEEDED, same version exists in internal repository
86/1882ASGSCA 1.23.0Hela Romdhani OK  OK  OK  OK UNNEEDED, same version exists in internal repository
87/1882ASICS 2.5.3Gaëlle Lefort OK  OK  WARNINGS  OK UNNEEDED, same version exists in internal repository
88/1882ASpediaFI 1.3.0Doyeong Yu OK  OK  OK  OK UNNEEDED, same version exists in internal repository
89/1882ASpli 1.99.2Estefania Mancini OK  OK  OK  OK UNNEEDED, same version exists in internal repository
90/1882AssessORF 1.7.0Deepank Korandla OK  OK  OK  OK UNNEEDED, same version exists in internal repository
91/1882ASSET 2.7.0Samsiddhi Bhattacharjee OK  OK  WARNINGS  OK UNNEEDED, same version exists in internal repository
92/1882ASSIGN 1.25.0Ying Shen , W. Evan Johnson OK  OK  OK  OK UNNEEDED, same version exists in internal repository
93/1882ATACseqQC 1.13.3Jianhong Ou OK  OK  OK  OK UNNEEDED, same version exists in internal repository
94/1882atSNP 1.5.0Sunyoung Shin OK  OK  OK  OK UNNEEDED, same version exists in internal repository
95/1882attract 1.41.0Samuel Zimmerman OK  OK  OK  OK UNNEEDED, same version exists in internal repository
96/1882AUCell 1.11.0Sara Aibar OK  OK  OK  OK UNNEEDED, same version exists in internal repository
97/1882Autotuner 1.3.0Craig McLean OK  OK  OK  OK UNNEEDED, same version exists in internal repository
98/1882AWFisher 1.3.0Zhiguang Huo OK  OK  OK  OK UNNEEDED, same version exists in internal repository
B
ABCDEFGHIJKLMNOPQRSTUVWXYZ
PackageMaintainerINSTALLBUILDCHECKBUILD BIN
99/1882BaalChIP 1.15.0Ines de Santiago OK  OK  WARNINGS  OK UNNEEDED, same version exists in internal repository
100/1882BAC 1.49.0Raphael Gottardo OK  OK  OK  OK UNNEEDED, same version exists in internal repository
101/1882bacon 1.17.0Maarten van Iterson OK  OK  OK  OK UNNEEDED, same version exists in internal repository
102/1882BADER 1.27.0Andreas Neudecker OK  OK  OK  OK UNNEEDED, same version exists in internal repository
103/1882BadRegionFinder 1.17.0Sarah Sandmann OK  OK  OK  OK UNNEEDED, same version exists in internal repository
104/1882BAGS 2.29.0Alejandro Quiroz-Zarate OK  OK  OK  OK UNNEEDED, same version exists in internal repository
105/1882ballgown 2.21.0Jack Fu OK  OK  OK  OK UNNEEDED, same version exists in internal repository
106/1882bamsignals 1.21.1Johannes Helmuth OK  OK  OK  OK UNNEEDED, same version exists in internal repository
107/1882BANDITS 1.5.1Simone Tiberi OK  OK  OK  OK UNNEEDED, same version exists in internal repository
108/1882banocc 1.13.0George Weingart OK  OK  OK  OK UNNEEDED, same version exists in internal repository
109/1882basecallQC 1.13.0Thomas Carroll OK  OK  OK  OK UNNEEDED, same version exists in internal repository
110/1882BaseSpaceR 1.33.0Jared O'Connell OK  OK  OK  OK UNNEEDED, same version exists in internal repository
111/1882Basic4Cseq 1.25.0Carolin Walter OK  OK  OK  OK UNNEEDED, same version exists in internal repository
112/1882BASiCS 2.1.6Catalina Vallejos OK  OK  OK  OK UNNEEDED, same version exists in internal repository
113/1882BasicSTARRseq 1.17.0Annika Buerger OK  OK  OK  OK UNNEEDED, same version exists in internal repository
114/1882basilisk 1.1.9Aaron Lun OK  OK  OK  OK UNNEEDED, same version exists in internal repository
115/1882basilisk.utils 1.1.7Aaron Lun OK  OK  OK  OK UNNEEDED, same version exists in internal repository
116/1882batchelor 1.5.2Aaron Lun OK  OK  OK  OK UNNEEDED, same version exists in internal repository
117/1882BatchQC 1.17.2Solaiappan Manimaran OK  OK  OK  OK UNNEEDED, same version exists in internal repository
118/1882BayesKnockdown 1.15.0William Chad Young OK  OK  OK  OK UNNEEDED, same version exists in internal repository
119/1882bayNorm 1.7.0Wenhao Tang OK  OK  OK  OK UNNEEDED, same version exists in internal repository
120/1882baySeq 2.23.0Thomas J. Hardcastle OK  OK  OK  OK UNNEEDED, same version exists in internal repository
121/1882BBCAnalyzer 1.19.0Sarah Sandmann OK  OK  OK  OK UNNEEDED, same version exists in internal repository
122/1882BCRANK 1.51.0Adam Ameur OK  OK  OK  OK UNNEEDED, same version exists in internal repository
123/1882bcSeq 1.11.0Jiaxing Lin OK  OK  OK  OK UNNEEDED, same version exists in internal repository
124/1882BDMMAcorrect 1.7.0ZHENWEI DAI OK  OK  OK  OK UNNEEDED, same version exists in internal repository
125/1882beachmat 2.5.1Aaron Lun OK  OK  OK  OK UNNEEDED, same version exists in internal repository
126/1882beadarray 2.39.0Mark Dunning OK  OK  OK  OK UNNEEDED, same version exists in internal repository
127/1882beadarraySNP 1.55.0Jan Oosting OK  OK  OK  OK UNNEEDED, same version exists in internal repository
128/1882BeadDataPackR 1.41.0Mike Smith OK  OK  OK  OK UNNEEDED, same version exists in internal repository
129/1882BEARscc 1.9.1Benjamin Schuster-Boeckler OK  OK  OK  OK UNNEEDED, same version exists in internal repository
130/1882BEAT 1.27.0Kemal Akman OK  OK  OK  OK UNNEEDED, same version exists in internal repository
131/1882BEclear 2.5.0David Rasp OK  OK  WARNINGS  OK UNNEEDED, same version exists in internal repository
132/1882BgeeCall 1.5.3Julien Wollbrett OK  OK  WARNINGS  OK UNNEEDED, same version exists in internal repository
133/1882BgeeDB 2.15.4Julien Wollbrett , Julien Roux , Andrea Komljenovic , Frederic Bastian OK  OK  OK  OK UNNEEDED, same version exists in internal repository
134/1882BGmix 1.49.0Alex Lewin OK  OK  OK  OK UNNEEDED, same version exists in internal repository
135/1882bgx 1.55.0Ernest Turro OK  OK  WARNINGS  OK UNNEEDED, same version exists in internal repository
136/1882BHC 1.41.0Rich Savage OK  OK  OK  OK UNNEEDED, same version exists in internal repository
137/1882BicARE 1.47.0Pierre Gestraud OK  OK  OK  OK UNNEEDED, same version exists in internal repository
138/1882BiFET 1.9.0Ahrim Youn OK  OK  OK  OK UNNEEDED, same version exists in internal repository
139/1882BiGGR 1.25.0Anand K. Gavai ERROR  ERROR  skipped  skipped 
140/1882bigmelon 1.15.0Tyler J. Gorrie-Stone OK  OK  OK  OK UNNEEDED, same version exists in internal repository
141/1882bigmemoryExtras 1.37.0Peter M. Haverty OK  OK  WARNINGS  OK UNNEEDED, same version exists in internal repository
142/1882bigPint 1.5.0Lindsay Rutter OK  OK  OK  OK UNNEEDED, same version exists in internal repository
143/1882bioassayR 1.27.0Tyler Backman OK  OK  OK  OK UNNEEDED, same version exists in internal repository
144/1882Biobase 2.49.0Bioconductor Package Maintainer OK  OK  OK  OK UNNEEDED, same version exists in internal repository
145/1882biobroom 1.21.0John D. Storey and Andrew J. Bass OK  OK  OK  OK UNNEEDED, same version exists in internal repository
146/1882biobtreeR 1.1.0Tamer Gur OK  OK  OK  OK UNNEEDED, same version exists in internal repository
147/1882bioCancer 1.17.0Karim Mezhoud OK  OK  WARNINGS  OK UNNEEDED, same version exists in internal repository
148/1882BiocCaseStudies 1.51.0Bioconductor Package Maintainer OK  OK  OK  OK UNNEEDED, same version exists in internal repository
149/1882BiocCheck 1.25.4Bioconductor Package Maintainer OK  OK  OK  OK UNNEEDED, same version exists in internal repository
150/1882BiocDockerManager 1.1.2Maintainer OK  OK  OK  OK UNNEEDED, same version exists in internal repository
151/1882BiocFileCache 1.13.1Lori Shepherd OK  OK  OK  OK UNNEEDED, same version exists in internal repository
152/1882BiocGenerics 0.35.4Bioconductor Package Maintainer OK  OK  WARNINGS  OK UNNEEDED, same version exists in internal repository
153/1882biocGraph 1.51.0Florian Hahne OK  OK  OK  OK UNNEEDED, same version exists in internal repository
154/1882BiocNeighbors 1.7.0Aaron Lun OK  OK  OK  OK UNNEEDED, same version exists in internal repository
155/1882BiocOncoTK 1.9.0VJ Carey OK  OK  OK  OK UNNEEDED, same version exists in internal repository
156/1882BioCor 1.13.0Lluís Revilla Sancho OK  OK  OK  OK UNNEEDED, same version exists in internal repository
157/1882BiocParallel 1.23.2Bioconductor Package Maintainer OK  OK  OK  OK UNNEEDED, same version exists in internal repository
158/1882BiocPkgTools 1.7.0Sean Davis OK  OK  OK  OK UNNEEDED, same version exists in internal repository
159/1882BiocSet 1.3.3Kayla Morrell OK  OK  OK  OK UNNEEDED, same version exists in internal repository
160/1882BiocSingular 1.5.0Aaron Lun OK  OK  OK  OK UNNEEDED, same version exists in internal repository
161/1882BiocSklearn 1.11.5VJ Carey OK  OK  OK  OK UNNEEDED, same version exists in internal repository
162/1882BiocStyle 2.17.0Bioconductor Package Maintainer OK  OK  OK  OK UNNEEDED, same version exists in internal repository
163/1882BiocVersion 3.12.0Bioconductor Package Maintainer OK  OK  OK  OK UNNEEDED, same version exists in internal repository
164/1882biocViews 1.57.3Bioconductor Package Maintainer OK  OK  OK  OK UNNEEDED, same version exists in internal repository
165/1882BiocWorkflowTools 1.15.0Mike Smith OK  OK  OK  OK UNNEEDED, same version exists in internal repository
166/1882bioDist 1.61.0Bioconductor Package Maintainer OK  OK  OK  OK UNNEEDED, same version exists in internal repository
167/1882biomaRt 2.45.2Mike Smith OK  OK  OK  OK UNNEEDED, same version exists in internal repository
168/1882biomformat 1.17.0Paul J. McMurdie OK  OK  WARNINGS  OK UNNEEDED, same version exists in internal repository
169/1882BioMM 1.5.2Junfang Chen OK  OK  OK  OK UNNEEDED, same version exists in internal repository
170/1882BioMVCClass 1.57.0Elizabeth Whalen OK  OK  OK  OK UNNEEDED, same version exists in internal repository
171/1882biomvRCNS 1.29.0Yang Du OK  OK  OK  OK UNNEEDED, same version exists in internal repository
172/1882BioNet 1.49.1Marcus Dittrich OK  ERROR  skipped  skipped 
173/1882BioNetStat 1.9.4Vinicius Jardim OK  OK  OK  OK UNNEEDED, same version exists in internal repository
174/1882BioQC 1.17.1Jitao David Zhang OK  OK  OK  OK UNNEEDED, same version exists in internal repository
175/1882BioSeqClass 1.47.1Li Hong OK  ERROR  skipped  skipped 
176/1882biosigner 1.17.0Philippe Rinaudo , Etienne Thevenot OK  OK  WARNINGS  OK UNNEEDED, same version exists in internal repository
177/1882Biostrings 2.57.2H. Pagès OK  OK  WARNINGS  OK UNNEEDED, same version exists in internal repository
178/1882BioTIP 1.3.0Zhezhen Wang , X Holly Yang < xyang2@uchicago> and Yuxi (Jennifer) Sun OK  ERROR  skipped  skipped 
179/1882biotmle 1.13.0Nima Hejazi OK  OK  OK  OK UNNEEDED, same version exists in internal repository
180/1882biovizBase 1.37.0Michael Lawrence OK  OK  WARNINGS  OK UNNEEDED, same version exists in internal repository
181/1882BiRewire 3.21.0Andrea Gobbi OK  OK  OK  OK UNNEEDED, same version exists in internal repository
182/1882biscuiteer 1.3.0"Jacob Morrison" OK  OK  WARNINGS  OK UNNEEDED, same version exists in internal repository
183/1882BiSeq 1.29.0Katja Hebestreit OK  OK  OK  OK UNNEEDED, same version exists in internal repository
184/1882BitSeq 1.33.1Antti Honkela , Panagiotis Papastamoulis OK  OK  WARNINGS  OK UNNEEDED, same version exists in internal repository
185/1882blacksheepr 1.3.0RugglesLab OK  OK  OK  OK UNNEEDED, same version exists in internal repository
186/1882blima 1.23.0Vojtěch Kulvait OK  OK  WARNINGS  OK UNNEEDED, same version exists in internal repository
187/1882BLMA 1.13.3Hung Nguyen OK  OK  OK  OK UNNEEDED, same version exists in internal repository
188/1882bluster 0.99.1Aaron Lun OK  OK  OK  OK UNNEEDED, same version exists in internal repository
189/1882bnbc 1.11.0Kipper Fletez-Brant OK  OK  OK  OK UNNEEDED, same version exists in internal repository
190/1882BPRMeth 1.15.3Chantriolnt-Andreas Kapourani OK  OK  OK  OK UNNEEDED, same version exists in internal repository
191/1882BRAIN 1.35.0Piotr Dittwald OK  OK  WARNINGS  OK UNNEEDED, same version exists in internal repository
192/1882brainflowprobes 1.3.1Amanda Price OK  OK  OK  OK UNNEEDED, same version exists in internal repository
193/1882BrainSABER 0.99.4USD Biomedical Engineering OK  OK  OK  OK UNNEEDED, same version exists in internal repository
194/1882BrainStars 1.33.0Itoshi NIKAIDO OK  OK  OK  OK UNNEEDED, same version exists in internal repository
195/1882branchpointer 1.15.0Beth Signal OK  OK  OK  OK UNNEEDED, same version exists in internal repository
196/1882breakpointR 1.7.1David Porubsky OK  OK  OK  OK UNNEEDED, same version exists in internal repository
197/1882brendaDb 1.3.0Yi Zhou OK  OK  OK  OK UNNEEDED, same version exists in internal repository
198/1882BRGenomics 1.1.2Mike DeBerardine OK  OK  OK  OK UNNEEDED, same version exists in internal repository
199/1882bridge 1.53.0Raphael Gottardo OK  OK  OK  OK UNNEEDED, same version exists in internal repository
200/1882BridgeDbR 1.23.0Egon Willighagen OK  OK  OK  OK UNNEEDED, same version exists in internal repository
201/1882BrowserViz 2.11.0Paul Shannon OK  OK  OK  OK UNNEEDED, same version exists in internal repository
202/1882BSgenome 1.57.5H. Pagès OK  OK  WARNINGS  OK UNNEEDED, same version exists in internal repository
203/1882bsseq 1.25.5Kasper Daniel Hansen OK  OK  WARNINGS  OK UNNEEDED, same version exists in internal repository
204/1882BubbleTree 2.19.0Todd Creasy , Wei Zhu OK  OK  OK  OK UNNEEDED, same version exists in internal repository
205/1882BufferedMatrix 1.53.0Ben Bolstad OK  OK  OK  OK UNNEEDED, same version exists in internal repository
206/1882BufferedMatrixMethods 1.53.0Ben Bolstad OK  OK  OK  OK UNNEEDED, same version exists in internal repository
207/1882BUMHMM 1.13.0Alina Selega OK  OK  OK  OK UNNEEDED, same version exists in internal repository
208/1882bumphunter 1.31.0Rafael A. Irizarry OK  OK  OK  OK UNNEEDED, same version exists in internal repository
209/1882BUS 1.45.0Yuanhua Liu OK  OK  OK  OK UNNEEDED, same version exists in internal repository
210/1882BUScorrect 1.7.0Xiangyu Luo OK  OK  OK  OK UNNEEDED, same version exists in internal repository
211/1882BUSpaRse 1.3.1Lambda Moses OK  OK  OK  OK UNNEEDED, same version exists in internal repository
C
ABCDEFGHIJKLMNOPQRSTUVWXYZ
PackageMaintainerINSTALLBUILDCHECKBUILD BIN
212/1882CAFE 1.25.0Sander Bollen OK  OK  WARNINGS  OK UNNEEDED, same version exists in internal repository
213/1882CAGEfightR 1.9.0Malte Thodberg OK  OK  OK  OK UNNEEDED, same version exists in internal repository
214/1882CAGEr 1.31.4Vanja Haberle , Charles Plessy , Damir Baranasic , Sarvesh Nikumbh OK  OK  OK  OK UNNEEDED, same version exists in internal repository
215/1882calm 1.3.0Kun Liang OK  OK  OK  OK UNNEEDED, same version exists in internal repository
216/1882CAMERA 1.45.1Steffen Neumann OK  OK  WARNINGS  OK UNNEEDED, same version exists in internal repository
217/1882canceR 1.23.0Karim Mezhoud OK  OK  OK  OK UNNEEDED, same version exists in internal repository
218/1882cancerclass 1.33.0Daniel Kosztyla OK  OK  WARNINGS  OK UNNEEDED, same version exists in internal repository
219/1882CancerInSilico 2.9.0Thomas D. Sherman OK  OK  OK  OK UNNEEDED, same version exists in internal repository
220/1882CancerMutationAnalysis 1.31.0Simina M. Boca OK  OK  OK  OK UNNEEDED, same version exists in internal repository
221/1882CancerSubtypes 1.15.0Taosheng Xu OK  OK  OK  OK UNNEEDED, same version exists in internal repository
222/1882CAnD 1.21.0Caitlin McHugh OK  OK  OK  OK UNNEEDED, same version exists in internal repository
223/1882caOmicsV 1.19.0Henry Zhang OK  OK  WARNINGS  OK UNNEEDED, same version exists in internal repository
224/1882Cardinal 2.7.1Kylie A. Bemis ERROR  ERROR  skipped  skipped 
225/1882CARNIVAL 1.1.0Enio Gjerga OK  OK  OK  OK UNNEEDED, same version exists in internal repository
226/1882casper 2.23.0David Rossell OK  OK  WARNINGS  OK UNNEEDED, same version exists in internal repository
227/1882CATALYST 1.13.1Helena L. Crowell OK  ERROR  skipped  skipped 
228/1882Category 2.55.0Bioconductor Package Maintainer OK  OK  OK  OK UNNEEDED, same version exists in internal repository
229/1882categoryCompare 1.33.0Robert M. Flight OK  OK  OK  OK UNNEEDED, same version exists in internal repository
230/1882CausalR 1.21.0Glyn Bradley , Steven Barrett OK  OK  OK  OK UNNEEDED, same version exists in internal repository
231/1882cbaf 1.11.1Arman Shahrisa OK  OK  OK  OK UNNEEDED, same version exists in internal repository
232/1882cBioPortalData 2.1.24Marcel Ramos OK  ERROR  skipped  skipped 
233/1882ccfindR 1.9.0Jun Woo OK  OK  OK  OK UNNEEDED, same version exists in internal repository
234/1882ccmap 1.15.0Alex Pickering OK  OK  OK  OK UNNEEDED, same version exists in internal repository
235/1882CCPROMISE 1.15.0Xueyuan Cao OK  OK  WARNINGS  OK UNNEEDED, same version exists in internal repository
236/1882ccrepe 1.25.0Emma Schwager ,Craig Bielski, George Weingart OK  OK  OK  OK UNNEEDED, same version exists in internal repository
237/1882celaref 1.7.0Sarah Williams OK  OK  OK  OK UNNEEDED, same version exists in internal repository
238/1882celda 1.5.6Joshua Campbell OK  OK  OK  OK UNNEEDED, same version exists in internal repository
239/1882cellbaseR 1.13.0Mohammed OE Abdallah OK  OK  OK  OK UNNEEDED, same version exists in internal repository
240/1882CellBench 1.5.1Shian Su OK  OK  OK  OK UNNEEDED, same version exists in internal repository
241/1882cellHTS2 2.53.0Joseph Barry OK  OK  OK  OK UNNEEDED, same version exists in internal repository
242/1882cellity 1.17.0Tomislav Ilicic OK  OK  OK  OK UNNEEDED, same version exists in internal repository
243/1882CellMapper 1.15.0Brad Nelms OK  OK  WARNINGS  OK UNNEEDED, same version exists in internal repository
244/1882CellMixS 1.5.1Almut Lütge OK  OK  OK  OK UNNEEDED, same version exists in internal repository
245/1882CellNOptR 1.35.0A.Gabor OK  OK  WARNINGS  OK UNNEEDED, same version exists in internal repository
246/1882cellscape 1.13.0Maia Smith OK  OK  WARNINGS  OK UNNEEDED, same version exists in internal repository
247/1882CellScore 1.9.0Nancy Mah OK  OK  OK  OK UNNEEDED, same version exists in internal repository
248/1882CellTrails 1.7.1Daniel Ellwanger OK  OK  OK  OK UNNEEDED, same version exists in internal repository
249/1882cellTree 1.19.0David duVerle OK  OK  OK  OK UNNEEDED, same version exists in internal repository
250/1882CEMiTool 1.13.1Helder Nakaya OK  OK  OK  OK UNNEEDED, same version exists in internal repository
251/1882ceRNAnetsim 1.1.0Selcen Ari Yuka OK  OK  OK  OK UNNEEDED, same version exists in internal repository
252/1882CeTF 1.1.2Carlos Alberto Oliveira de Biagi Junior OK  OK  OK  OK UNNEEDED, same version exists in internal repository
253/1882CexoR 1.27.1Pedro Madrigal OK  OK  OK  OK UNNEEDED, same version exists in internal repository
254/1882CFAssay 1.23.0Herbert Braselmann OK  OK  OK  OK UNNEEDED, same version exists in internal repository
255/1882CGEN 3.25.1William Wheeler OK  OK  ERROR  OK 
256/1882CGHbase 1.49.0Mark van de Wiel OK  OK  OK  OK UNNEEDED, same version exists in internal repository
257/1882CGHcall 2.51.0Mark van de Wiel OK  OK  OK  OK UNNEEDED, same version exists in internal repository
258/1882cghMCR 1.47.0J. Zhang OK  OK  WARNINGS  OK UNNEEDED, same version exists in internal repository
259/1882CGHnormaliter 1.43.0Bart P.P. van Houte OK  OK  OK  OK UNNEEDED, same version exists in internal repository
260/1882CGHregions 1.47.0Sjoerd Vosse OK  OK  OK  OK UNNEEDED, same version exists in internal repository
261/1882ChAMP 2.19.3Yuan Tian ERROR  ERROR  skipped  skipped 
262/1882CHARGE 1.9.1Benjamin Mayne ERROR  ERROR  skipped  skipped 
263/1882ChemmineOB 1.27.1Thomas Girke ERROR  ERROR  skipped  skipped 
264/1882ChemmineR 3.41.0Thomas Girke OK  ERROR  skipped  skipped 
265/1882CHETAH 1.5.0Jurrian de Kanter OK  OK  OK  OK UNNEEDED, same version exists in internal repository
266/1882ChIC 1.9.0Carmen Maria Livi OK  OK  OK  OK UNNEEDED, same version exists in internal repository
267/1882Chicago 1.17.0Mikhail Spivakov OK  OK  OK  OK UNNEEDED, same version exists in internal repository
268/1882chimera 1.31.1Raffaele A Calogero OK  OK  WARNINGS  OK UNNEEDED, same version exists in internal repository
269/1882chimeraviz 1.15.0Stian Lågstad OK  ERROR  skipped  skipped 
270/1882ChIPanalyser 1.11.0Patrick C.N. Martin OK  OK  OK  OK UNNEEDED, same version exists in internal repository
271/1882ChIPComp 1.19.0Li Chen OK  OK  OK  OK UNNEEDED, same version exists in internal repository
272/1882chipenrich 2.13.0Raymond G. Cavalcante OK  OK  OK  OK UNNEEDED, same version exists in internal repository
273/1882ChIPexoQual 1.13.0Rene Welch OK  OK  OK  OK UNNEEDED, same version exists in internal repository
274/1882ChIPpeakAnno 3.23.4Lihua Julie Zhu OK  OK  OK  OK UNNEEDED, same version exists in internal repository
275/1882ChIPQC 1.25.2Tom Carroll , Rory Stark OK  OK  WARNINGS  OK UNNEEDED, same version exists in internal repository
276/1882ChIPseeker 1.25.0Guangchuang Yu OK  OK  OK  OK UNNEEDED, same version exists in internal repository
277/1882chipseq 1.39.0Bioconductor Package Maintainer OK  OK  WARNINGS  OK UNNEEDED, same version exists in internal repository
278/1882ChIPseqR 1.43.0Peter Humburg OK  OK  OK  OK UNNEEDED, same version exists in internal repository
279/1882ChIPSeqSpike 1.9.0Nicolas Descostes OK  ERROR  skipped  skipped 
280/1882ChIPsim 1.43.0Peter Humburg OK  OK  OK  OK UNNEEDED, same version exists in internal repository
281/1882ChIPXpress 1.33.0George Wu ERROR  ERROR  skipped  skipped 
282/1882chopsticks 1.55.0Hin-Tak Leung OK  OK  WARNINGS  OK UNNEEDED, same version exists in internal repository
283/1882chromDraw 2.19.0Jan Janecka OK  OK  WARNINGS  OK UNNEEDED, same version exists in internal repository
284/1882ChromHeatMap 1.43.0Tim F. Rayner OK  OK  OK  OK UNNEEDED, same version exists in internal repository
285/1882chromPlot 1.17.0Karen Y. Orostica OK  OK  OK  OK UNNEEDED, same version exists in internal repository
286/1882chromstaR 1.15.1Aaron Taudt OK  OK  OK  OK UNNEEDED, same version exists in internal repository
287/1882chromswitch 1.11.0Selin Jessa OK  OK  OK  OK UNNEEDED, same version exists in internal repository
288/1882chromVAR 1.11.0Alicia Schep OK  OK  OK  OK UNNEEDED, same version exists in internal repository
289/1882CHRONOS 1.17.0Panos Balomenos OK  OK  OK  OK UNNEEDED, same version exists in internal repository
290/1882cicero 1.7.0Hannah Pliner OK  OK  OK  OK UNNEEDED, same version exists in internal repository
291/1882CINdex 1.17.0Yuriy Gusev OK  ERROR  skipped  skipped 
292/1882circRNAprofiler 1.3.8Simona Aufiero OK  OK  OK  OK UNNEEDED, same version exists in internal repository
293/1882cisPath 1.29.0Likun Wang OK  OK  WARNINGS  OK UNNEEDED, same version exists in internal repository
294/1882CiteFuse 1.1.0Yingxin Lin OK  OK  OK  OK UNNEEDED, same version exists in internal repository
295/1882ClassifyR 2.9.1Dario Strbenac OK  OK  OK  OK UNNEEDED, same version exists in internal repository
296/1882cleanUpdTSeq 1.27.1Jianhong Ou ; Lihua Julie Zhu OK  OK  OK  OK UNNEEDED, same version exists in internal repository
297/1882cleaver 1.27.1Sebastian Gibb OK  OK  OK  OK UNNEEDED, same version exists in internal repository
298/1882clippda 1.39.0Stephen Nyangoma OK  OK  WARNINGS  OK UNNEEDED, same version exists in internal repository
299/1882clipper 1.29.0Paolo Martini OK  OK  OK  OK UNNEEDED, same version exists in internal repository
300/1882cliqueMS 1.3.1Oriol Senan Campos OK  OK  OK  OK UNNEEDED, same version exists in internal repository
301/1882Clomial 1.25.0Habil Zare OK  OK  OK  OK UNNEEDED, same version exists in internal repository
302/1882Clonality 1.37.0Irina Ostrovnaya OK  OK  OK  OK UNNEEDED, same version exists in internal repository
303/1882clonotypeR 1.27.0Charles Plessy OK  OK  OK  OK UNNEEDED, same version exists in internal repository
304/1882clst 1.37.0Noah Hoffman OK  OK  WARNINGS  OK UNNEEDED, same version exists in internal repository
305/1882clstutils 1.37.0Noah Hoffman OK  OK  WARNINGS  OK UNNEEDED, same version exists in internal repository
306/1882CluMSID 1.5.0Tobias Depke OK  OK  OK  OK UNNEEDED, same version exists in internal repository
307/1882clustComp 1.17.0Aurora Torrente OK  OK  OK  OK UNNEEDED, same version exists in internal repository
308/1882clusterExperiment 2.9.0Elizabeth Purdom OK  OK  ERROR  OK 
309/1882ClusterJudge 1.11.0Adrian Pasculescu OK  OK  OK  OK UNNEEDED, same version exists in internal repository
310/1882clusterProfiler 3.17.0Guangchuang Yu OK  OK  OK  OK UNNEEDED, same version exists in internal repository
311/1882clusterSeq 1.13.0Thomas J. Hardcastle OK  OK  OK  OK UNNEEDED, same version exists in internal repository
312/1882ClusterSignificance 1.17.0Jason T Serviss OK  OK  OK  OK UNNEEDED, same version exists in internal repository
313/1882clusterStab 1.61.0James W. MacDonald OK  OK  OK  OK UNNEEDED, same version exists in internal repository
314/1882clustifyr 1.1.0Rui Fu OK  OK  OK  OK UNNEEDED, same version exists in internal repository
315/1882CMA 1.47.0Roman Hornung OK  OK  OK  OK UNNEEDED, same version exists in internal repository
316/1882cmapR 1.1.0Ted Natoli OK  OK  WARNINGS  OK UNNEEDED, same version exists in internal repository
317/1882cn.farms 1.37.0Andreas Mitterecker ERROR  ERROR  skipped  skipped 
318/1882cn.mops 1.35.0Gundula Povysil OK  OK  OK  OK UNNEEDED, same version exists in internal repository
319/1882CNAnorm 1.35.0Stefano Berri OK  OK  OK  OK UNNEEDED, same version exists in internal repository
320/1882CNEr 1.25.0Ge Tan OK  OK  WARNINGS  OK UNNEEDED, same version exists in internal repository
321/1882CNORdt 1.31.0A. MacNamara OK  OK  OK  OK UNNEEDED, same version exists in internal repository
322/1882CNORfeeder 1.29.0E.Gjerga OK  OK  OK  OK UNNEEDED, same version exists in internal repository
323/1882CNORfuzzy 1.31.0T. Cokelaer OK  OK  OK  OK UNNEEDED, same version exists in internal repository
324/1882CNORode 1.31.0Enio Gjerga OK  OK  WARNINGS  OK UNNEEDED, same version exists in internal repository
325/1882CNTools 1.45.0J. Zhang OK  OK  OK  OK UNNEEDED, same version exists in internal repository
326/1882CNVfilteR 1.3.0Jose Marcos Moreno-Cabrera OK  OK  OK  OK UNNEEDED, same version exists in internal repository
327/1882cnvGSA 1.33.0Joseph Lugo OK  OK  OK  OK UNNEEDED, same version exists in internal repository
328/1882CNVPanelizer 1.21.0Thomas Wolf ERROR  ERROR  skipped  skipped 
329/1882CNVRanger 1.5.5Ludwig Geistlinger OK  OK  OK  OK UNNEEDED, same version exists in internal repository
330/1882CNVrd2 1.27.0Hoang Tan Nguyen OK  OK  OK  OK UNNEEDED, same version exists in internal repository
331/1882CNVtools 1.83.1Chris Barnes OK  ERROR  skipped  skipped 
332/1882CoCiteStats 1.61.0Bioconductor Package Maintainer OK  OK  OK  OK UNNEEDED, same version exists in internal repository
333/1882COCOA 2.3.0John Lawson OK  OK  OK  OK UNNEEDED, same version exists in internal repository
334/1882codelink 1.57.0Diego Diez OK  OK  OK  OK UNNEEDED, same version exists in internal repository
335/1882CODEX 1.21.0Yuchao Jiang OK  OK  OK  OK UNNEEDED, same version exists in internal repository
336/1882coexnet 1.11.0Juan David Henao OK  OK  OK  OK UNNEEDED, same version exists in internal repository
337/1882CoGAPS 3.9.0Elana J. Fertig OK  OK  OK  OK UNNEEDED, same version exists in internal repository
338/1882cogena 1.23.0Zhilong Jia OK  OK  WARNINGS  OK UNNEEDED, same version exists in internal repository
339/1882coGPS 1.33.0Yingying Wei OK  OK  OK  OK UNNEEDED, same version exists in internal repository
340/1882COHCAP 1.35.1Charles Warden OK  OK  OK  OK UNNEEDED, same version exists in internal repository
341/1882cola 1.5.0Zuguang Gu OK  OK  OK  OK UNNEEDED, same version exists in internal repository
342/1882combi 1.1.0Joris Meys OK  OK  OK  OK UNNEEDED, same version exists in internal repository
343/1882coMET 1.21.0Tiphaine Martin OK  OK  OK  OK UNNEEDED, same version exists in internal repository
344/1882compartmap 1.7.0Benjamin Johnson OK  OK  WARNINGS  OK UNNEEDED, same version exists in internal repository
345/1882COMPASS 1.27.1Greg Finak OK  OK  OK  OK UNNEEDED, same version exists in internal repository
346/1882compcodeR 1.25.1Charlotte Soneson OK  OK  OK  OK UNNEEDED, same version exists in internal repository
347/1882compEpiTools 1.23.0Kamal Kishore OK  OK  OK  OK UNNEEDED, same version exists in internal repository
348/1882CompGO 1.25.0Ashley J. Waardenberg OK  OK  OK  OK UNNEEDED, same version exists in internal repository
349/1882ComplexHeatmap 2.5.3Zuguang Gu OK  OK  OK  OK UNNEEDED, same version exists in internal repository
350/1882CONFESS 1.17.0Diana LOW OK  OK  WARNINGS  OK UNNEEDED, same version exists in internal repository
351/1882consensus 1.7.1Tim Peters OK  OK  OK  OK UNNEEDED, same version exists in internal repository
352/1882ConsensusClusterPlus 1.53.0Matt Wilkerson OK  OK  OK  OK UNNEEDED, same version exists in internal repository
353/1882consensusDE 1.7.0Ashley J. Waardenberg OK  OK  OK  OK UNNEEDED, same version exists in internal repository
354/1882consensusOV 1.11.0Benjamin Haibe-Kains OK  OK  OK  OK UNNEEDED, same version exists in internal repository
355/1882consensusSeekeR 1.17.0Astrid Deschenes OK  OK  OK  OK UNNEEDED, same version exists in internal repository
356/1882contiBAIT 1.17.0Kieran O'Neill OK  OK  WARNINGS  OK UNNEEDED, same version exists in internal repository
357/1882conumee 1.23.0Volker Hovestadt OK  OK  OK  OK UNNEEDED, same version exists in internal repository
358/1882convert 1.65.0Yee Hwa (Jean) Yang OK  OK  OK  OK UNNEEDED, same version exists in internal repository
359/1882copa 1.57.0James W. MacDonald OK  OK  OK  OK UNNEEDED, same version exists in internal repository
360/1882copynumber 1.29.0Gro Nilsen OK  OK  OK  OK UNNEEDED, same version exists in internal repository
361/1882CopyNumberPlots 1.5.0Bernat Gel OK  OK  OK  OK UNNEEDED, same version exists in internal repository
362/1882CopywriteR 2.21.0Oscar Krijgsman OK  OK  OK  OK UNNEEDED, same version exists in internal repository
363/1882coRdon 1.7.0Anamaria Elek OK  OK  OK  OK UNNEEDED, same version exists in internal repository
364/1882CoRegFlux 1.5.0Pauline Trébulle and Mohamed Elati OK  OK  OK  OK UNNEEDED, same version exists in internal repository
365/1882CoRegNet 1.27.0Remy Nicolle OK  OK  WARNINGS  OK UNNEEDED, same version exists in internal repository
366/1882CoreGx 1.1.4Benjamin Haibe-Kains OK  OK  OK  OK UNNEEDED, same version exists in internal repository
367/1882Cormotif 1.35.0Yingying Wei OK  OK  OK  OK UNNEEDED, same version exists in internal repository
368/1882CorMut 1.31.1Zhenpeng Li OK  ERROR  skipped  skipped 
369/1882corral 0.99.33Lauren Hsu OK  OK  ERROR  OK 
370/1882CORREP 1.55.0Dongxiao Zhu OK  OK  OK  OK UNNEEDED, same version exists in internal repository
371/1882coseq 1.13.3Andrea Rau OK  OK  OK  OK UNNEEDED, same version exists in internal repository
372/1882cosmiq 1.23.0David Fischer OK  OK  OK  OK UNNEEDED, same version exists in internal repository
373/1882COSNet 1.23.0Marco Frasca OK  OK  OK  OK UNNEEDED, same version exists in internal repository
374/1882CountClust 1.17.0Kushal Dey OK  ERROR  skipped  skipped 
375/1882countsimQC 1.7.1Charlotte Soneson OK  OK  OK  OK UNNEEDED, same version exists in internal repository
376/1882covEB 1.15.0C. Pacini OK  OK  OK  OK UNNEEDED, same version exists in internal repository
377/1882CoverageView 1.27.0Ernesto Lowy OK  OK  OK  OK UNNEEDED, same version exists in internal repository
378/1882covRNA 1.15.0Lara Urban OK  OK  OK  OK UNNEEDED, same version exists in internal repository
379/1882cpvSNP 1.21.0Caitlin McHugh OK  OK  OK  OK UNNEEDED, same version exists in internal repository
380/1882cqn 1.35.0Kasper Daniel Hansen OK  OK  OK  OK UNNEEDED, same version exists in internal repository
381/1882CRImage 1.37.0Henrik Failmezger , Yinyin Yuan OK  OK  OK  OK UNNEEDED, same version exists in internal repository
382/1882CRISPRseek 1.29.0Lihua Julie Zhu OK  OK  OK  OK UNNEEDED, same version exists in internal repository
383/1882crisprseekplus 1.15.0Alper Kucukural OK  OK  OK  OK UNNEEDED, same version exists in internal repository
384/1882CrispRVariants 1.17.0Helen Lindsay OK  OK  WARNINGS  OK UNNEEDED, same version exists in internal repository
385/1882crlmm 1.47.0Benilton S Carvalho OK  OK  OK  OK UNNEEDED, same version exists in internal repository
386/1882CrossICC 1.3.0Yu Sun ERROR  ERROR  skipped  skipped 
387/1882crossmeta 1.15.0Alex Pickering OK  OK  WARNINGS  OK UNNEEDED, same version exists in internal repository
388/1882CSAR 1.41.0Jose M Muino OK  OK  OK  OK UNNEEDED, same version exists in internal repository
389/1882csaw 1.23.2Aaron Lun OK  OK  OK  OK UNNEEDED, same version exists in internal repository
390/1882CSSP 1.27.0Chandler Zuo OK  OK  OK  OK UNNEEDED, same version exists in internal repository
391/1882CSSQ 1.1.5Fan Lab at Georgia Institute of Technology OK  OK  OK  OK UNNEEDED, same version exists in internal repository
392/1882ctc 1.63.0Antoine Lucas OK  OK  OK  OK UNNEEDED, same version exists in internal repository
393/1882ctgGEM 1.1.1USD Biomedical Engineering OK  OK  WARNINGS  OK UNNEEDED, same version exists in internal repository
394/1882cTRAP 1.7.0Nuno Saraiva-Agostinho OK  OK  OK  OK UNNEEDED, same version exists in internal repository
395/1882ctsGE 1.15.0Michal Sharabi-Schwager OK  OK  OK  OK UNNEEDED, same version exists in internal repository
396/1882cummeRbund 2.31.0Loyal A. Goff OK  OK  WARNINGS  OK UNNEEDED, same version exists in internal repository
397/1882customProDB 1.29.0Xiaojing Wang OK  OK  OK  OK UNNEEDED, same version exists in internal repository
398/1882cycle 1.43.0Matthias Futschik OK  OK  OK  OK UNNEEDED, same version exists in internal repository
399/1882cydar 1.13.0Aaron Lun OK  OK  OK  OK UNNEEDED, same version exists in internal repository
400/1882CytoDx 1.9.0Zicheng Hu OK  OK  OK  OK UNNEEDED, same version exists in internal repository
401/1882cytofast 1.5.0K.A. Stam OK  OK  OK  OK UNNEEDED, same version exists in internal repository
402/1882cytolib 2.1.14Mike Jiang , Jake Wagner OK  OK  OK  OK UNNEEDED, same version exists in internal repository
403/1882cytomapper 1.1.2Nils Eling OK  OK  OK  OK UNNEEDED, same version exists in internal repository
404/1882CytoML 2.1.10Mike Jiang , Jake Wagner OK  OK  WARNINGS  OK UNNEEDED, same version exists in internal repository
405/1882CytoTree 0.99.6Yuting Dai OK  OK  OK  OK UNNEEDED, same version exists in internal repository
D
ABCDEFGHIJKLMNOPQRSTUVWXYZ
PackageMaintainerINSTALLBUILDCHECKBUILD BIN
406/1882dada2 1.17.0Benjamin Callahan OK  OK  OK  OK UNNEEDED, same version exists in internal repository
407/1882dagLogo 1.27.5Jianhong Ou OK  OK  OK  OK UNNEEDED, same version exists in internal repository
408/1882daMA 1.61.0Jobst Landgrebe OK  OK  OK  OK UNNEEDED, same version exists in internal repository
409/1882DAMEfinder 1.1.2Stephany Orjuela OK  OK  OK  OK UNNEEDED, same version exists in internal repository
410/1882DaMiRseq 2.1.0Mattia Chiesa OK  OK  WARNINGS  OK UNNEEDED, same version exists in internal repository
411/1882DAPAR 1.21.0Samuel Wieczorek OK  OK  WARNINGS  OK UNNEEDED, same version exists in internal repository
412/1882DART 1.37.0Charles Shijie Zheng OK  OK  OK  OK UNNEEDED, same version exists in internal repository
413/1882DBChIP 1.33.0Kun Liang OK  OK  WARNINGS  OK UNNEEDED, same version exists in internal repository
414/1882dcanr 1.5.0Dharmesh D. Bhuva OK  OK  OK  OK UNNEEDED, same version exists in internal repository
415/1882dcGSA 1.17.0Jiehuan sun OK  OK  WARNINGS  OK UNNEEDED, same version exists in internal repository
416/1882ddCt 1.45.0Jitao David Zhang OK  OK  OK  OK UNNEEDED, same version exists in internal repository
417/1882ddPCRclust 1.9.0Benedikt G. Brink OK  OK  OK  OK UNNEEDED, same version exists in internal repository
418/1882dearseq 1.1.0Boris P. Hejblum OK  OK  OK  OK UNNEEDED, same version exists in internal repository
419/1882debCAM 1.7.0Lulu Chen OK  OK  OK  OK UNNEEDED, same version exists in internal repository
420/1882debrowser 1.17.2Alper Kucukural OK  OK  OK  OK UNNEEDED, same version exists in internal repository
421/1882DECIPHER 2.17.1Erik Wright OK  OK  OK  OK UNNEEDED, same version exists in internal repository
422/1882deco 1.5.0Francisco Jose Campos Laborie OK  OK  OK  OK UNNEEDED, same version exists in internal repository
423/1882DEComplexDisease 1.9.0Guofeng Meng OK  OK  OK  OK UNNEEDED, same version exists in internal repository
424/1882decompTumor2Sig 2.5.1Rosario M. Piro OK  OK  OK  OK UNNEEDED, same version exists in internal repository
425/1882DeconRNASeq 1.31.0Ting Gong OK  OK  OK  OK UNNEEDED, same version exists in internal repository
426/1882decontam 1.9.0Benjamin Callahan OK  OK  OK  OK UNNEEDED, same version exists in internal repository
427/1882DeepBlueR 1.15.0Felipe Albrecht , Markus List OK  OK  OK  OK UNNEEDED, same version exists in internal repository
428/1882deepSNV 1.35.2Moritz Gerstung OK  OK  OK  OK UNNEEDED, same version exists in internal repository
429/1882DEFormats 1.17.0Andrzej Oleś OK  OK  OK  OK UNNEEDED, same version exists in internal repository
430/1882DegNorm 0.99.11Ji-Ping Wang ERROR  ERROR  skipped  skipped 
431/1882DEGraph ...NOT SUPPORTED...
432/1882DEGreport 1.25.1Lorena Pantano OK  OK  OK  OK UNNEEDED, same version exists in internal repository
433/1882DEGseq 1.43.0Likun Wang OK  OK  OK  OK UNNEEDED, same version exists in internal repository
434/1882DelayedArray 0.15.7Hervé Pagès OK  OK  WARNINGS  OK UNNEEDED, same version exists in internal repository
435/1882DelayedDataFrame 1.5.0Qian Liu OK  OK  OK  OK UNNEEDED, same version exists in internal repository
436/1882DelayedMatrixStats 1.11.1Peter Hickey OK  OK  OK  OK UNNEEDED, same version exists in internal repository
437/1882deltaCaptureC 1.3.0Michael Shapiro OK  OK  OK  OK UNNEEDED, same version exists in internal repository
438/1882deltaGseg 1.29.0Diana Low OK  OK  OK  OK UNNEEDED, same version exists in internal repository
439/1882DeMAND 1.19.0Jung Hoon Woo , Mariano Alvarez OK  OK  OK  OK UNNEEDED, same version exists in internal repository
440/1882DeMixT 1.5.0Shaolong Cao, Peng Yang OK  OK  OK  OK UNNEEDED, same version exists in internal repository
441/1882DEP 1.11.0Arne Smits OK  OK  OK  OK UNNEEDED, same version exists in internal repository
442/1882DepecheR 1.5.3Jakob Theorell OK  OK  OK  OK UNNEEDED, same version exists in internal repository
443/1882DEqMS 1.7.0Yafeng Zhu OK  OK  OK  OK UNNEEDED, same version exists in internal repository
444/1882derfinder 1.23.1Leonardo Collado-Torres OK  OK  OK  OK UNNEEDED, same version exists in internal repository
445/1882derfinderHelper 1.23.1Leonardo Collado-Torres OK  OK  OK  OK UNNEEDED, same version exists in internal repository
446/1882derfinderPlot 1.23.1Leonardo Collado-Torres OK  OK  OK  OK UNNEEDED, same version exists in internal repository
447/1882DEScan2 1.9.1Dario Righelli OK  OK  OK  OK UNNEEDED, same version exists in internal repository
448/1882DESeq 1.41.0Simon Anders OK  ERROR  skipped  skipped 
449/1882DESeq2 1.29.8Michael Love OK  OK  OK  OK UNNEEDED, same version exists in internal repository
450/1882DEsingle 1.9.2Zhun Miao OK  OK  OK  OK UNNEEDED, same version exists in internal repository
451/1882destiny 3.3.0Philipp Angerer OK  ERROR  skipped  skipped 
452/1882DEsubs 1.15.0Aristidis G. Vrahatis , Panos Balomenos OK  OK  OK  OK UNNEEDED, same version exists in internal repository
453/1882DEWSeq 1.3.0Hentze bioinformatics team OK  OK  OK  OK UNNEEDED, same version exists in internal repository
454/1882DEXSeq 1.35.1Alejandro Reyes OK  OK  OK  OK UNNEEDED, same version exists in internal repository
455/1882dexus 1.29.0Guenter Klambauer OK  OK  OK  OK UNNEEDED, same version exists in internal repository
456/1882DFP 1.47.0Rodrigo Alvarez-Glez OK  OK  OK  OK UNNEEDED, same version exists in internal repository
457/1882DIAlignR 1.1.5Shubham Gupta OK  OK  WARNINGS  OK UNNEEDED, same version exists in internal repository
458/1882DiffBind 2.99.3Rory Stark OK  OK  OK  OK UNNEEDED, same version exists in internal repository
459/1882diffcoexp 1.9.0Wenbin Wei OK  OK  OK  OK UNNEEDED, same version exists in internal repository
460/1882diffcyt 1.9.8Lukas M. Weber OK  OK  OK  OK UNNEEDED, same version exists in internal repository
461/1882diffGeneAnalysis 1.71.0Choudary Jagarlamudi OK  OK  OK  OK UNNEEDED, same version exists in internal repository
462/1882diffHic 1.21.1Aaron Lun OK  OK  OK  OK UNNEEDED, same version exists in internal repository
463/1882DiffLogo 2.13.2Hendrik Treutler OK  OK  OK  OK UNNEEDED, same version exists in internal repository
464/1882diffloop 1.17.0Caleb Lareau OK  OK  OK  OK UNNEEDED, same version exists in internal repository
465/1882diffuStats 1.9.0Sergio Picart-Armada OK  OK  WARNINGS  OK UNNEEDED, same version exists in internal repository
466/1882diggit 1.21.0Mariano J Alvarez OK  OK  WARNINGS  OK UNNEEDED, same version exists in internal repository
467/1882Director 1.15.0Katherine Icay OK  OK  OK  OK UNNEEDED, same version exists in internal repository
468/1882DirichletMultinomial 1.31.0Martin Morgan OK  OK  OK  OK UNNEEDED, same version exists in internal repository
469/1882discordant 1.13.0Charlotte Siska OK  OK  OK  OK UNNEEDED, same version exists in internal repository
470/1882DiscoRhythm 1.5.6Matthew Carlucci OK  OK  OK  OK UNNEEDED, same version exists in internal repository
471/1882distinct 1.1.2Simone Tiberi OK  OK  OK  OK UNNEEDED, same version exists in internal repository
472/1882dittoSeq 1.1.6Daniel Bunis OK  OK  OK  OK UNNEEDED, same version exists in internal repository
473/1882divergence 1.5.0Wikum Dinalankara , Luigi Marchionni OK  OK  OK  OK UNNEEDED, same version exists in internal repository
474/1882dks 1.35.0Jeffrey T. Leek OK  OK  OK  OK UNNEEDED, same version exists in internal repository
475/1882DMCFB 1.3.0Farhad Shokoohi OK  OK  OK  OK UNNEEDED, same version exists in internal repository
476/1882DMCHMM 1.11.0Farhad Shokoohi OK  OK  OK  OK UNNEEDED, same version exists in internal repository
477/1882DMRcaller 1.21.0Nicolae Radu Zabet OK  OK  OK  OK UNNEEDED, same version exists in internal repository
478/1882DMRcate 2.3.2Tim Peters OK  OK  OK  OK UNNEEDED, same version exists in internal repository
479/1882DMRforPairs 1.25.0Martin Rijlaarsdam OK  OK  OK  OK UNNEEDED, same version exists in internal repository
480/1882DMRScan 1.11.0Christian M Page OK  OK  OK  OK UNNEEDED, same version exists in internal repository
481/1882dmrseq 1.9.0Keegan Korthauer OK  OK  WARNINGS  OK UNNEEDED, same version exists in internal repository
482/1882DNABarcodeCompatibility 1.5.0Céline Trébeau OK  OK  OK  OK UNNEEDED, same version exists in internal repository
483/1882DNABarcodes 1.19.0Tilo Buschmann OK  OK  OK  OK UNNEEDED, same version exists in internal repository
484/1882DNAcopy 1.63.0Venkatraman E. Seshan OK  OK  OK  OK UNNEEDED, same version exists in internal repository
485/1882DNAshapeR 1.17.0Tsu-Pei Chiu OK  OK  OK  OK UNNEEDED, same version exists in internal repository
486/1882DominoEffect 1.9.0Marija Buljan OK  OK  OK  OK UNNEEDED, same version exists in internal repository
487/1882doppelgangR 1.17.0Levi Waldron OK  OK  OK  OK UNNEEDED, same version exists in internal repository
488/1882Doscheda 1.11.0Bruno Contrino ERROR  ERROR  skipped  skipped 
489/1882DOSE 3.15.0Guangchuang Yu OK  OK  OK  OK UNNEEDED, same version exists in internal repository
490/1882doseR 1.5.0ake.vastermark OK  OK  OK  OK UNNEEDED, same version exists in internal repository
491/1882dpeak 1.1.0Dongjun Chung OK  OK  OK  OK UNNEEDED, same version exists in internal repository
492/1882drawProteins 1.9.0Paul Brennan OK  OK  OK  OK UNNEEDED, same version exists in internal repository
493/1882DRIMSeq 1.17.1Malgorzata Nowicka OK  OK  WARNINGS  OK UNNEEDED, same version exists in internal repository
494/1882DriverNet 1.29.0Jiarui Ding OK  OK  OK  OK UNNEEDED, same version exists in internal repository
495/1882DropletUtils 1.9.9Aaron Lun OK  OK  OK  OK UNNEEDED, same version exists in internal repository
496/1882DrugVsDisease 2.31.0j. Saez-Rodriguez ERROR  ERROR  skipped  skipped 
497/1882DSS 2.37.0Hao Wu , Hao Feng OK  OK  OK  OK UNNEEDED, same version exists in internal repository
498/1882DTA 2.35.0Bjoern Schwalb OK  OK  OK  OK UNNEEDED, same version exists in internal repository
499/1882dualKS 1.49.0Eric J. Kort OK  OK  OK  OK UNNEEDED, same version exists in internal repository
500/1882Dune 1.1.0Hector Roux de Bezieux OK  OK  OK  OK UNNEEDED, same version exists in internal repository
501/1882dupRadar 1.19.0Sergi Sayols , Holger Klein OK  OK  OK  OK UNNEEDED, same version exists in internal repository
502/1882dyebias 1.49.0Philip Lijnzaad OK  OK  OK  OK UNNEEDED, same version exists in internal repository
503/1882DynDoc 1.67.0Bioconductor Package Maintainer OK  OK  OK  OK UNNEEDED, same version exists in internal repository
E
ABCDEFGHIJKLMNOPQRSTUVWXYZ
PackageMaintainerINSTALLBUILDCHECKBUILD BIN
504/1882EasyqpcR 1.31.0Le Pape Sylvain ERROR  ERROR  skipped  skipped 
505/1882easyreporting 1.1.0Dario Righelli OK  OK  OK  OK UNNEEDED, same version exists in internal repository
506/1882easyRNASeq 2.25.1Nicolas Delhomme OK  OK  OK  OK UNNEEDED, same version exists in internal repository
507/1882EBarrays 2.53.0Ming Yuan OK  OK  OK  OK UNNEEDED, same version exists in internal repository
508/1882EBcoexpress 1.33.0John A. Dawson OK  OK  OK  OK UNNEEDED, same version exists in internal repository
509/1882EBImage 4.31.0Andrzej Oleś OK  OK  OK  OK UNNEEDED, same version exists in internal repository
510/1882EBSEA 1.17.0Arfa Mehmood OK  OK  OK  OK UNNEEDED, same version exists in internal repository
511/1882EBSeq 1.29.0Ning Leng OK  OK  OK  OK UNNEEDED, same version exists in internal repository
512/1882EBSeqHMM 1.23.0Ning Leng OK  OK  OK  OK UNNEEDED, same version exists in internal repository
513/1882ecolitk 1.61.0Laurent Gautier OK  OK  WARNINGS  OK UNNEEDED, same version exists in internal repository
514/1882EDASeq 2.23.2Davide Risso OK  OK  OK  OK UNNEEDED, same version exists in internal repository
515/1882EDDA 1.27.0Chia Kuan Hui Burton , Niranjan Nagarajan OK  OK  WARNINGS  OK UNNEEDED, same version exists in internal repository
516/1882edge 2.21.0John D. Storey , Andrew J. Bass OK  OK  WARNINGS  OK UNNEEDED, same version exists in internal repository
517/1882edgeR 3.31.4Yunshun Chen , Gordon Smyth , Aaron Lun , Mark Robinson OK  OK  OK  OK UNNEEDED, same version exists in internal repository
518/1882eegc 1.15.0Xiaoyuan Zhou OK  OK  WARNINGS  OK UNNEEDED, same version exists in internal repository
519/1882EGAD 1.17.0Sara Ballouz OK  OK  WARNINGS  OK UNNEEDED, same version exists in internal repository
520/1882EGSEA 1.17.0Monther Alhamdoosh OK  OK  OK  OK UNNEEDED, same version exists in internal repository
521/1882eiR 1.29.1Thomas Girke OK  OK  ERROR  OK 
522/1882eisa 1.41.0Gabor Csardi OK  OK  OK  OK UNNEEDED, same version exists in internal repository
523/1882eisaR 1.1.1Michael Stadler OK  OK  OK  OK UNNEEDED, same version exists in internal repository
524/1882ELBOW 1.25.0Graham Alvare , Xiangli Zhang OK  OK  OK  OK UNNEEDED, same version exists in internal repository
525/1882ELMER 2.13.0Tiago Chedraoui Silva OK  OK  OK  OK UNNEEDED, same version exists in internal repository
526/1882EMDomics 2.19.0Sadhika Malladi and Daniel Schmolze OK  OK  OK  OK UNNEEDED, same version exists in internal repository
527/1882EmpiricalBrownsMethod 1.17.0David Gibbs OK  OK  OK  OK UNNEEDED, same version exists in internal repository
528/1882ENCODExplorer 2.15.0Charles Joly Beauparlant OK  OK  OK  OK UNNEEDED, same version exists in internal repository
529/1882EnhancedVolcano 1.7.12Kevin Blighe OK  OK  OK  OK UNNEEDED, same version exists in internal repository
530/1882EnMCB 1.1.1Xin Yu OK  ERROR  skipped  skipped 
531/1882ENmix 1.25.2Zongli Xu OK  OK  OK  OK UNNEEDED, same version exists in internal repository
532/1882EnrichedHeatmap 1.19.2Zuguang Gu OK  OK  OK  OK UNNEEDED, same version exists in internal repository
533/1882EnrichmentBrowser 2.19.3Ludwig Geistlinger OK  OK  OK  OK UNNEEDED, same version exists in internal repository
534/1882enrichplot 1.9.1Guangchuang Yu OK  OK  OK  OK UNNEEDED, same version exists in internal repository
535/1882enrichTF 1.5.0Zheng Wei OK  OK  OK  OK UNNEEDED, same version exists in internal repository
536/1882ensembldb 2.13.1Johannes Rainer OK  OK  OK  OK UNNEEDED, same version exists in internal repository
537/1882ensemblVEP 1.31.1Bioconductor Package Maintainer OK  ERROR  skipped  skipped 
538/1882ENVISIONQuery 1.37.0Alex Lisovich , Roger Day OK  ERROR  skipped  skipped 
539/1882EpiDISH 2.5.0Shijie Charles Zheng OK  OK  OK  OK UNNEEDED, same version exists in internal repository
540/1882epigenomix 1.29.0Hans-Ulrich Klein OK  OK  OK  OK UNNEEDED, same version exists in internal repository
541/1882epihet 1.5.0Xiaowen Chen OK  OK  OK  OK UNNEEDED, same version exists in internal repository
542/1882epiNEM 1.13.0Martin Pirkl OK  OK  OK  OK UNNEEDED, same version exists in internal repository
543/1882EpiTxDb 1.1.0Felix G.M. Ernst OK  OK  OK  OK UNNEEDED, same version exists in internal repository
544/1882epivizr 2.19.0Hector Corrada Bravo OK  OK  OK  OK UNNEEDED, same version exists in internal repository
545/1882epivizrChart 1.11.0Hector Corrada Bravo OK  OK  OK  OK UNNEEDED, same version exists in internal repository
546/1882epivizrData 1.17.0Hector Corrada Bravo OK  OK  OK  OK UNNEEDED, same version exists in internal repository
547/1882epivizrServer 1.17.0Hector Corrada Bravo OK  OK  OK  OK UNNEEDED, same version exists in internal repository
548/1882epivizrStandalone 1.17.0Hector Corrada Bravo OK  OK  OK  OK UNNEEDED, same version exists in internal repository
549/1882erccdashboard 1.23.0Sarah Munro OK  OK  OK  OK UNNEEDED, same version exists in internal repository
550/1882erma 1.5.0VJ Carey OK  OK  OK  OK UNNEEDED, same version exists in internal repository
551/1882ERSSA 1.7.0Zixuan Shao OK  OK  OK  OK UNNEEDED, same version exists in internal repository
552/1882esATAC 1.11.0Zheng Wei OK  OK  OK  OK UNNEEDED, same version exists in internal repository
553/1882escape 0.99.7Nick Borcherding OK  OK  OK  OK UNNEEDED, same version exists in internal repository
554/1882esetVis 1.15.0Laure Cougnaud OK  OK  OK  OK UNNEEDED, same version exists in internal repository
555/1882eudysbiome 1.19.0Xiaoyuan Zhou OK  OK  OK  OK UNNEEDED, same version exists in internal repository
556/1882evaluomeR 1.5.0José Antonio Bernabé-Díaz OK  OK  OK  OK UNNEEDED, same version exists in internal repository
557/1882EventPointer 2.7.0Juan Pablo Romero OK  OK  OK  OK UNNEEDED, same version exists in internal repository
558/1882ExCluster 1.7.0R. Matthew Tanner OK  OK  OK  OK UNNEEDED, same version exists in internal repository
559/1882ExiMiR 2.31.0Sylvain Gubian OK  OK  OK  OK UNNEEDED, same version exists in internal repository
560/1882exomeCopy 1.35.0Michael Love OK  OK  OK  OK UNNEEDED, same version exists in internal repository
561/1882exomePeak2 1.1.0Zhen Wei OK  OK  OK  OK UNNEEDED, same version exists in internal repository
562/1882ExperimentHub 1.15.1Bioconductor Package Maintainer OK  OK  OK  OK UNNEEDED, same version exists in internal repository
563/1882ExperimentHubData 1.15.1Bioconductor Package Maintainer OK  OK  OK  OK UNNEEDED, same version exists in internal repository
564/1882explorase ...NOT SUPPORTED...
565/1882ExploreModelMatrix 1.1.3Charlotte Soneson OK  ERROR  skipped  skipped 
566/1882ExpressionAtlas 1.17.0Suhaib Mohammed OK  OK  OK  OK UNNEEDED, same version exists in internal repository
567/1882ExpressionView 1.41.0Gabor Csardi OK  OK  WARNINGS  OK UNNEEDED, same version exists in internal repository
F
ABCDEFGHIJKLMNOPQRSTUVWXYZ
PackageMaintainerINSTALLBUILDCHECKBUILD BIN
568/1882fabia 2.35.0Andreas Mitterecker OK  OK  OK  OK UNNEEDED, same version exists in internal repository
569/1882factDesign 1.65.0Denise Scholtens OK  OK  OK  OK UNNEEDED, same version exists in internal repository
570/1882FamAgg 1.17.1Johannes Rainer OK  OK  OK  OK UNNEEDED, same version exists in internal repository
571/1882farms 1.41.0Djork-Arne Clevert OK  OK  OK  OK UNNEEDED, same version exists in internal repository
572/1882fastLiquidAssociation 1.25.0Tina Gunderson OK  OK  WARNINGS  OK UNNEEDED, same version exists in internal repository
573/1882FastqCleaner 1.7.0Leandro Roser OK  OK  OK  OK UNNEEDED, same version exists in internal repository
574/1882fastseg 1.35.0Guenter Klambauer OK  ERROR  skipped  skipped 
575/1882FCBF 1.7.0Tiago Lubiana OK  OK  OK  OK UNNEEDED, same version exists in internal repository
576/1882fCCAC 1.15.1Pedro Madrigal OK  OK  OK  OK UNNEEDED, same version exists in internal repository
577/1882fCI 1.19.0Shaojun Tang OK  OK  WARNINGS  OK UNNEEDED, same version exists in internal repository
578/1882fcoex 1.3.0Tiago Lubiana OK  OK  WARNINGS  OK UNNEEDED, same version exists in internal repository
579/1882fcScan 1.3.1Pierre Khoueiry Abdullah El-Kurdi OK  OK  OK  OK UNNEEDED, same version exists in internal repository
580/1882fdrame 1.61.0Effi Kenigsberg OK  OK  OK  OK UNNEEDED, same version exists in internal repository
581/1882FELLA 1.9.0Sergio Picart-Armada OK  OK  OK  OK UNNEEDED, same version exists in internal repository
582/1882ffpe 1.33.0Levi Waldron OK  OK  OK  OK UNNEEDED, same version exists in internal repository
583/1882FGNet 3.23.1Sara Aibar OK  OK  OK  OK UNNEEDED, same version exists in internal repository
584/1882fgsea 1.15.0Alexey Sergushichev OK  OK  OK  OK UNNEEDED, same version exists in internal repository
585/1882FindMyFriends 1.19.0Thomas Lin Pedersen OK  OK  WARNINGS  OK UNNEEDED, same version exists in internal repository
586/1882FISHalyseR 1.23.0Karesh Arunakirinathan OK  OK  WARNINGS  OK UNNEEDED, same version exists in internal repository
587/1882fishpond 1.5.37Michael Love OK  OK  OK  OK UNNEEDED, same version exists in internal repository
588/1882FitHiC 1.15.0Ruyu Tan OK  OK  OK  OK UNNEEDED, same version exists in internal repository
589/1882flagme 1.45.0Mark Robinson , Riccardo Romoli OK  OK  WARNINGS  OK UNNEEDED, same version exists in internal repository
590/1882flowAI 1.19.4Gianni Monaco OK  OK  OK  OK UNNEEDED, same version exists in internal repository
591/1882flowBeads 1.27.0Nikolas Pontikos OK  OK  WARNINGS  OK UNNEEDED, same version exists in internal repository
592/1882flowBin 1.25.0Kieran O'Neill OK  OK  OK  OK UNNEEDED, same version exists in internal repository
593/1882flowcatchR 1.23.0Federico Marini OK  OK  OK  OK UNNEEDED, same version exists in internal repository
594/1882flowCHIC 1.23.0Author: Joachim Schumann OK  OK  OK  OK UNNEEDED, same version exists in internal repository
595/1882flowCL 1.27.0Justin Meskas OK  OK  OK  OK UNNEEDED, same version exists in internal repository
596/1882flowClean 1.27.0Kipper Fletez-Brant OK  OK  WARNINGS  OK UNNEEDED, same version exists in internal repository
597/1882flowClust 3.27.0Greg Finak , Mike Jiang , Jake Wagner OK  OK  WARNINGS  OK UNNEEDED, same version exists in internal repository
598/1882flowCore 2.1.1Mike Jiang , Jake Wagner OK  OK  OK  OK UNNEEDED, same version exists in internal repository
599/1882flowCut 0.99.26Justin Meskas OK  OK  OK  OK UNNEEDED, same version exists in internal repository
600/1882flowCyBar 1.25.0Joachim Schumann OK  OK  OK  OK UNNEEDED, same version exists in internal repository
601/1882flowDensity 1.23.0Mehrnoush Malek OK  OK  WARNINGS  OK UNNEEDED, same version exists in internal repository
602/1882flowFit 1.27.1Davide Rambaldi ERROR  ERROR  skipped  skipped 
603/1882flowFP 1.47.0Herb Holyst OK  OK  OK  OK UNNEEDED, same version exists in internal repository
604/1882flowMap 1.27.0Chiaowen Joyce Hsiao OK  OK  WARNINGS  OK UNNEEDED, same version exists in internal repository
605/1882flowMatch 1.25.0Ariful Azad OK  OK  OK  OK UNNEEDED, same version exists in internal repository
606/1882flowMeans 1.49.0Nima Aghaeepour OK  OK  WARNINGS  OK UNNEEDED, same version exists in internal repository
607/1882flowMerge 2.37.0Greg Finak OK  OK  WARNINGS  OK UNNEEDED, same version exists in internal repository
608/1882flowPeaks 1.35.0Yongchao Ge OK  OK  OK  OK UNNEEDED, same version exists in internal repository
609/1882flowPloidy 1.15.0Tyler Smith OK  OK  OK  OK UNNEEDED, same version exists in internal repository
610/1882flowPlots 1.37.0N. Hawkins OK  OK  OK  OK UNNEEDED, same version exists in internal repository
611/1882FlowRepositoryR 1.21.0Josef Spidlen OK  OK  OK  OK UNNEEDED, same version exists in internal repository
612/1882FlowSOM 1.21.0Sofie Van Gassen OK  OK  ERROR  OK 
613/1882flowSpecs 1.3.2Jakob Theorell OK  OK  ERROR  OK 
614/1882flowSpy 1.3.1Yuting Dai OK  OK  WARNINGS  OK UNNEEDED, same version exists in internal repository
615/1882flowStats 4.1.0Greg Finak , Mike Jiang , Jake Wagner OK  OK  OK  OK UNNEEDED, same version exists in internal repository
616/1882flowTime 1.13.0R. Clay Wright OK  OK  OK  OK UNNEEDED, same version exists in internal repository
617/1882flowTrans 1.41.0Greg Finak OK  OK  OK  OK UNNEEDED, same version exists in internal repository
618/1882flowType 2.27.1Nima Aghaeepour OK  OK  ERROR  OK 
619/1882flowUtils 1.53.0Josef Spidlen OK  OK  WARNINGS  OK UNNEEDED, same version exists in internal repository
620/1882flowViz 1.53.0Mike Jiang , Jake Wagner OK  OK  OK  OK UNNEEDED, same version exists in internal repository
621/1882flowVS 1.21.1Ariful Azad OK  OK  ERROR  OK 
622/1882flowWorkspace 4.1.7Greg Finak ,Mike Jiang ,Jake Wagner OK  OK  ERROR  OK 
623/1882fmcsR 1.31.0Thomas Girke OK  ERROR  skipped  skipped 
624/1882fmrs 0.99.19Farhad Shokoohi OK  OK  OK  OK UNNEEDED, same version exists in internal repository
625/1882focalCall 1.23.1Oscar Krijgsman OK  OK  ERROR  OK 
626/1882FoldGO 1.7.0Daniil Wiebe OK  OK  OK  OK UNNEEDED, same version exists in internal repository
627/1882FourCSeq 1.23.2Felix A. Klein OK  OK  WARNINGS  OK UNNEEDED, same version exists in internal repository
628/1882FRASER 1.1.2Christian Mertes OK  ERROR  skipped  skipped 
629/1882frenchFISH 1.1.0Adam Berman OK  OK  OK  OK UNNEEDED, same version exists in internal repository
630/1882FRGEpistasis 1.25.0Futao Zhang OK  OK  OK  OK UNNEEDED, same version exists in internal repository
631/1882frma 1.41.0Matthew N. McCall ERROR  ERROR  skipped  skipped 
632/1882frmaTools 1.41.0Matthew N. McCall OK  OK  OK  OK UNNEEDED, same version exists in internal repository
633/1882FunChIP 1.15.0Alice Parodi OK  OK  WARNINGS  OK UNNEEDED, same version exists in internal repository
634/1882FunciSNP 1.33.0Simon G. Coetzee ERROR  ERROR  skipped  skipped 
635/1882funtooNorm 1.13.0Kathleen Klein OK  OK  WARNINGS  OK UNNEEDED, same version exists in internal repository
G
ABCDEFGHIJKLMNOPQRSTUVWXYZ
PackageMaintainerINSTALLBUILDCHECKBUILD BIN
636/1882GA4GHclient 1.13.0Welliton Souza OK  OK  OK  OK UNNEEDED, same version exists in internal repository
637/1882GA4GHshiny 1.11.0Welliton Souza OK  OK  OK  OK UNNEEDED, same version exists in internal repository
638/1882gaga 2.35.0David Rossell OK  OK  WARNINGS  OK UNNEEDED, same version exists in internal repository
639/1882gage 2.39.3Weijun Luo OK  OK  WARNINGS  OK UNNEEDED, same version exists in internal repository
640/1882gaggle 1.57.0Christopher Bare OK  OK  OK  OK UNNEEDED, same version exists in internal repository
641/1882gaia 2.33.0S. Morganella OK  OK  OK  OK UNNEEDED, same version exists in internal repository
642/1882GAPGOM 1.5.1Rezvan Ehsani OK  OK  OK  OK UNNEEDED, same version exists in internal repository
643/1882GAprediction 1.15.0Jon Bohlin OK  OK  OK  OK UNNEEDED, same version exists in internal repository
644/1882garfield 1.17.0Valentina Iotchkova OK  OK  OK  OK UNNEEDED, same version exists in internal repository
645/1882GARS 1.9.0Mattia Chiesa OK  OK  WARNINGS  OK UNNEEDED, same version exists in internal repository
646/1882GateFinder 1.9.0Nima Aghaeepour OK  OK  OK  OK UNNEEDED, same version exists in internal repository
647/1882gcapc 1.13.0Mingxiang Teng OK  OK  OK  OK UNNEEDED, same version exists in internal repository
648/1882gcatest 1.19.0Wei Hao , John D. Storey OK  OK  OK  OK UNNEEDED, same version exists in internal repository
649/1882gCrisprTools 1.17.0Russell Bainer OK  OK  WARNINGS  OK UNNEEDED, same version exists in internal repository
650/1882gcrma 2.61.0Z. Wu OK  OK  OK  OK UNNEEDED, same version exists in internal repository
651/1882GCSConnection 1.1.4Jiefei Wang OK  OK  WARNINGS  OK UNNEEDED, same version exists in internal repository
652/1882GCSscore 1.3.0Guy M. Harris OK  ERROR  skipped  skipped 
653/1882GDCRNATools 1.9.0Ruidong Li OK  OK  OK  OK UNNEEDED, same version exists in internal repository
654/1882GDSArray 1.9.0Qian Liu OK  OK  OK  OK UNNEEDED, same version exists in internal repository
655/1882gdsfmt 1.25.1Xiuwen Zheng OK  OK  OK  OK UNNEEDED, same version exists in internal repository
656/1882GEM 1.15.0Hong Pan OK  OK  OK  OK UNNEEDED, same version exists in internal repository
657/1882gemini 1.3.0Sidharth Jain OK  OK  OK  OK UNNEEDED, same version exists in internal repository
658/1882genArise 1.65.0IFC Development Team OK  OK  WARNINGS  OK UNNEEDED, same version exists in internal repository
659/1882genbankr 1.17.0Gabriel Becker OK  OK  OK  OK UNNEEDED, same version exists in internal repository
660/1882GeneAccord 1.7.0Ariane L. Moore OK  OK  OK  OK UNNEEDED, same version exists in internal repository
661/1882GeneAnswers 2.31.0Lei Huang and Gang Feng OK  OK  WARNINGS  OK UNNEEDED, same version exists in internal repository
662/1882geneAttribution 1.15.0Arthur Wuster OK  OK  OK  OK UNNEEDED, same version exists in internal repository
663/1882GeneBreak 1.19.0Evert van den Broek OK  OK  OK  OK UNNEEDED, same version exists in internal repository
664/1882geneClassifiers 1.13.0R Kuiper OK  OK  OK  OK UNNEEDED, same version exists in internal repository
665/1882GeneExpressionSignature 1.35.0Yang Cao , Fei Li OK  OK  WARNINGS  OK UNNEEDED, same version exists in internal repository
666/1882genefilter 1.71.0Bioconductor Package Maintainer OK  OK  OK  OK UNNEEDED, same version exists in internal repository
667/1882genefu 2.21.0Benjamin Haibe-Kains OK  OK  OK  OK UNNEEDED, same version exists in internal repository
668/1882GeneGA 1.39.0Zhenpeng Li OK  ERROR  skipped  skipped 
669/1882GeneGeneInteR 1.15.0Mathieu Emily OK  OK  OK  OK UNNEEDED, same version exists in internal repository
670/1882GeneMeta 1.61.0Bioconductor Package Maintainer OK  OK  OK  OK UNNEEDED, same version exists in internal repository
671/1882GeneNetworkBuilder 1.31.0Jianhong Ou OK  OK  OK  OK UNNEEDED, same version exists in internal repository
672/1882GeneOverlap 1.25.3António Miguel de Jesus Domingues, Max-Planck Institute for Cell Biology and Genetics ERROR  ERROR  skipped  skipped 
673/1882geneplast 1.15.0Mauro Castro OK  OK  WARNINGS  OK UNNEEDED, same version exists in internal repository
674/1882geneplotter 1.67.0Bioconductor Package Maintainer OK  OK  OK  OK UNNEEDED, same version exists in internal repository
675/1882geneRecommender 1.61.0Greg Hather OK  OK  OK  OK UNNEEDED, same version exists in internal repository
676/1882GeneRegionScan 1.45.0Lasse Folkersen OK  OK  OK  OK UNNEEDED, same version exists in internal repository
677/1882geneRxCluster 1.25.0Charles Berry OK  OK  OK  OK UNNEEDED, same version exists in internal repository
678/1882GeneSelectMMD 2.33.0Weiliang Qiu OK  OK  WARNINGS  OK UNNEEDED, same version exists in internal repository
679/1882GENESIS 2.19.1Stephanie M. Gogarten OK  OK  OK  OK UNNEEDED, same version exists in internal repository
680/1882GeneStructureTools 1.9.0Beth Signal OK  OK  OK  OK UNNEEDED, same version exists in internal repository
681/1882geNetClassifier 1.29.0Sara Aibar OK  OK  OK  OK UNNEEDED, same version exists in internal repository
682/1882GeneticsDesign 1.57.1The R Genetics Project OK  OK  ERROR  OK 
683/1882GeneticsPed 1.51.0David Henderson OK  OK  OK  OK UNNEEDED, same version exists in internal repository
684/1882GeneTonic 1.1.1Federico Marini OK  OK  OK  OK UNNEEDED, same version exists in internal repository
685/1882geneXtendeR 1.15.0Bohdan Khomtchouk OK  OK  OK  OK UNNEEDED, same version exists in internal repository
686/1882GENIE3 1.11.0Van Anh Huynh-Thu OK  OK  OK  OK UNNEEDED, same version exists in internal repository
687/1882genoCN 1.41.0Wei Sun OK  OK  OK  OK UNNEEDED, same version exists in internal repository
688/1882GenoGAM 2.7.0Georg Stricker OK  OK  WARNINGS  OK UNNEEDED, same version exists in internal repository
689/1882genomation 1.21.0Altuna Akalin , Vedran Franke OK  OK  WARNINGS  OK UNNEEDED, same version exists in internal repository
690/1882GenomeInfoDb 1.25.10Bioconductor Package Maintainer OK  OK  OK  OK UNNEEDED, same version exists in internal repository
691/1882genomeIntervals 1.45.2Julien Gagneur OK  OK  OK  OK UNNEEDED, same version exists in internal repository
692/1882genomes 3.19.0Chris Stubben OK  OK  OK  OK UNNEEDED, same version exists in internal repository
693/1882GenomicAlignments 1.25.3Bioconductor Package Maintainer OK  OK  OK  OK UNNEEDED, same version exists in internal repository
694/1882GenomicDataCommons 1.13.0Sean Davis OK  OK  WARNINGS  OK UNNEEDED, same version exists in internal repository
695/1882GenomicFeatures 1.41.2Bioconductor Package Maintainer OK  OK  OK  OK UNNEEDED, same version exists in internal repository
696/1882GenomicFiles 1.25.0Bioconductor Package Maintainer OK  OK  OK  OK UNNEEDED, same version exists in internal repository
697/1882GenomicInteractions 1.23.0Liz Ing-Simmons OK  OK  OK  OK UNNEEDED, same version exists in internal repository
698/1882GenomicOZone 1.3.2Hua Zhong, Mingzhou Song OK  OK  OK  OK UNNEEDED, same version exists in internal repository
699/1882GenomicRanges 1.41.5Bioconductor Package Maintainer OK  OK  OK  OK UNNEEDED, same version exists in internal repository
700/1882GenomicScores 2.1.6Robert Castelo OK  OK  WARNINGS  OK UNNEEDED, same version exists in internal repository
701/1882GenomicTuples 1.23.2Peter Hickey OK  OK  OK  OK UNNEEDED, same version exists in internal repository
702/1882genoset 1.45.1Peter M. Haverty OK  ERROR  skipped  skipped 
703/1882genotypeeval 1.21.0Jennifer Tom OK  OK  OK  OK UNNEEDED, same version exists in internal repository
704/1882genphen 1.17.0Simo Kitanovski OK  OK  OK  OK UNNEEDED, same version exists in internal repository
705/1882GenRank 1.17.1Chakravarthi Kanduri OK  ERROR  skipped  skipped 
706/1882GenVisR 1.21.0Zachary Skidmore OK  OK  OK  OK UNNEEDED, same version exists in internal repository
707/1882GEOmetadb 1.51.0Jack Zhu OK  OK  WARNINGS  OK UNNEEDED, same version exists in internal repository
708/1882GEOquery 2.57.0Sean Davis OK  OK  OK  OK UNNEEDED, same version exists in internal repository
709/1882GEOsubmission 1.41.0Alexandre Kuhn OK  OK  OK  OK UNNEEDED, same version exists in internal repository
710/1882gep2pep 1.9.0Francesco Napolitano OK  OK  OK  OK UNNEEDED, same version exists in internal repository
711/1882gespeR 1.21.0Fabian Schmich OK  OK  WARNINGS  OK UNNEEDED, same version exists in internal repository
712/1882getDEE2 0.99.30Mark Ziemann OK  OK  OK  OK UNNEEDED, same version exists in internal repository
713/1882GEWIST 1.33.0Wei Q. Deng OK  OK  OK  OK UNNEEDED, same version exists in internal repository
714/1882GGBase 3.51.1VJ Carey OK  OK  OK  OK UNNEEDED, same version exists in internal repository
715/1882ggbio 1.37.1Michael Lawrence OK  ERROR  skipped  skipped 
716/1882ggcyto 1.17.0Mike Jiang ,Jake Wagner OK  OK  OK  OK UNNEEDED, same version exists in internal repository
717/1882GGPA 1.1.0Dongjun Chung OK  OK  OK  OK UNNEEDED, same version exists in internal repository
718/1882GGtools 5.25.3VJ Carey OK  OK  ERROR  OK 
719/1882ggtree 2.3.4Guangchuang Yu OK  OK  OK  OK UNNEEDED, same version exists in internal repository
720/1882GIGSEA 1.7.0Shijia Zhu OK  OK  OK  OK UNNEEDED, same version exists in internal repository
721/1882girafe 1.41.1J. Toedling OK  OK  OK  OK UNNEEDED, same version exists in internal repository
722/1882GISPA 1.13.1Bhakti Dwivedi OK  OK  OK  OK UNNEEDED, same version exists in internal repository
723/1882GLAD 2.53.0Philippe Hupe OK  OK  OK  OK UNNEEDED, same version exists in internal repository
724/1882GladiaTOX 1.5.0PMP S.A. R Support OK  OK  OK  OK UNNEEDED, same version exists in internal repository
725/1882Glimma 1.17.2Shian Su OK  OK  OK  OK UNNEEDED, same version exists in internal repository
726/1882glmGamPoi 1.1.10Constantin Ahlmann-Eltze OK  OK  OK  OK UNNEEDED, same version exists in internal repository
727/1882glmSparseNet 1.7.0André Veríssimo OK  OK  OK  OK UNNEEDED, same version exists in internal repository
728/1882GlobalAncova 4.7.0Manuela Hummel OK  OK  OK  OK UNNEEDED, same version exists in internal repository
729/1882globalSeq 1.17.1Armin Rauschenberger OK  OK  OK  OK UNNEEDED, same version exists in internal repository
730/1882globaltest 5.43.0Jelle Goeman OK  OK  OK  OK UNNEEDED, same version exists in internal repository
731/1882gmapR 1.31.0Michael Lawrence OK  OK  WARNINGS  OK UNNEEDED, same version exists in internal repository
732/1882GmicR 1.3.0Richard Virgen-Slane OK  OK  OK  OK UNNEEDED, same version exists in internal repository
733/1882gmoviz 1.1.0Kathleen Zeglinski OK  OK  OK  OK UNNEEDED, same version exists in internal repository
734/1882GMRP 1.17.0Yuan-De Tan OK  OK  WARNINGS  OK UNNEEDED, same version exists in internal repository
735/1882GNET2 1.5.4Chen Chen OK  OK  WARNINGS  OK UNNEEDED, same version exists in internal repository
736/1882GOexpress 1.23.0Kevin Rue-Albrecht OK  OK  OK  OK UNNEEDED, same version exists in internal repository
737/1882GOfuncR 1.9.0Steffi Grote OK  OK  OK  OK UNNEEDED, same version exists in internal repository
738/1882GOFunction 1.37.1Jing Wang OK  ERROR  skipped  skipped 
739/1882GOpro 1.15.0Lidia Chrabaszcz OK  OK  WARNINGS  OK UNNEEDED, same version exists in internal repository
740/1882goProfiles 1.51.0Alex Sanchez OK  OK  OK  OK UNNEEDED, same version exists in internal repository
741/1882GOSemSim 2.15.1Guangchuang Yu OK  OK  OK  OK UNNEEDED, same version exists in internal repository
742/1882goseq 1.41.0Matthew Young , Nadia Davidson OK  OK  OK  OK UNNEEDED, same version exists in internal repository
743/1882GOSim 1.27.0Holger Froehlich OK  OK  OK  OK UNNEEDED, same version exists in internal repository
744/1882goSTAG 1.13.1Brian D. Bennett OK  OK  OK  OK UNNEEDED, same version exists in internal repository
745/1882GOstats 2.55.0Bioconductor Package Maintainer OK  OK  OK  OK UNNEEDED, same version exists in internal repository
746/1882GOsummaries 2.25.0Raivo Kolde OK  OK  OK  OK UNNEEDED, same version exists in internal repository
747/1882GOTHiC 1.25.2Borbala Mifsud OK  OK  OK  OK UNNEEDED, same version exists in internal repository
748/1882goTools 1.63.0Agnes Paquet OK  OK  OK  OK UNNEEDED, same version exists in internal repository
749/1882GPA 1.1.0Dongjun Chung OK  OK  OK  OK UNNEEDED, same version exists in internal repository
750/1882gpart 1.7.0Sun Ah Kim OK  OK  OK  OK UNNEEDED, same version exists in internal repository
751/1882gpls 1.61.0Bioconductor Package Maintainer OK  OK  WARNINGS  OK UNNEEDED, same version exists in internal repository
752/1882gprege 1.33.0Alfredo Kalaitzis OK  OK  OK  OK UNNEEDED, same version exists in internal repository
753/1882gpuMagic 1.5.0Jiefei Wang OK  OK  OK  OK UNNEEDED, same version exists in internal repository
754/1882gQTLBase 1.21.1VJ Carey ERROR  ERROR  skipped  skipped 
755/1882gQTLstats 1.21.3VJ Carey ERROR  ERROR  skipped  skipped 
756/1882gramm4R 1.3.0Tianlu Chen OK  OK  OK  OK UNNEEDED, same version exists in internal repository
757/1882graper 1.5.0Britta Velten OK  OK  OK  OK UNNEEDED, same version exists in internal repository
758/1882graph 1.67.1Bioconductor Package Maintainer OK  OK  OK  OK UNNEEDED, same version exists in internal repository
759/1882GraphAlignment 1.53.0Joern P. Meier OK  OK  OK  OK UNNEEDED, same version exists in internal repository
760/1882GraphAT 1.61.0Thomas LaFramboise OK  OK  OK  OK UNNEEDED, same version exists in internal repository
761/1882graphite 1.35.1Gabriele Sales OK  OK  OK  OK UNNEEDED, same version exists in internal repository
762/1882GraphPAC 1.31.0Gregory Ryslik OK  ERROR  skipped  skipped 
763/1882GRENITS 1.41.0Edward Morrissey OK  ERROR  skipped  skipped 
764/1882GreyListChIP 1.21.1Gordon Brown OK  OK  OK  OK UNNEEDED, same version exists in internal repository
765/1882GRmetrics 1.15.0Nicholas Clark , Mario Medvedovic OK  OK  OK  OK UNNEEDED, same version exists in internal repository
766/1882groHMM 1.23.0Anusha Nagari , Tulip Nandu , W. Lee Kraus OK  OK  OK  OK UNNEEDED, same version exists in internal repository
767/1882GRridge 1.13.0Mark A. van de Wiel OK  OK  WARNINGS  OK UNNEEDED, same version exists in internal repository
768/1882GSALightning 1.17.0Billy Heung Wing Chang OK  OK  OK  OK UNNEEDED, same version exists in internal repository
769/1882GSAR 1.23.0Yasir Rahmatallah , Galina Glazko OK  OK  OK  OK UNNEEDED, same version exists in internal repository
770/1882GSCA 2.19.0Zhicheng Ji OK  OK  OK  OK UNNEEDED, same version exists in internal repository
771/1882gscreend 1.3.0Katharina Imkeller OK  OK  OK  OK UNNEEDED, same version exists in internal repository
772/1882GSEABase 1.51.1Bioconductor Package Maintainer OK  OK  OK  OK UNNEEDED, same version exists in internal repository
773/1882GSEABenchmarkeR 1.9.1Ludwig Geistlinger OK  OK  OK  OK UNNEEDED, same version exists in internal repository
774/1882GSEAlm 1.49.0Assaf Oron OK  OK  OK  OK UNNEEDED, same version exists in internal repository
775/1882GSEAmining 0.99.21Oriol Arqués OK  OK  OK  OK UNNEEDED, same version exists in internal repository
776/1882gsean 1.9.0Dongmin Jung OK  OK  OK  OK UNNEEDED, same version exists in internal repository
777/1882GSReg 1.23.0Bahman Afsari , Elana J. Fertig OK  OK  WARNINGS  OK UNNEEDED, same version exists in internal repository
778/1882GSRI 2.37.0Julian Gehring OK  OK  OK  OK UNNEEDED, same version exists in internal repository
779/1882GSVA 1.37.3Justin Guinney OK  OK  OK  OK UNNEEDED, same version exists in internal repository
780/1882gtrellis 1.21.1Zuguang Gu OK  OK  OK  OK UNNEEDED, same version exists in internal repository
781/1882GUIDEseq 1.19.0Lihua Julie Zhu OK  OK  OK  OK UNNEEDED, same version exists in internal repository
782/1882Guitar 2.5.0Jia Meng OK  OK  OK  OK UNNEEDED, same version exists in internal repository
783/1882Gviz 1.33.2Robert Ivanek OK  OK  OK  OK UNNEEDED, same version exists in internal repository
784/1882gwascat 2.21.5VJ Carey OK  OK  OK  OK UNNEEDED, same version exists in internal repository
785/1882GWASTools 1.35.0Stephanie M. Gogarten OK  OK  OK  OK UNNEEDED, same version exists in internal repository
786/1882gwasurvivr 1.7.0Abbas Rizvi OK  OK  OK  OK UNNEEDED, same version exists in internal repository
787/1882GWENA 0.99.106Gwenaëlle Lemoine OK  OK  ERROR  OK 
H
ABCDEFGHIJKLMNOPQRSTUVWXYZ
PackageMaintainerINSTALLBUILDCHECKBUILD BIN
788/1882h5vc 2.23.1Paul Theodor Pyl OK  OK  OK  OK UNNEEDED, same version exists in internal repository
789/1882hapFabia 1.31.0Andreas Mitterecker OK  OK  OK  OK UNNEEDED, same version exists in internal repository
790/1882Harman 1.17.0Jason Ross OK  OK  OK  OK UNNEEDED, same version exists in internal repository
791/1882Harshlight 1.61.0Maurizio Pellegrino OK  OK  OK  OK UNNEEDED, same version exists in internal repository
792/1882HCABrowser 1.5.1Bioconductor Package Maintainer OK  OK  OK  OK UNNEEDED, same version exists in internal repository
793/1882HCAExplorer 1.3.6Bioconductor Package Maintainer OK  OK  OK  OK UNNEEDED, same version exists in internal repository
794/1882HCAMatrixBrowser 0.99.18Marcel Ramos OK  OK  OK  OK UNNEEDED, same version exists in internal repository
795/1882HDF5Array 1.17.3Hervé Pagès OK  OK  WARNINGS  OK UNNEEDED, same version exists in internal repository
796/1882HDTD 1.23.0Anestis Touloumis OK  OK  OK  OK UNNEEDED, same version exists in internal repository
797/1882heatmaps 1.13.0Malcolm Perry OK  OK  OK  OK UNNEEDED, same version exists in internal repository
798/1882Heatplus 2.35.0Alexander Ploner OK  OK  OK  OK UNNEEDED, same version exists in internal repository
799/1882HelloRanges 1.15.1Michael Lawrence OK  OK  OK  OK UNNEEDED, same version exists in internal repository
800/1882HELP 1.47.0Reid F. Thompson OK  OK  OK  OK UNNEEDED, same version exists in internal repository
801/1882HEM 1.61.0HyungJun Cho OK  OK  OK  OK UNNEEDED, same version exists in internal repository
802/1882hiAnnotator 1.23.0Nirav V Malani OK  OK  OK  OK UNNEEDED, same version exists in internal repository
803/1882HIBAG 1.25.0Xiuwen Zheng OK  OK  OK  OK UNNEEDED, same version exists in internal repository
804/1882HiCBricks 1.7.0Koustav Pal OK  OK  OK  OK UNNEEDED, same version exists in internal repository
805/1882HiCcompare 1.11.0John Stansfield OK  OK  OK  OK UNNEEDED, same version exists in internal repository
806/1882hicrep 1.13.0Tao Yang ERROR  ERROR  skipped  skipped 
807/1882hierGWAS 1.19.0Laura Buzdugan OK  OK  OK  OK UNNEEDED, same version exists in internal repository
808/1882hierinf 1.7.0Claude Renaux OK  OK  OK  OK UNNEEDED, same version exists in internal repository
809/1882HilbertCurve 1.19.0Zuguang Gu OK  OK  OK  OK UNNEEDED, same version exists in internal repository
810/1882HilbertVis 1.47.0Simon Anders OK  OK  WARNINGS  OK UNNEEDED, same version exists in internal repository
811/1882HilbertVisGUI ...NOT SUPPORTED...
812/1882HiLDA 1.3.0Zhi Yang OK  OK  OK  OK UNNEEDED, same version exists in internal repository
813/1882hipathia 2.5.0Marta R. Hidalgo OK  OK  OK  OK UNNEEDED, same version exists in internal repository
814/1882HIPPO 1.1.0Tae Kim OK  OK  OK  OK UNNEEDED, same version exists in internal repository
815/1882hiReadsProcessor 1.25.0Nirav V Malani OK  OK  OK  OK UNNEEDED, same version exists in internal repository
816/1882HIREewas 1.7.0Xiangyu Luo OK  OK  OK  OK UNNEEDED, same version exists in internal repository
817/1882HiTC 1.33.0Nicolas Servant OK  OK  OK  OK UNNEEDED, same version exists in internal repository
818/1882hmdbQuery 1.9.0VJ Carey OK  OK  OK  OK UNNEEDED, same version exists in internal repository
819/1882HMMcopy 1.31.0Daniel Lai , Sohrab Shah OK  OK  WARNINGS  OK UNNEEDED, same version exists in internal repository
820/1882hopach 2.49.0Katherine S. Pollard OK  OK  OK  OK UNNEEDED, same version exists in internal repository
821/1882HPAanalyze 1.7.0Anh Nhat Tran OK  OK  OK  OK UNNEEDED, same version exists in internal repository
822/1882hpar 1.31.0Laurent Gatto OK  OK  OK  OK UNNEEDED, same version exists in internal repository
823/1882HTqPCR 1.43.0Heidi Dvinge OK  OK  OK  OK UNNEEDED, same version exists in internal repository
824/1882HTSeqGenie ...NOT SUPPORTED...
825/1882HTSFilter 1.29.0Andrea Rau OK  OK  OK  OK UNNEEDED, same version exists in internal repository
826/1882HumanTranscriptomeCompendium 1.5.0VJ Carey OK  OK  OK  OK UNNEEDED, same version exists in internal repository
827/1882HybridMTest 1.33.0Demba Fofana OK  OK  OK  OK UNNEEDED, same version exists in internal repository
828/1882hypeR 1.5.1Anthony Federico OK  OK  OK  OK UNNEEDED, same version exists in internal repository
829/1882hyperdraw 1.41.0Paul Murrell OK  OK  OK  OK UNNEEDED, same version exists in internal repository
830/1882hypergraph 1.61.0Bioconductor Package Maintainer OK  OK  OK  OK UNNEEDED, same version exists in internal repository
I
ABCDEFGHIJKLMNOPQRSTUVWXYZ
PackageMaintainerINSTALLBUILDCHECKBUILD BIN
831/1882iASeq 1.33.0Yingying Wei OK  OK  OK  OK UNNEEDED, same version exists in internal repository
832/1882iasva 1.7.0Donghyung Lee , Anthony Cheng OK  OK  OK  OK UNNEEDED, same version exists in internal repository
833/1882iBBiG 1.33.0Aedin Culhane OK  OK  OK  OK UNNEEDED, same version exists in internal repository
834/1882ibh 1.37.0Kircicegi Korkmaz OK  OK  OK  OK UNNEEDED, same version exists in internal repository
835/1882iBMQ ...NOT SUPPORTED...
836/1882iCARE 1.17.0Bill Wheeler OK  OK  WARNINGS  OK UNNEEDED, same version exists in internal repository
837/1882Icens 1.61.0Bioconductor Package Maintainer OK  OK  OK  OK UNNEEDED, same version exists in internal repository
838/1882icetea 1.7.0Vivek Bhardwaj OK  OK  OK  OK UNNEEDED, same version exists in internal repository
839/1882iCheck 1.19.0Weiliang Qiu OK  OK  WARNINGS  OK UNNEEDED, same version exists in internal repository
840/1882iChip 1.43.0Qianxing Mo OK  OK  OK  OK UNNEEDED, same version exists in internal repository
841/1882iClusterPlus 1.25.0Qianxing Mo , Ronglai Shen OK  OK  WARNINGS  OK UNNEEDED, same version exists in internal repository
842/1882iCNV 1.9.0Zilu Zhou OK  OK  WARNINGS  OK UNNEEDED, same version exists in internal repository
843/1882iCOBRA 1.17.1Charlotte Soneson OK  OK  OK  OK UNNEEDED, same version exists in internal repository
844/1882ideal 1.13.1Federico Marini OK  OK  OK  OK UNNEEDED, same version exists in internal repository
845/1882IdeoViz 1.25.0Shraddha Pai OK  OK  WARNINGS  OK UNNEEDED, same version exists in internal repository
846/1882idiogram 1.65.0Karl J. Dykema OK  OK  OK  OK UNNEEDED, same version exists in internal repository
847/1882idr2d 1.3.2Konstantin Krismer OK  OK  OK  OK UNNEEDED, same version exists in internal repository
848/1882iGC 1.19.0Liang-Bo Wang OK  OK  OK  OK UNNEEDED, same version exists in internal repository
849/1882IgGeneUsage 1.3.2Simo Kitanovski OK  OK  OK  OK UNNEEDED, same version exists in internal repository
850/1882igvR 1.9.2Paul Shannon OK  OK  WARNINGS  OK UNNEEDED, same version exists in internal repository
851/1882IHW 1.17.0Nikos Ignatiadis OK  OK  OK  OK UNNEEDED, same version exists in internal repository
852/1882illuminaio 0.31.1Kasper Daniel Hansen OK  OK  OK  OK UNNEEDED, same version exists in internal repository
853/1882imageHTS 1.39.0Joseph Barry OK  OK  OK  OK UNNEEDED, same version exists in internal repository
854/1882IMAS 1.13.0Seonggyun Han OK  OK  OK  OK UNNEEDED, same version exists in internal repository
855/1882Imetagene 1.19.0Audrey Lemacon ERROR  ERROR  skipped  skipped 
856/1882IMMAN 1.9.3Minoo Ashtiani OK  OK  OK  OK UNNEEDED, same version exists in internal repository
857/1882ImmuneSpaceR 1.17.0ImmuneSpace Package Maintainer OK  ERROR  skipped  skipped 
858/1882immunoClust 1.21.0Till Soerensen OK  OK  WARNINGS  OK UNNEEDED, same version exists in internal repository
859/1882IMPCdata 1.25.0Jeremy Mason OK  OK  OK  OK UNNEEDED, same version exists in internal repository
860/1882ImpulseDE 1.15.1Jil Sander , Nir Yosef OK  OK  ERROR  OK 
861/1882ImpulseDE2 1.13.1David S Fischer OK  OK  ERROR  OK 
862/1882impute 1.63.0Balasubramanian Narasimhan OK  OK  OK  OK UNNEEDED, same version exists in internal repository
863/1882INDEED 2.3.0Ressom group OK  OK  OK  OK UNNEEDED, same version exists in internal repository
864/1882infercnv 1.5.0Christophe Georgescu OK  OK  OK  OK UNNEEDED, same version exists in internal repository
865/1882infinityFlow 0.99.12Etienne Becht OK  OK  OK  OK UNNEEDED, same version exists in internal repository
866/1882InPAS 1.21.0Jianhong Ou OK  OK  OK  OK UNNEEDED, same version exists in internal repository
867/1882INPower 1.25.0Bill Wheeler OK  OK  OK  OK UNNEEDED, same version exists in internal repository
868/1882INSPEcT 1.19.0Stefano de Pretis OK  OK  OK  OK UNNEEDED, same version exists in internal repository
869/1882InTAD 1.9.0Konstantin Okonechnikov OK  OK  OK  OK UNNEEDED, same version exists in internal repository
870/1882intansv 1.29.0Wen Yao OK  OK  OK  OK UNNEEDED, same version exists in internal repository
871/1882InteractionSet 1.17.1Aaron Lun OK  OK  OK  OK UNNEEDED, same version exists in internal repository
872/1882interactiveDisplay 1.27.0Shawn Balcome OK  OK  WARNINGS  OK UNNEEDED, same version exists in internal repository
873/1882interactiveDisplayBase 1.27.5Shawn Balcome OK  OK  OK  OK UNNEEDED, same version exists in internal repository
874/1882IntEREst 1.13.0Ali Oghabian , Mikko Frilander OK  OK  OK  OK UNNEEDED, same version exists in internal repository
875/1882InterMineR 1.11.0InterMine Team OK  OK  WARNINGS  OK UNNEEDED, same version exists in internal repository
876/1882IntramiRExploreR 1.11.0Surajit Bhattacharya OK  OK  WARNINGS  OK UNNEEDED, same version exists in internal repository
877/1882inveRsion 1.37.0Alejandro Caceres OK  OK  OK  OK UNNEEDED, same version exists in internal repository
878/1882IONiseR 2.13.0Mike Smith OK  OK  OK  OK UNNEEDED, same version exists in internal repository
879/1882iPAC 1.33.0Gregory Ryslik OK  OK  ERROR  OK 
880/1882ipdDb 1.7.0Steffen Klasberg OK  OK  OK  OK UNNEEDED, same version exists in internal repository
881/1882IPO 1.15.0Thomas Riebenbauer OK  OK  OK  OK UNNEEDED, same version exists in internal repository
882/1882IRanges 2.23.10Bioconductor Package Maintainer OK  OK  WARNINGS  OK UNNEEDED, same version exists in internal repository
883/1882iSEE 2.1.12Charlotte Soneson OK  OK  WARNINGS  OK UNNEEDED, same version exists in internal repository
884/1882iSEEu 1.1.5Kevin Rue-Albrecht OK  OK  WARNINGS  OK UNNEEDED, same version exists in internal repository
885/1882iSeq 1.41.0Qianxing Mo OK  OK  OK  OK UNNEEDED, same version exists in internal repository
886/1882isobar 1.35.0Florian P Breitwieser OK  OK  WARNINGS  OK UNNEEDED, same version exists in internal repository
887/1882IsoCorrectoR 1.7.2Christian Kohler OK  OK  OK  OK UNNEEDED, same version exists in internal repository
888/1882IsoCorrectoRGUI 1.5.0Christian Kohler OK  OK  OK  OK UNNEEDED, same version exists in internal repository
889/1882IsoformSwitchAnalyzeR 1.11.3Kristoffer Vitting-Seerup OK  OK  OK  OK UNNEEDED, same version exists in internal repository
890/1882IsoGeneGUI 2.25.0Setia Pramana OK  OK  OK  OK UNNEEDED, same version exists in internal repository
891/1882ISoLDE 1.17.0Christelle Reynès OK  OK  ERROR  OK 
892/1882isomiRs 1.17.2Lorena Pantano OK  OK  OK  OK UNNEEDED, same version exists in internal repository
893/1882ITALICS 2.49.0Guillem Rigaill ERROR  ERROR  skipped  skipped 
894/1882iterativeBMA 1.47.0Ka Yee Yeung OK  OK  OK  OK UNNEEDED, same version exists in internal repository
895/1882iterativeBMAsurv 1.47.0Ka Yee Yeung OK  OK  OK  OK UNNEEDED, same version exists in internal repository
896/1882iterClust 1.11.0Hongxu Ding OK  OK  OK  OK UNNEEDED, same version exists in internal repository
897/1882iteremoval 1.9.0Jiacheng Chuan OK  OK  OK  OK UNNEEDED, same version exists in internal repository
898/1882IVAS 2.9.0Seonggyun Han OK  OK  WARNINGS  OK UNNEEDED, same version exists in internal repository
899/1882ivygapSE 1.11.0VJ Carey OK  OK  OK  OK UNNEEDED, same version exists in internal repository
900/1882IWTomics 1.13.0Marzia A Cremona OK  OK  WARNINGS  OK UNNEEDED, same version exists in internal repository
J
ABCDEFGHIJKLMNOPQRSTUVWXYZ
PackageMaintainerINSTALLBUILDCHECKBUILD BIN
901/1882joda 1.37.1Ewa Szczurek OK  OK  ERROR  OK 
902/1882JunctionSeq 1.19.1Stephen Hartley OK  OK  ERROR  OK 
K
ABCDEFGHIJKLMNOPQRSTUVWXYZ
PackageMaintainerINSTALLBUILDCHECKBUILD BIN
903/1882karyoploteR 1.15.0Bernat Gel OK  OK  OK  OK UNNEEDED, same version exists in internal repository
904/1882KCsmart 2.47.0Jorma de Ronde OK  OK  WARNINGS  OK UNNEEDED, same version exists in internal repository
905/1882kebabs 1.23.1Ulrich Bodenhofer OK  OK  WARNINGS  OK UNNEEDED, same version exists in internal repository
906/1882KEGGgraph 1.49.1Jitao David Zhang OK  OK  OK  OK UNNEEDED, same version exists in internal repository
907/1882KEGGlincs 1.15.0Shana White , Mario Medvedovic OK  OK  OK  OK UNNEEDED, same version exists in internal repository
908/1882keggorthology 2.41.0VJ Carey OK  OK  OK  OK UNNEEDED, same version exists in internal repository
909/1882KEGGprofile 1.31.0Shilin Zhao OK  OK  OK  OK UNNEEDED, same version exists in internal repository
910/1882KEGGREST 1.29.0Bioconductor Package Maintainer OK  OK  OK  OK UNNEEDED, same version exists in internal repository
911/1882KinSwingR 1.7.0Ashley J. Waardenberg OK  OK  OK  OK UNNEEDED, same version exists in internal repository
912/1882kissDE 1.9.0Aurélie Siberchicot OK  OK  OK  OK UNNEEDED, same version exists in internal repository
913/1882KnowSeq 1.3.1Daniel Castillo-Secilla OK  OK  OK  OK UNNEEDED, same version exists in internal repository
L
ABCDEFGHIJKLMNOPQRSTUVWXYZ
PackageMaintainerINSTALLBUILDCHECKBUILD BIN
914/1882LACE 1.1.0Davide Maspero OK  OK  OK  OK UNNEEDED, same version exists in internal repository
915/1882lapmix 1.55.0Yann Ruffieux OK  OK  OK  OK UNNEEDED, same version exists in internal repository
916/1882LBE 1.57.0Cyril Dalmasso OK  OK  OK  OK UNNEEDED, same version exists in internal repository
917/1882ldblock 1.19.1VJ Carey OK  OK  OK  OK UNNEEDED, same version exists in internal repository
918/1882LEA 3.1.0Olivier Francois OK  OK  WARNINGS  OK UNNEEDED, same version exists in internal repository
919/1882LedPred 1.23.0Aitor Gonzalez OK  OK  OK  OK UNNEEDED, same version exists in internal repository
920/1882les 1.39.0Julian Gehring OK  OK  OK  OK UNNEEDED, same version exists in internal repository
921/1882levi 1.7.0Jose Luiz Rybarczyk Filho OK  OK  OK  OK UNNEEDED, same version exists in internal repository
922/1882lfa 1.19.0Wei Hao , John D. Storey OK  OK  WARNINGS  OK UNNEEDED, same version exists in internal repository
923/1882limma 3.45.10Gordon Smyth OK  OK  OK  OK UNNEEDED, same version exists in internal repository
924/1882limmaGUI 1.65.0Gordon Smyth OK  OK  OK  OK UNNEEDED, same version exists in internal repository
925/1882LINC 1.17.1Manuel Goepferich OK  OK  ERROR  OK 
926/1882LineagePulse 1.9.0David S Fischer OK  OK  WARNINGS  OK UNNEEDED, same version exists in internal repository
927/1882LinkHD 1.3.0"Laura M Zingaretti" OK  OK  OK  OK UNNEEDED, same version exists in internal repository
928/1882Linnorm 2.13.0Ken Shun Hang Yip OK  OK  OK  OK UNNEEDED, same version exists in internal repository
929/1882lionessR 1.3.0Ping-Han Hsieh OK  OK  OK  OK UNNEEDED, same version exists in internal repository
930/1882lipidr 2.3.3Ahmed Mohamed OK  OK  OK  OK UNNEEDED, same version exists in internal repository
931/1882LiquidAssociation 1.43.0Yen-Yi Ho OK  OK  OK  OK UNNEEDED, same version exists in internal repository
932/1882lmdme 1.31.0Cristobal Fresno OK  OK  WARNINGS  OK UNNEEDED, same version exists in internal repository
933/1882LOBSTAHS 1.15.0James Collins OK  OK  WARNINGS  OK UNNEEDED, same version exists in internal repository
934/1882loci2path 1.9.0Tianlei Xu OK  OK  OK  OK UNNEEDED, same version exists in internal repository
935/1882logicFS 2.9.0Holger Schwender OK  OK  OK  OK UNNEEDED, same version exists in internal repository
936/1882logitT 1.47.0Tobias Guennel OK  OK  OK  OK UNNEEDED, same version exists in internal repository
937/1882Logolas 1.13.1Kushal Dey OK  OK  ERROR  OK 
938/1882LOLA 1.19.0Nathan Sheffield OK  OK  ERROR  OK 
939/1882LoomExperiment 1.7.0Bioconductor Package Maintainer OK  OK  OK  OK UNNEEDED, same version exists in internal repository
940/1882LowMACA 1.19.0Stefano de Pretis , Giorgio Melloni OK  ERROR  skipped  skipped 
941/1882LPE 1.63.0Nitin Jain OK  OK  OK  OK UNNEEDED, same version exists in internal repository
942/1882LPEadj 1.49.0Carl Murie OK  OK  OK  OK UNNEEDED, same version exists in internal repository
943/1882lpNet 2.21.0Lars Kaderali ERROR  ERROR  skipped  skipped 
944/1882lpsymphony 1.17.0Vladislav Kim OK  OK  OK  OK UNNEEDED, same version exists in internal repository
945/1882LRBaseDbi 1.7.0Koki Tsuyuzaki OK  OK  OK  OK UNNEEDED, same version exists in internal repository
946/1882lumi 2.41.0Lei Huang OK  OK  WARNINGS  OK UNNEEDED, same version exists in internal repository
947/1882LymphoSeq 1.17.0David Coffey OK  OK  OK  OK UNNEEDED, same version exists in internal repository
M
ABCDEFGHIJKLMNOPQRSTUVWXYZ
PackageMaintainerINSTALLBUILDCHECKBUILD BIN
948/1882M3C 1.11.0Christopher John OK  OK  OK  OK UNNEEDED, same version exists in internal repository
949/1882M3Drop 1.15.1Tallulah Andrews OK  OK  OK  OK UNNEEDED, same version exists in internal repository
950/1882maanova 1.59.0Keith Sheppard OK  OK  WARNINGS  OK UNNEEDED, same version exists in internal repository
951/1882Maaslin2 1.3.1Lauren McIver OK  OK  ERROR  OK 
952/1882macat 1.63.0Joern Toedling OK  OK  OK  OK UNNEEDED, same version exists in internal repository
953/1882maCorrPlot 1.59.0Alexander Ploner OK  OK  OK  OK UNNEEDED, same version exists in internal repository
954/1882MACPET 1.9.0Ioannis Vardaxis OK  OK  OK  OK UNNEEDED, same version exists in internal repository
955/1882MACSQuantifyR 1.3.0Raphaël Bonnet OK  OK  OK  OK UNNEEDED, same version exists in internal repository
956/1882made4 1.63.0Aedin Culhane OK  OK  ERROR  OK 
957/1882MADSEQ 1.15.0Yu Kong OK  OK  OK  OK UNNEEDED, same version exists in internal repository
958/1882maftools 2.5.0Anand Mayakonda OK  OK  OK  OK UNNEEDED, same version exists in internal repository
959/1882MAGeCKFlute 1.9.0Wubing Zhang OK  OK  OK  OK UNNEEDED, same version exists in internal repository
960/1882maigesPack 1.53.0Gustavo H. Esteves OK  OK  OK  OK UNNEEDED, same version exists in internal repository
961/1882MAIT 1.23.5Pol Sola-Santos OK  OK  OK  OK UNNEEDED, same version exists in internal repository
962/1882makecdfenv 1.65.0James W. MacDonald OK  OK  OK  OK UNNEEDED, same version exists in internal repository
963/1882MANOR 1.61.0Pierre Neuvial OK  OK  OK  OK UNNEEDED, same version exists in internal repository
964/1882MantelCorr 1.59.0Brian Steinmeyer OK  OK  OK  OK UNNEEDED, same version exists in internal repository
965/1882mAPKL 1.19.0Argiris Sakellariou OK  OK  WARNINGS  OK UNNEEDED, same version exists in internal repository
966/1882maPredictDSC 1.27.0Adi Laurentiu Tarca OK  OK  OK  OK UNNEEDED, same version exists in internal repository
967/1882mapscape 1.13.0Maia Smith OK  OK  WARNINGS  OK UNNEEDED, same version exists in internal repository
968/1882marray 1.67.0Yee Hwa (Jean) Yang OK  OK  OK  OK UNNEEDED, same version exists in internal repository
969/1882martini 1.9.0Hector Climente-Gonzalez OK  OK  OK  OK UNNEEDED, same version exists in internal repository
970/1882maser 1.7.0Diogo F.T. Veiga OK  ERROR  skipped  skipped 
971/1882maSigPro 1.61.0Maria Jose Nueda OK  OK  OK  OK UNNEEDED, same version exists in internal repository
972/1882maskBAD 1.33.0Michael Dannemann OK  OK  OK  OK UNNEEDED, same version exists in internal repository
973/1882MassArray 1.41.0Reid F. Thompson OK  OK  OK  OK UNNEEDED, same version exists in internal repository
974/1882massiR 1.25.0Sam Buckberry OK  OK  OK  OK UNNEEDED, same version exists in internal repository
975/1882MassSpecWavelet 1.55.0Pan Du OK  OK  OK  OK UNNEEDED, same version exists in internal repository
976/1882MAST 1.15.0Andrew McDavid OK  OK  OK  OK UNNEEDED, same version exists in internal repository
977/1882matchBox 1.31.0Luigi Marchionni , Anuj Gupta OK  OK  OK  OK UNNEEDED, same version exists in internal repository
978/1882MatrixGenerics 1.1.2Peter Hickey OK  OK  OK  OK UNNEEDED, same version exists in internal repository
979/1882MatrixRider 1.21.0Elena Grassi OK  OK  OK  OK UNNEEDED, same version exists in internal repository
980/1882matter 1.15.0Kylie A. Bemis ERROR  ERROR  skipped  skipped 
981/1882MBAmethyl 1.23.0Tao Wang OK  OK  OK  OK UNNEEDED, same version exists in internal repository
982/1882MBASED 1.23.0Oleg Mayba OK  OK  OK  OK UNNEEDED, same version exists in internal repository
983/1882MBCB 1.43.0Jeff Allen OK  OK  OK  OK UNNEEDED, same version exists in internal repository
984/1882mbkmeans 1.5.1Davide Risso OK  OK  OK  OK UNNEEDED, same version exists in internal repository
985/1882mBPCR 1.43.0P.M.V. Rancoita OK  OK  OK  OK UNNEEDED, same version exists in internal repository
986/1882MBQN 2.1.3Ariane Schad OK  OK  OK  OK UNNEEDED, same version exists in internal repository
987/1882MBttest 1.17.0Yuan-De Tan OK  OK  OK  OK UNNEEDED, same version exists in internal repository
988/1882mcaGUI 1.37.1Wade K. Copeland ERROR  OK  ERROR  ERROR 
989/1882MCbiclust 1.13.0Robert Bentham OK  OK  OK  OK UNNEEDED, same version exists in internal repository
990/1882mCSEA 1.9.0Jordi Martorell-Marugán OK  OK  OK  OK UNNEEDED, same version exists in internal repository
991/1882mdgsa 1.21.0David Montaner OK  OK  OK  OK UNNEEDED, same version exists in internal repository
992/1882mdp 1.9.0Helder Nakaya OK  ERROR  skipped  skipped 
993/1882mdqc 1.51.0Gabriela Cohen-Freue OK  OK  OK  OK UNNEEDED, same version exists in internal repository
994/1882MDTS 1.9.0Jack M.. Fu OK  OK  OK  OK UNNEEDED, same version exists in internal repository
995/1882MEAL 1.19.0Carlos Ruiz-Arenas OK  OK  WARNINGS  OK UNNEEDED, same version exists in internal repository
996/1882MeasurementError.cor 1.61.0Beiying Ding OK  OK  OK  OK UNNEEDED, same version exists in internal repository
997/1882MEAT 1.1.2Sarah Voisin OK  OK  WARNINGS  OK UNNEEDED, same version exists in internal repository
998/1882MEB 1.3.0Jiadi Zhu OK  OK  OK  OK UNNEEDED, same version exists in internal repository
999/1882MEDIPS 1.41.1Lukas Chavez OK  OK  OK  OK UNNEEDED, same version exists in internal repository
1000/1882MEDME 1.49.0Mattia Pelizzola OK  OK  WARNINGS  OK UNNEEDED, same version exists in internal repository
1001/1882MEIGOR 1.23.1Jose A. Egea OK  OK  WARNINGS  OK UNNEEDED, same version exists in internal repository
1002/1882Melissa 1.5.3C. A. Kapourani OK  OK  OK  OK UNNEEDED, same version exists in internal repository
1003/1882Mergeomics 1.17.0Zeyneb Kurt OK  OK  OK  OK UNNEEDED, same version exists in internal repository
1004/1882MeSHDbi 1.25.0Koki Tsuyuzaki OK  OK  OK  OK UNNEEDED, same version exists in internal repository
1005/1882meshes 1.15.0Guangchuang Yu OK  OK  OK  OK UNNEEDED, same version exists in internal repository
1006/1882meshr 1.25.1Koki Tsuyuzaki OK  OK  OK  OK UNNEEDED, same version exists in internal repository
1007/1882messina 1.25.0Mark Pinese OK  OK  OK  OK UNNEEDED, same version exists in internal repository
1008/1882metaArray 1.67.0Hyungwon Choi ERROR  ERROR  skipped  skipped 
1009/1882Metab 1.23.0Raphael Aggio OK  OK  OK  OK UNNEEDED, same version exists in internal repository
1010/1882metabomxtr 1.23.0Michael Nodzenski OK  OK  OK  OK UNNEEDED, same version exists in internal repository
1011/1882MetaboSignal 1.19.0Andrea Rodriguez-Martinez OK  OK  OK  OK UNNEEDED, same version exists in internal repository
1012/1882metaCCA 1.17.0Anna Cichonska OK  OK  WARNINGS  OK UNNEEDED, same version exists in internal repository
1013/1882MetaCyto 1.11.0Zicheng Hu OK  OK  OK  OK UNNEEDED, same version exists in internal repository
1014/1882metagene 2.21.0Charles Joly Beauparlant OK  OK  OK  OK UNNEEDED, same version exists in internal repository
1015/1882metagene2 1.5.0Eric Fournier OK  OK  OK  OK UNNEEDED, same version exists in internal repository
1016/1882metagenomeFeatures 2.9.0Nathan D. Olson OK  OK  OK  OK UNNEEDED, same version exists in internal repository
1017/1882metagenomeSeq 1.31.0Joseph N. Paulson OK  OK  OK  OK UNNEEDED, same version exists in internal repository
1018/1882metahdep 1.47.0John R. Stevens OK  OK  WARNINGS  OK UNNEEDED, same version exists in internal repository
1019/1882metaMS 1.25.1Yann Guitton OK  OK  OK  OK UNNEEDED, same version exists in internal repository
1020/1882MetaNeighbor 1.9.0Manthan Shah OK  OK  OK  OK UNNEEDED, same version exists in internal repository
1021/1882metaSeq 1.29.0Koki Tsuyuzaki OK  OK  OK  OK UNNEEDED, same version exists in internal repository
1022/1882metaseqR 1.29.1Panagiotis Moulos OK  OK  WARNINGS  OK UNNEEDED, same version exists in internal repository
1023/1882metaseqR2 1.1.21Panagiotis Moulos OK  OK  OK  OK UNNEEDED, same version exists in internal repository
1024/1882metavizr 1.13.0Hector Corrada Bravo OK  OK  OK  OK UNNEEDED, same version exists in internal repository
1025/1882MetaVolcanoR 1.3.0Cesar Prada OK  OK  OK  OK UNNEEDED, same version exists in internal repository
1026/1882MetCirc 1.19.0Thomas Naake OK  OK  OK  OK UNNEEDED, same version exists in internal repository
1027/1882MethCP 1.3.0Boying Gong OK  OK  OK  OK UNNEEDED, same version exists in internal repository
1028/1882methimpute 1.11.0Aaron Taudt OK  OK  OK  OK UNNEEDED, same version exists in internal repository
1029/1882methInheritSim 1.11.0Pascal Belleau OK  OK