Back to Multiple platform build/check report for BioC 3.12 |
|
This page was generated on 2021-01-13 11:51:00 -0500 (Wed, 13 Jan 2021).
TO THE DEVELOPERS/MAINTAINERS OF THE ASEB PACKAGE: Please make sure to use the following settings in order to reproduce any error or warning you see on this page. |
Package 91/1974 | Hostname | OS / Arch | INSTALL | BUILD | CHECK | BUILD BIN | ||||||
ASEB 1.34.0 Likun Wang
| malbec1 | Linux (Ubuntu 18.04.5 LTS) / x86_64 | OK | [ OK ] | OK | ![]() | ||||||
nebbiolo1 | Linux (Ubuntu 20.04.1 LTS) / x86_64 | OK | OK | OK | ||||||||
tokay1 | Windows Server 2012 R2 Standard / x64 | OK | OK | OK | OK | ![]() | ||||||
merida1 | macOS 10.14.6 Mojave / x86_64 | OK | OK | OK | OK | ![]() |
Package: ASEB |
Version: 1.34.0 |
Command: /home/biocbuild/bbs-3.12-bioc/R/bin/R CMD build --keep-empty-dirs --no-resave-data ASEB |
StartedAt: 2021-01-12 17:43:36 -0500 (Tue, 12 Jan 2021) |
EndedAt: 2021-01-12 17:43:49 -0500 (Tue, 12 Jan 2021) |
EllapsedTime: 13.3 seconds |
RetCode: 0 |
Status: OK |
PackageFile: ASEB_1.34.0.tar.gz |
PackageFileSize: 514.7 KiB |
############################################################################## ############################################################################## ### ### Running command: ### ### /home/biocbuild/bbs-3.12-bioc/R/bin/R CMD build --keep-empty-dirs --no-resave-data ASEB ### ############################################################################## ############################################################################## * checking for file ‘ASEB/DESCRIPTION’ ... OK * preparing ‘ASEB’: * checking DESCRIPTION meta-information ... OK * cleaning src * installing the package to build vignettes * creating vignettes ... OK * cleaning src * checking for LF line-endings in source and make files and shell scripts * checking for empty or unneeded directories * building ‘ASEB_1.34.0.tar.gz’