Back to Multiple platform build/check report for BioC 3.12
[A]BCDEFGHIJKLMNOPQRSTUVWXYZ

BUILD report for ASICS on merida1

This page was generated on 2020-08-12 12:02:40 -0400 (Wed, 12 Aug 2020).

TO THE DEVELOPERS/MAINTAINERS OF THE ASICS PACKAGE: Please make sure to use the following settings in order to reproduce any error or warning you see on this page.
Package 87/1885HostnameOS / ArchINSTALLBUILDCHECKBUILD BIN
ASICS 2.5.3
Gaëlle Lefort
Snapshot Date: 2020-08-11 14:50:16 -0400 (Tue, 11 Aug 2020)
URL: https://git.bioconductor.org/packages/ASICS
Branch: master
Last Commit: 6bc5327
Last Changed Date: 2020-07-20 02:38:28 -0400 (Mon, 20 Jul 2020)
malbec1 Linux (Ubuntu 18.04.4 LTS) / x86_64  OK  OK  WARNINGS UNNEEDED, same version exists in internal repository
nebbiolo1 Linux (Ubuntu 20.04.1 LTS) / x86_64  OK  OK  WARNINGS 
tokay1 Windows Server 2012 R2 Standard / x64  OK  OK  WARNINGS  OK UNNEEDED, same version exists in internal repository
merida1 macOS 10.14.6 Mojave / x86_64  OK [ OK ] WARNINGS  OK UNNEEDED, same version exists in internal repository

Summary

Package: ASICS
Version: 2.5.3
Command: /Library/Frameworks/R.framework/Versions/Current/Resources/bin/R CMD build --keep-empty-dirs --no-resave-data ASICS
StartedAt: 2020-08-11 21:01:22 -0400 (Tue, 11 Aug 2020)
EndedAt: 2020-08-11 21:04:43 -0400 (Tue, 11 Aug 2020)
EllapsedTime: 201.0 seconds
RetCode: 0
Status:  OK 
PackageFile: ASICS_2.5.3.tar.gz
PackageFileSize: 3.529 MiB

Command output

##############################################################################
##############################################################################
###
### Running command:
###
###   /Library/Frameworks/R.framework/Versions/Current/Resources/bin/R CMD build --keep-empty-dirs --no-resave-data ASICS
###
##############################################################################
##############################################################################


* checking for file ‘ASICS/DESCRIPTION’ ... OK
* preparing ‘ASICS’:
* checking DESCRIPTION meta-information ... OK
* installing the package to build vignettes
* creating vignettes ... OK
* checking for LF line-endings in source and make files and shell scripts
* checking for empty or unneeded directories
* building ‘ASICS_2.5.3.tar.gz’