Back to Multiple platform build/check report for BioC 3.12
ABCDEFGHIJKLMNO[P]QRSTUVWXYZ

BUILD report for pathprint on malbec1

This page was generated on 2021-02-22 12:31:34 -0500 (Mon, 22 Feb 2021).

To the developers/maintainers of the pathprint package:
Please make sure to use the following settings in order to reproduce any error or warning you see on this page.
Package 1306/1974HostnameOS / ArchINSTALLBUILDCHECKBUILD BIN
pathprint 1.20.0
Sokratis Kariotis
Snapshot Date: 2021-02-21 14:52:07 -0500 (Sun, 21 Feb 2021)
URL: https://git.bioconductor.org/packages/pathprint
Branch: RELEASE_3_12
Last Commit: c7e4ddd
Last Changed Date: 2020-10-27 11:22:19 -0500 (Tue, 27 Oct 2020)
malbec1Linux (Ubuntu 18.04.5 LTS) / x86_64  OK    OK    ERROR  
nebbiolo1Linux (Ubuntu 20.04.2 LTS) / x86_64  OK    OK    ERROR  
tokay1Windows Server 2012 R2 Standard / x64  OK    OK    ERROR    OK  
merida1macOS 10.14.6 Mojave / x86_64  OK    OK    ERROR    OK  

Summary

Package: pathprint
Version: 1.20.0
Command: /home/biocbuild/bbs-3.12-bioc/R/bin/R CMD build --keep-empty-dirs --no-resave-data pathprint
StartedAt: 2021-02-21 21:10:17 -0500 (Sun, 21 Feb 2021)
EndedAt: 2021-02-21 21:11:37 -0500 (Sun, 21 Feb 2021)
EllapsedTime: 79.6 seconds
RetCode: 0
Status:   OK  
PackageFile: pathprint_1.20.0.tar.gz
PackageFileSize: 1.108 MiB

Command output

##############################################################################
##############################################################################
###
### Running command:
###
###   /home/biocbuild/bbs-3.12-bioc/R/bin/R CMD build --keep-empty-dirs --no-resave-data pathprint
###
##############################################################################
##############################################################################


* checking for file ‘pathprint/DESCRIPTION’ ... OK
* preparing ‘pathprint’:
* checking DESCRIPTION meta-information ... OK
* installing the package to build vignettes
* creating vignettes ... OK
* checking for LF line-endings in source and make files and shell scripts
* checking for empty or unneeded directories
* looking to see if a ‘data/datalist’ file should be added
* building ‘pathprint_1.20.0.tar.gz’