Back to Multiple platform build/check report for BioC 3.12
[A]BCDEFGHIJKLMNOPQRSTUVWXYZ

BUILD BIN report for ALPS on tokay1

This page was generated on 2020-08-13 11:46:12 -0400 (Thu, 13 Aug 2020).

TO THE DEVELOPERS/MAINTAINERS OF THE ALPS PACKAGE: Please make sure to use the following settings in order to reproduce any error or warning you see on this page.
Package 45/1885HostnameOS / ArchINSTALLBUILDCHECKBUILD BIN
ALPS 1.3.0
Venu Thatikonda
Snapshot Date: 2020-08-12 14:52:00 -0400 (Wed, 12 Aug 2020)
URL: https://git.bioconductor.org/packages/ALPS
Branch: master
Last Commit: 10e65ff
Last Changed Date: 2020-04-27 15:31:37 -0400 (Mon, 27 Apr 2020)
malbec1 Linux (Ubuntu 18.04.4 LTS) / x86_64  OK  OK  OK UNNEEDED, same version exists in internal repository
nebbiolo1 Linux (Ubuntu 20.04.1 LTS) / x86_64  OK  OK  OK 
tokay1 Windows Server 2012 R2 Standard / x64  OK  OK  OK [ OK ]UNNEEDED, same version exists in internal repository
merida1 macOS 10.14.6 Mojave / x86_64  OK  OK  OK  OK UNNEEDED, same version exists in internal repository

Summary

Package: ALPS
Version: 1.3.0
Command: rm -rf ALPS.buildbin-libdir && mkdir ALPS.buildbin-libdir && C:\Users\biocbuild\bbs-3.12-bioc\R\bin\R.exe --arch x64 CMD INSTALL --no-multiarch --build --library=ALPS.buildbin-libdir ALPS_1.3.0.tar.gz
StartedAt: 2020-08-13 09:02:45 -0400 (Thu, 13 Aug 2020)
EndedAt: 2020-08-13 09:03:50 -0400 (Thu, 13 Aug 2020)
EllapsedTime: 65.0 seconds
RetCode: 0
Status:  OK  
PackageFile: ALPS_1.3.0.zip
PackageFileSize: 2.094 MiB

Command output

##############################################################################
##############################################################################
###
### Running command:
###
###   rm -rf ALPS.buildbin-libdir && mkdir ALPS.buildbin-libdir && C:\Users\biocbuild\bbs-3.12-bioc\R\bin\R.exe --arch x64 CMD INSTALL --no-multiarch --build --library=ALPS.buildbin-libdir ALPS_1.3.0.tar.gz
###
##############################################################################
##############################################################################


* installing *source* package 'ALPS' ...
** using staged installation
** R
** inst
** byte-compile and prepare package for lazy loading
** help
*** installing help indices
  converting help for package 'ALPS'
    finding HTML links ... done
    ALPS-package                            html  
    get_genomic_annotations                 html  
    get_variable_regions                    html  
    merge_GR                                html  
    multiBigwig_summary                     html  
    pipe                                    html  
    plot_browser_tracks                     html  
    plot_correlation                        html  
    plot_enrichments                        html  
    plot_genomic_annotations                html  
    plot_motif_logo                         html  
    process_homer                           html  
    process_jaspar                          html  
    process_meme                            html  
    process_pfm                             html  
    process_transfac                        html  
** building package indices
** installing vignettes
** testing if installed package can be loaded from temporary location
** testing if installed package can be loaded from final location
** testing if installed package keeps a record of temporary installation path
* MD5 sums
packaged installation of 'ALPS' as ALPS_1.3.0.zip
* DONE (ALPS)