Back to Multiple platform build/check report for BioC 3.12
[A]BCDEFGHIJKLMNOPQRSTUVWXYZ

INSTALL report for altcdfenvs on malbec1

This page was generated on 2020-08-07 11:15:05 -0400 (Fri, 07 Aug 2020).

TO THE DEVELOPERS/MAINTAINERS OF THE altcdfenvs PACKAGE: Please make sure to use the following settings in order to reproduce any error or warning you see on this page.
Package 47/1882HostnameOS / ArchINSTALLBUILDCHECKBUILD BIN
altcdfenvs 2.51.0
Laurent Gautier
Snapshot Date: 2020-08-06 14:50:46 -0400 (Thu, 06 Aug 2020)
URL: https://git.bioconductor.org/packages/altcdfenvs
Branch: master
Last Commit: ce94335
Last Changed Date: 2020-04-27 14:09:31 -0400 (Mon, 27 Apr 2020)
malbec1 Linux (Ubuntu 18.04.4 LTS) / x86_64 [ OK ] OK  OK UNNEEDED, same version exists in internal repository
tokay1 Windows Server 2012 R2 Standard / x64  OK  OK  OK  OK UNNEEDED, same version exists in internal repository
merida1 macOS 10.14.6 Mojave / x86_64  OK  OK  OK  OK UNNEEDED, same version exists in internal repository

Summary

Package: altcdfenvs
Version: 2.51.0
Command: /home/biocbuild/bbs-3.12-bioc/R/bin/R CMD INSTALL altcdfenvs
StartedAt: 2020-08-06 16:35:28 -0400 (Thu, 06 Aug 2020)
EndedAt: 2020-08-06 16:35:44 -0400 (Thu, 06 Aug 2020)
EllapsedTime: 16.1 seconds
RetCode: 0
Status:  OK 

Command output

##############################################################################
##############################################################################
###
### Running command:
###
###   /home/biocbuild/bbs-3.12-bioc/R/bin/R CMD INSTALL altcdfenvs
###
##############################################################################
##############################################################################


* installing to library ‘/home/biocbuild/bbs-3.12-bioc/R/library’
* installing *source* package ‘altcdfenvs’ ...
** using staged installation
** R
** data
** inst
** byte-compile and prepare package for lazy loading
NOTE: arguments in definition for validity method for class 'AffyProbesMatch' changed from (obj) to (object)
in method for ‘toHypergraph’ with signature ‘"CdfEnvAffy"’: no definition for class “CdfEnvAffy”
** help
*** installing help indices
** building package indices
** installing vignettes
** testing if installed package can be loaded from temporary location
** testing if installed package can be loaded from final location
** testing if installed package keeps a record of temporary installation path
* DONE (altcdfenvs)