Back to Multiple platform build/check report for BioC 3.12
[A]BCDEFGHIJKLMNOPQRSTUVWXYZ

BUILD report for AnVIL on tokay1

This page was generated on 2020-08-11 11:50:41 -0400 (Tue, 11 Aug 2020).

TO THE DEVELOPERS/MAINTAINERS OF THE AnVIL PACKAGE: Please make sure to use the following settings in order to reproduce any error or warning you see on this page.
Package 69/1885HostnameOS / ArchINSTALLBUILDCHECKBUILD BIN
AnVIL 1.1.14
Martin Morgan
Snapshot Date: 2020-08-10 14:50:56 -0400 (Mon, 10 Aug 2020)
URL: https://git.bioconductor.org/packages/AnVIL
Branch: master
Last Commit: eb57fc7
Last Changed Date: 2020-07-07 09:49:59 -0400 (Tue, 07 Jul 2020)
malbec1 Linux (Ubuntu 18.04.4 LTS) / x86_64  OK  OK  OK UNNEEDED, same version exists in internal repository
nebbiolo1 Linux (Ubuntu 20.04.1 LTS) / x86_64  OK  OK  NA 
tokay1 Windows Server 2012 R2 Standard / x64  OK [ OK ] OK  OK UNNEEDED, same version exists in internal repository
merida1 macOS 10.14.6 Mojave / x86_64  OK  OK  OK  OK UNNEEDED, same version exists in internal repository

Summary

Package: AnVIL
Version: 1.1.14
Command: chmod a+r AnVIL -R && C:\Users\biocbuild\bbs-3.12-bioc\R\bin\R.exe CMD build --keep-empty-dirs --no-resave-data AnVIL
StartedAt: 2020-08-10 23:23:11 -0400 (Mon, 10 Aug 2020)
EndedAt: 2020-08-10 23:23:34 -0400 (Mon, 10 Aug 2020)
EllapsedTime: 23.6 seconds
RetCode: 0
Status:  OK  
PackageFile: AnVIL_1.1.14.tar.gz
PackageFileSize: 803.5 KiB

Command output

##############################################################################
##############################################################################
###
### Running command:
###
###   chmod a+r AnVIL -R && C:\Users\biocbuild\bbs-3.12-bioc\R\bin\R.exe CMD build --keep-empty-dirs --no-resave-data AnVIL
###
##############################################################################
##############################################################################


* checking for file 'AnVIL/DESCRIPTION' ... OK
* preparing 'AnVIL':
* checking DESCRIPTION meta-information ... OK
* installing the package to build vignettes
* creating vignettes ... OK
* checking for LF line-endings in source and make files and shell scripts
* checking for empty or unneeded directories
* building 'AnVIL_1.1.14.tar.gz'