Back to Multiple platform build/check report for BioC 3.12
A[B]CDEFGHIJKLMNOPQRSTUVWXYZ

BUILD BIN report for BiSeq on merida1

This page was generated on 2021-04-17 12:10:17 -0400 (Sat, 17 Apr 2021).

To the developers/maintainers of the BiSeq package:
Please make sure to use the following settings in order to reproduce any error or warning you see on this page.
Package 193/1974HostnameOS / ArchINSTALLBUILDCHECKBUILD BIN
BiSeq 1.30.0  (landing page)
Katja Hebestreit
Snapshot Date: 2021-04-16 14:50:12 -0400 (Fri, 16 Apr 2021)
URL: https://git.bioconductor.org/packages/BiSeq
Branch: RELEASE_3_12
Last Commit: e946e2d
Last Changed Date: 2020-10-27 10:50:37 -0400 (Tue, 27 Oct 2020)
malbec1Linux (Ubuntu 18.04.5 LTS) / x86_64  OK    OK    OK  UNNEEDED, same version exists in internal repository
tokay1Windows Server 2012 R2 Standard / x64  OK    OK    OK    OK  UNNEEDED, same version exists in internal repository
merida1macOS 10.14.6 Mojave / x86_64  OK    OK    OK    OK  UNNEEDED, same version exists in internal repository

Summary

Package: BiSeq
Version: 1.30.0
Command: rm -rf BiSeq.buildbin-libdir && mkdir BiSeq.buildbin-libdir && /Users/biocbuild/BBS/utils/build-universal.sh BiSeq_1.30.0.tar.gz /Library/Frameworks/R.framework/Versions/Current/Resources/bin/R BiSeq.buildbin-libdir
StartedAt: 2021-04-17 06:19:29 -0400 (Sat, 17 Apr 2021)
EndedAt: 2021-04-17 06:20:30 -0400 (Sat, 17 Apr 2021)
EllapsedTime: 61.1 seconds
RetCode: 0
Status:   OK  
PackageFile: BiSeq_1.30.0.tgz
PackageFileSize: 1.187 MiB

Command output

##############################################################################
##############################################################################
###
### Running command:
###
###   rm -rf BiSeq.buildbin-libdir && mkdir BiSeq.buildbin-libdir && /Users/biocbuild/BBS/utils/build-universal.sh BiSeq_1.30.0.tar.gz /Library/Frameworks/R.framework/Versions/Current/Resources/bin/R BiSeq.buildbin-libdir
###
##############################################################################
##############################################################################


>>>>>>> 
>>>>>>> INSTALLATION WITH 'R CMD INSTALL --preclean --no-multiarch --library=BiSeq.buildbin-libdir BiSeq_1.30.0.tar.gz'
>>>>>>> 

* installing *source* package ‘BiSeq’ ...
** using staged installation
** R
** data
** inst
** byte-compile and prepare package for lazy loading
** help
*** installing help indices
** building package indices
** installing vignettes
** testing if installed package can be loaded from temporary location
** testing if installed package can be loaded from final location
** testing if installed package keeps a record of temporary installation path
* DONE (BiSeq)