Back to Multiple platform build/check report for BioC 3.12
[A]BCDEFGHIJKLMNOPQRSTUVWXYZ

INSTALL report for appreci8R on tokay1

This page was generated on 2020-08-10 12:24:55 -0400 (Mon, 10 Aug 2020).

TO THE DEVELOPERS/MAINTAINERS OF THE appreci8R PACKAGE: Please make sure to use the following settings in order to reproduce any error or warning you see on this page.
Package 73/1882HostnameOS / ArchINSTALLBUILDCHECKBUILD BIN
appreci8R 1.7.0
Sarah Sandmann
Snapshot Date: 2020-08-09 14:51:29 -0400 (Sun, 09 Aug 2020)
URL: https://git.bioconductor.org/packages/appreci8R
Branch: master
Last Commit: 8474b30
Last Changed Date: 2020-04-27 15:18:01 -0400 (Mon, 27 Apr 2020)
malbec1 Linux (Ubuntu 18.04.4 LTS) / x86_64  OK  OK  OK UNNEEDED, same version exists in internal repository
nebbiolo1 Linux (Ubuntu 20.04.1 LTS) / x86_64  OK  OK  OK 
tokay1 Windows Server 2012 R2 Standard / x64 [ OK ] OK  OK  OK UNNEEDED, same version exists in internal repository
merida1 macOS 10.14.6 Mojave / x86_64  OK  OK  OK  OK UNNEEDED, same version exists in internal repository

Summary

Package: appreci8R
Version: 1.7.0
Command: C:\cygwin\bin\curl.exe -O https://malbec1.bioconductor.org/BBS/3.12/bioc/src/contrib/appreci8R_1.7.0.tar.gz && rm -rf appreci8R.buildbin-libdir && mkdir appreci8R.buildbin-libdir && C:\Users\biocbuild\bbs-3.12-bioc\R\bin\R.exe CMD INSTALL --merge-multiarch --build --library=appreci8R.buildbin-libdir appreci8R_1.7.0.tar.gz && C:\Users\biocbuild\bbs-3.12-bioc\R\bin\R.exe CMD INSTALL appreci8R_1.7.0.zip && rm appreci8R_1.7.0.tar.gz appreci8R_1.7.0.zip
StartedAt: 2020-08-09 18:44:47 -0400 (Sun, 09 Aug 2020)
EndedAt: 2020-08-09 18:47:10 -0400 (Sun, 09 Aug 2020)
EllapsedTime: 142.4 seconds
RetCode: 0
Status:  OK  

Command output

##############################################################################
##############################################################################
###
### Running command:
###
###   C:\cygwin\bin\curl.exe -O https://malbec1.bioconductor.org/BBS/3.12/bioc/src/contrib/appreci8R_1.7.0.tar.gz && rm -rf appreci8R.buildbin-libdir && mkdir appreci8R.buildbin-libdir && C:\Users\biocbuild\bbs-3.12-bioc\R\bin\R.exe CMD INSTALL --merge-multiarch --build --library=appreci8R.buildbin-libdir appreci8R_1.7.0.tar.gz && C:\Users\biocbuild\bbs-3.12-bioc\R\bin\R.exe CMD INSTALL appreci8R_1.7.0.zip && rm appreci8R_1.7.0.tar.gz appreci8R_1.7.0.zip
###
##############################################################################
##############################################################################


  % Total    % Received % Xferd  Average Speed   Time    Time     Time  Current
                                 Dload  Upload   Total   Spent    Left  Speed

  0     0    0     0    0     0      0      0 --:--:-- --:--:-- --:--:--     0
100  728k  100  728k    0     0  16.0M      0 --:--:-- --:--:-- --:--:-- 17.3M

install for i386

* installing *source* package 'appreci8R' ...
** using staged installation
** R
** inst
** byte-compile and prepare package for lazy loading
No methods found in package 'IRanges' for request: 'values' when loading 'GenomicScores'
** help
*** installing help indices
  converting help for package 'appreci8R'
    finding HTML links ... done
    annotate                                html  
    appreci8R-package                       html  
    appreci8Rshiny                          html  
    combineOutput                           html  
    determineCharacteristics                html  
    evaluateCovAndBQ                        html  
    filterTarget                            html  
    finalFiltration                         html  
    normalize                               html  
** building package indices
** installing vignettes
** testing if installed package can be loaded from temporary location
No methods found in package 'IRanges' for request: 'values' when loading 'GenomicScores'
** testing if installed package can be loaded from final location
No methods found in package 'IRanges' for request: 'values' when loading 'GenomicScores'
** testing if installed package keeps a record of temporary installation path

install for x64

* installing *source* package 'appreci8R' ...
** testing if installed package can be loaded
No methods found in package 'IRanges' for request: 'values' when loading 'GenomicScores'
* MD5 sums
packaged installation of 'appreci8R' as appreci8R_1.7.0.zip
* DONE (appreci8R)
* installing to library 'C:/Users/biocbuild/bbs-3.12-bioc/R/library'
package 'appreci8R' successfully unpacked and MD5 sums checked