Back to Multiple platform build/check report for BioC 3.12
ABCDEFGHIJKLMNOPQRS[T]UVWXYZ

Multiple platform build/check report for BioC 3.12

All results for package topconfects

This page was generated on 2021-04-14 12:08:31 -0400 (Wed, 14 Apr 2021).

Package 1877/1974HostnameOS / ArchINSTALLBUILDCHECKBUILD BIN
topconfects 1.6.0  (landing page)
Paul Harrison
Snapshot Date: 2021-04-13 14:50:13 -0400 (Tue, 13 Apr 2021)
URL: https://git.bioconductor.org/packages/topconfects
Branch: RELEASE_3_12
Last Commit: 98f5ed5
Last Changed Date: 2020-10-27 11:42:03 -0400 (Tue, 27 Oct 2020)
malbec1Linux (Ubuntu 18.04.5 LTS) / x86_64  OK    OK    OK  UNNEEDED, same version exists in internal repository
tokay1Windows Server 2012 R2 Standard / x64  OK    OK    OK    OK  UNNEEDED, same version exists in internal repository
merida1macOS 10.14.6 Mojave / x86_64  OK    OK    OK    OK  UNNEEDED, same version exists in internal repository

Results for Bioconductor software packages that depend directly on package topconfects

QUICK STATSOS / ArchINSTALLBUILDCHECKBUILD BIN
malbec1Linux (Ubuntu 18.04.5 LTS) / x86_64
002
002
0002
tokay1Windows Server 2012 R2 Standard / x64
002
002
0002
002
merida1macOS 10.14.6 Mojave / x86_64
002
002
0002
002
Package 1/2HostnameOS / ArchINSTALLBUILDCHECKBUILD BIN
MetaVolcanoR 1.4.0  (landing page)
Cesar Prada
Last Commit: 5f1bf82
Last Changed Date: 2020-10-27 11:47:15 -0400
malbec1Linux (Ubuntu 18.04.5 LTS) / x86_64  OK    OK    OK  UNNEEDED, same version exists in internal repository
tokay1Windows Server 2012 R2 Standard / x64  OK    OK    OK    OK  UNNEEDED, same version exists in internal repository
merida1macOS 10.14.6 Mojave / x86_64  OK    OK    OK    OK  UNNEEDED, same version exists in internal repository
Package 2/2HostnameOS / ArchINSTALLBUILDCHECKBUILD BIN
weitrix 1.2.0  (landing page)
Paul Harrison
Last Commit: 72b5965
Last Changed Date: 2020-10-27 11:57:06 -0400
malbec1Linux (Ubuntu 18.04.5 LTS) / x86_64  OK    OK    OK  UNNEEDED, same version exists in internal repository
tokay1Windows Server 2012 R2 Standard / x64  OK    OK    OK    OK  UNNEEDED, same version exists in internal repository
merida1macOS 10.14.6 Mojave / x86_64  OK    OK    OK    OK  UNNEEDED, same version exists in internal repository