Back to Multiple platform build/check report for BioC 3.12
AB[C]DEFGHIJKLMNOPQRSTUVWXYZ

BUILD BIN report for CancerMutationAnalysis on merida1

This page was generated on 2020-08-07 12:26:43 -0400 (Fri, 07 Aug 2020).

TO THE DEVELOPERS/MAINTAINERS OF THE CancerMutationAnalysis PACKAGE: Please make sure to use the following settings in order to reproduce any error or warning you see on this page.
Package 220/1882HostnameOS / ArchINSTALLBUILDCHECKBUILD BIN
CancerMutationAnalysis 1.31.0
Simina M. Boca
Snapshot Date: 2020-08-06 14:50:46 -0400 (Thu, 06 Aug 2020)
URL: https://git.bioconductor.org/packages/CancerMutationAnalysis
Branch: master
Last Commit: 251c81e
Last Changed Date: 2020-04-27 14:29:21 -0400 (Mon, 27 Apr 2020)
malbec1 Linux (Ubuntu 18.04.4 LTS) / x86_64  OK  OK  OK UNNEEDED, same version exists in internal repository
tokay1 Windows Server 2012 R2 Standard / x64  OK  OK  OK  OK UNNEEDED, same version exists in internal repository
merida1 macOS 10.14.6 Mojave / x86_64  OK  OK  OK [ OK ]UNNEEDED, same version exists in internal repository

Summary

Package: CancerMutationAnalysis
Version: 1.31.0
Command: rm -rf CancerMutationAnalysis.buildbin-libdir && mkdir CancerMutationAnalysis.buildbin-libdir && /Users/biocbuild/BBS/utils/build-universal.sh CancerMutationAnalysis_1.31.0.tar.gz /Library/Frameworks/R.framework/Versions/Current/Resources/bin/R CancerMutationAnalysis.buildbin-libdir
StartedAt: 2020-08-07 06:24:22 -0400 (Fri, 07 Aug 2020)
EndedAt: 2020-08-07 06:25:06 -0400 (Fri, 07 Aug 2020)
EllapsedTime: 44.1 seconds
RetCode: 0
Status:  OK 
PackageFile: CancerMutationAnalysis_1.31.0.tgz
PackageFileSize: 8.392 MiB

Command output

##############################################################################
##############################################################################
###
### Running command:
###
###   rm -rf CancerMutationAnalysis.buildbin-libdir && mkdir CancerMutationAnalysis.buildbin-libdir && /Users/biocbuild/BBS/utils/build-universal.sh CancerMutationAnalysis_1.31.0.tar.gz /Library/Frameworks/R.framework/Versions/Current/Resources/bin/R CancerMutationAnalysis.buildbin-libdir
###
##############################################################################
##############################################################################


>>>>>>> 
>>>>>>> INSTALLATION WITH 'R CMD INSTALL --preclean --no-multiarch --library=CancerMutationAnalysis.buildbin-libdir CancerMutationAnalysis_1.31.0.tar.gz'
>>>>>>> 

* installing *source* package ‘CancerMutationAnalysis’ ...
** using staged installation
** libs
clang -mmacosx-version-min=10.13 -I"/Library/Frameworks/R.framework/Resources/include" -DNDEBUG   -I/usr/local/include   -fPIC  -Wall -g -O2  -c get.cdf.het.berns.c -o get.cdf.het.berns.o
clang -mmacosx-version-min=10.13 -dynamiclib -Wl,-headerpad_max_install_names -undefined dynamic_lookup -single_module -multiply_defined suppress -L/Library/Frameworks/R.framework/Resources/lib -L/usr/local/lib -o CancerMutationAnalysis.so get.cdf.het.berns.o -F/Library/Frameworks/R.framework/.. -framework R -Wl,-framework -Wl,CoreFoundation
installing to /Users/biocbuild/bbs-3.12-bioc/meat/CancerMutationAnalysis.buildbin-libdir/00LOCK-CancerMutationAnalysis/00new/CancerMutationAnalysis/libs
** R
** data
** inst
** byte-compile and prepare package for lazy loading
** help
*** installing help indices
** building package indices
** installing vignettes
** testing if installed package can be loaded from temporary location
** checking absolute paths in shared objects and dynamic libraries
** testing if installed package can be loaded from final location
** testing if installed package keeps a record of temporary installation path
* DONE (CancerMutationAnalysis)


>>>>>>> 
>>>>>>> FIXING LINKS FOR CancerMutationAnalysis.buildbin-libdir/CancerMutationAnalysis/libs/CancerMutationAnalysis.so
>>>>>>> 

install_name_tool -change "/usr/local/lib/libgcc_s.1.dylib" "/Library/Frameworks/R.framework/Versions/4.0/Resources/lib/libgcc_s.1.dylib" "CancerMutationAnalysis.buildbin-libdir/CancerMutationAnalysis/libs/CancerMutationAnalysis.so"
install_name_tool -change "/usr/local/lib/libgfortran.5.dylib" "/Library/Frameworks/R.framework/Versions/4.0/Resources/lib/libgfortran.5.dylib" "CancerMutationAnalysis.buildbin-libdir/CancerMutationAnalysis/libs/CancerMutationAnalysis.so"
install_name_tool -change "/usr/local/lib/libquadmath.0.dylib" "/Library/Frameworks/R.framework/Versions/4.0/Resources/lib/libquadmath.0.dylib" "CancerMutationAnalysis.buildbin-libdir/CancerMutationAnalysis/libs/CancerMutationAnalysis.so"