Back to Multiple platform build/check report for BioC 3.12
A[B]CDEFGHIJKLMNOPQRSTUVWXYZ

BUILD BIN report for blacksheepr on merida1

This page was generated on 2020-08-13 12:00:04 -0400 (Thu, 13 Aug 2020).

TO THE DEVELOPERS/MAINTAINERS OF THE blacksheepr PACKAGE: Please make sure to use the following settings in order to reproduce any error or warning you see on this page.
Package 185/1885HostnameOS / ArchINSTALLBUILDCHECKBUILD BIN
blacksheepr 1.3.0
RugglesLab
Snapshot Date: 2020-08-12 14:52:00 -0400 (Wed, 12 Aug 2020)
URL: https://git.bioconductor.org/packages/blacksheepr
Branch: master
Last Commit: c938295
Last Changed Date: 2020-04-27 15:31:23 -0400 (Mon, 27 Apr 2020)
malbec1 Linux (Ubuntu 18.04.4 LTS) / x86_64  OK  OK  OK UNNEEDED, same version exists in internal repository
nebbiolo1 Linux (Ubuntu 20.04.1 LTS) / x86_64  OK  OK  OK 
tokay1 Windows Server 2012 R2 Standard / x64  OK  OK  OK  OK UNNEEDED, same version exists in internal repository
merida1 macOS 10.14.6 Mojave / x86_64  OK  OK  OK [ OK ]UNNEEDED, same version exists in internal repository

Summary

Package: blacksheepr
Version: 1.3.0
Command: rm -rf blacksheepr.buildbin-libdir && mkdir blacksheepr.buildbin-libdir && /Users/biocbuild/BBS/utils/build-universal.sh blacksheepr_1.3.0.tar.gz /Library/Frameworks/R.framework/Versions/Current/Resources/bin/R blacksheepr.buildbin-libdir
StartedAt: 2020-08-13 08:32:21 -0400 (Thu, 13 Aug 2020)
EndedAt: 2020-08-13 08:33:25 -0400 (Thu, 13 Aug 2020)
EllapsedTime: 64.4 seconds
RetCode: 0
Status:  OK 
PackageFile: blacksheepr_1.3.0.tgz
PackageFileSize: 4.013 MiB

Command output

##############################################################################
##############################################################################
###
### Running command:
###
###   rm -rf blacksheepr.buildbin-libdir && mkdir blacksheepr.buildbin-libdir && /Users/biocbuild/BBS/utils/build-universal.sh blacksheepr_1.3.0.tar.gz /Library/Frameworks/R.framework/Versions/Current/Resources/bin/R blacksheepr.buildbin-libdir
###
##############################################################################
##############################################################################


>>>>>>> 
>>>>>>> INSTALLATION WITH 'R CMD INSTALL --preclean --no-multiarch --library=blacksheepr.buildbin-libdir blacksheepr_1.3.0.tar.gz'
>>>>>>> 

* installing *source* package ‘blacksheepr’ ...
** using staged installation
** R
** data
** inst
** byte-compile and prepare package for lazy loading
** help
*** installing help indices
** building package indices
** installing vignettes
** testing if installed package can be loaded from temporary location
** testing if installed package can be loaded from final location
** testing if installed package keeps a record of temporary installation path
* DONE (blacksheepr)