Back to Multiple platform build/check report for BioC 3.12
A[B]CDEFGHIJKLMNOPQRSTUVWXYZ

INSTALL report for BufferedMatrixMethods on tokay1

This page was generated on 2020-10-25 12:06:14 -0400 (Sun, 25 Oct 2020).

TO THE DEVELOPERS/MAINTAINERS OF THE BufferedMatrixMethods PACKAGE: Please make sure to use the following settings in order to reproduce any error or warning you see on this page.
Package 216/1974HostnameOS / ArchINSTALLBUILDCHECKBUILD BIN
BufferedMatrixMethods 1.53.0
Ben Bolstad
Snapshot Date: 2020-10-24 14:40:19 -0400 (Sat, 24 Oct 2020)
URL: https://git.bioconductor.org/packages/BufferedMatrixMethods
Branch: master
Last Commit: d7d095f
Last Changed Date: 2020-04-27 14:14:37 -0400 (Mon, 27 Apr 2020)
malbec1 Linux (Ubuntu 18.04.4 LTS) / x86_64  OK  OK  OK UNNEEDED, same version exists in internal repository
nebbiolo1 Linux (Ubuntu 20.04.1 LTS) / x86_64  OK  OK  OK 
tokay1 Windows Server 2012 R2 Standard / x64 [ OK ] OK  OK  OK UNNEEDED, same version exists in internal repository
riesling1 Windows Server 2019 Standard / x64  OK  OK  OK  OK 
merida1 macOS 10.14.6 Mojave / x86_64  OK  OK  OK  OK UNNEEDED, same version exists in internal repository

Summary

Package: BufferedMatrixMethods
Version: 1.53.0
Command: C:\cygwin\bin\curl.exe -O https://malbec1.bioconductor.org/BBS/3.12/bioc/src/contrib/BufferedMatrixMethods_1.53.0.tar.gz && rm -rf BufferedMatrixMethods.buildbin-libdir && mkdir BufferedMatrixMethods.buildbin-libdir && C:\Users\biocbuild\bbs-3.12-bioc\R\bin\R.exe CMD INSTALL --merge-multiarch --build --library=BufferedMatrixMethods.buildbin-libdir BufferedMatrixMethods_1.53.0.tar.gz && C:\Users\biocbuild\bbs-3.12-bioc\R\bin\R.exe CMD INSTALL BufferedMatrixMethods_1.53.0.zip && rm BufferedMatrixMethods_1.53.0.tar.gz BufferedMatrixMethods_1.53.0.zip
StartedAt: 2020-10-24 16:39:59 -0400 (Sat, 24 Oct 2020)
EndedAt: 2020-10-24 16:40:27 -0400 (Sat, 24 Oct 2020)
EllapsedTime: 27.9 seconds
RetCode: 0
Status:  OK  

Command output

##############################################################################
##############################################################################
###
### Running command:
###
###   C:\cygwin\bin\curl.exe -O https://malbec1.bioconductor.org/BBS/3.12/bioc/src/contrib/BufferedMatrixMethods_1.53.0.tar.gz && rm -rf BufferedMatrixMethods.buildbin-libdir && mkdir BufferedMatrixMethods.buildbin-libdir && C:\Users\biocbuild\bbs-3.12-bioc\R\bin\R.exe CMD INSTALL --merge-multiarch --build --library=BufferedMatrixMethods.buildbin-libdir BufferedMatrixMethods_1.53.0.tar.gz && C:\Users\biocbuild\bbs-3.12-bioc\R\bin\R.exe CMD INSTALL BufferedMatrixMethods_1.53.0.zip && rm BufferedMatrixMethods_1.53.0.tar.gz BufferedMatrixMethods_1.53.0.zip
###
##############################################################################
##############################################################################


  % Total    % Received % Xferd  Average Speed   Time    Time     Time  Current
                                 Dload  Upload   Total   Spent    Left  Speed

  0     0    0     0    0     0      0      0 --:--:-- --:--:-- --:--:--     0
100 11425  100 11425    0     0   462k      0 --:--:-- --:--:-- --:--:--  557k

install for i386

* installing *source* package 'BufferedMatrixMethods' ...
** using staged installation
** libs
"C:/rtools40/mingw32/bin/"gcc  -I"C:/Users/BIOCBU~1/BBS-3~1.12-/R/include" -DNDEBUG  -I'C:/Users/biocbuild/bbs-3.12-bioc/R/library/BufferedMatrix/include'   -I"C:/extsoft/include"     -O2 -Wall  -std=gnu99 -mfpmath=sse -msse2 -mstackrealign -c init_package.c -o init_package.o
"C:/rtools40/mingw32/bin/"gcc  -I"C:/Users/BIOCBU~1/BBS-3~1.12-/R/include" -DNDEBUG  -I'C:/Users/biocbuild/bbs-3.12-bioc/R/library/BufferedMatrix/include'   -I"C:/extsoft/include"     -O2 -Wall  -std=gnu99 -mfpmath=sse -msse2 -mstackrealign -c preprocess_bm.c -o preprocess_bm.o
preprocess_bm.c: In function 'bm_rma_bg_correct':
preprocess_bm.c:344:7: warning: unused variable 'i' [-Wunused-variable]
   int i,j;
       ^
preprocess_bm.c: In function 'R_bm_rma_bg_correct':
preprocess_bm.c:378:7: warning: unused variable 'current_mode' [-Wunused-variable]
   int current_mode;
       ^~~~~~~~~~~~
preprocess_bm.c: In function 'R_bm_quantile_normalize':
preprocess_bm.c:593:7: warning: unused variable 'current_mode' [-Wunused-variable]
   int current_mode;
       ^~~~~~~~~~~~
preprocess_bm.c: In function 'do_RMA_buffmat':
preprocess_bm.c:924:7: warning: variable 'first_ind' set but not used [-Wunused-but-set-variable]
   int first_ind;
       ^~~~~~~~~
preprocess_bm.c: In function 'R_bm_rma_bg_correct_quantile_normalize':
preprocess_bm.c:1151:7: warning: unused variable 'current_mode' [-Wunused-variable]
   int current_mode;
       ^~~~~~~~~~~~
At top level:
preprocess_bm.c:453:12: warning: 'min' defined but not used [-Wunused-function]
 static int min(int x1,int x2){
            ^~~
C:/rtools40/mingw32/bin/gcc -shared -s -static-libgcc -o BufferedMatrixMethods.dll tmp.def init_package.o preprocess_bm.o -LC:/extsoft/lib/i386 -LC:/extsoft/lib -LC:/Users/BIOCBU~1/BBS-3~1.12-/R/bin/i386 -lR
installing to C:/Users/biocbuild/bbs-3.12-bioc/meat/BufferedMatrixMethods.buildbin-libdir/00LOCK-BufferedMatrixMethods/00new/BufferedMatrixMethods/libs/i386
** R
** byte-compile and prepare package for lazy loading
** help
*** installing help indices
  converting help for package 'BufferedMatrixMethods'
    finding HTML links ... done
    BM_affyDataInput                        html  
    BM_justRMA                              html  
    BM_readcelfiles                         html  
    rmapreprocess.bufferedmatrix            html  
** building package indices
** testing if installed package can be loaded from temporary location
** testing if installed package can be loaded from final location
** testing if installed package keeps a record of temporary installation path

install for x64

* installing *source* package 'BufferedMatrixMethods' ...
** libs
"C:/rtools40/mingw64/bin/"gcc  -I"C:/Users/BIOCBU~1/BBS-3~1.12-/R/include" -DNDEBUG  -I'C:/Users/biocbuild/bbs-3.12-bioc/R/library/BufferedMatrix/include'   -I"C:/extsoft/include"     -O2 -Wall  -std=gnu99 -mfpmath=sse -msse2 -mstackrealign -c init_package.c -o init_package.o
"C:/rtools40/mingw64/bin/"gcc  -I"C:/Users/BIOCBU~1/BBS-3~1.12-/R/include" -DNDEBUG  -I'C:/Users/biocbuild/bbs-3.12-bioc/R/library/BufferedMatrix/include'   -I"C:/extsoft/include"     -O2 -Wall  -std=gnu99 -mfpmath=sse -msse2 -mstackrealign -c preprocess_bm.c -o preprocess_bm.o
preprocess_bm.c: In function 'bm_rma_bg_correct':
preprocess_bm.c:344:7: warning: unused variable 'i' [-Wunused-variable]
   int i,j;
       ^
preprocess_bm.c: In function 'R_bm_rma_bg_correct':
preprocess_bm.c:378:7: warning: unused variable 'current_mode' [-Wunused-variable]
   int current_mode;
       ^~~~~~~~~~~~
preprocess_bm.c: In function 'R_bm_quantile_normalize':
preprocess_bm.c:593:7: warning: unused variable 'current_mode' [-Wunused-variable]
   int current_mode;
       ^~~~~~~~~~~~
preprocess_bm.c: In function 'do_RMA_buffmat':
preprocess_bm.c:924:7: warning: variable 'first_ind' set but not used [-Wunused-but-set-variable]
   int first_ind;
       ^~~~~~~~~
preprocess_bm.c: In function 'R_bm_rma_bg_correct_quantile_normalize':
preprocess_bm.c:1151:7: warning: unused variable 'current_mode' [-Wunused-variable]
   int current_mode;
       ^~~~~~~~~~~~
At top level:
preprocess_bm.c:453:12: warning: 'min' defined but not used [-Wunused-function]
 static int min(int x1,int x2){
            ^~~
C:/rtools40/mingw64/bin/gcc -shared -s -static-libgcc -o BufferedMatrixMethods.dll tmp.def init_package.o preprocess_bm.o -LC:/extsoft/lib/x64 -LC:/extsoft/lib -LC:/Users/BIOCBU~1/BBS-3~1.12-/R/bin/x64 -lR
installing to C:/Users/biocbuild/bbs-3.12-bioc/meat/BufferedMatrixMethods.buildbin-libdir/BufferedMatrixMethods/libs/x64
** testing if installed package can be loaded
* MD5 sums
packaged installation of 'BufferedMatrixMethods' as BufferedMatrixMethods_1.53.0.zip
* DONE (BufferedMatrixMethods)
* installing to library 'C:/Users/biocbuild/bbs-3.12-bioc/R/library'
package 'BufferedMatrixMethods' successfully unpacked and MD5 sums checked