Back to Multiple platform build/check report for BioC 3.12
ABCDEFGHIJKLMNOPQR[S]TUVWXYZ

Multiple platform build/check report for BioC 3.12

Results for SC3

This page was generated on 2020-11-29 11:49:49 -0500 (Sun, 29 Nov 2020).

Package 1623/1974HostnameOS / ArchINSTALLBUILDCHECKBUILD BIN
SC3 1.18.0
Vladimir Kiselev
Snapshot Date: 2020-11-28 14:40:17 -0500 (Sat, 28 Nov 2020)
URL: https://git.bioconductor.org/packages/SC3
Branch: RELEASE_3_12
Last Commit: 9065446
Last Changed Date: 2020-10-27 11:10:34 -0500 (Tue, 27 Oct 2020)
malbec1 Linux (Ubuntu 18.04.4 LTS) / x86_64  OK  OK  OK UNNEEDED, same version exists in internal repository
nebbiolo1 Linux (Ubuntu 20.04.1 LTS) / x86_64  OK  OK  OK 
tokay1 Windows Server 2012 R2 Standard / x64  OK  OK  OK  OK UNNEEDED, same version exists in internal repository
merida1 macOS 10.14.6 Mojave / x86_64  OK  OK  OK  OK UNNEEDED, same version exists in internal repository