Back to Multiple platform build/check report for BioC 3.12
[A]BCDEFGHIJKLMNOPQRSTUVWXYZ

INSTALL report for aCGH on malbec1

This page was generated on 2020-08-10 11:31:56 -0400 (Mon, 10 Aug 2020).

TO THE DEVELOPERS/MAINTAINERS OF THE aCGH PACKAGE: Please make sure to use the following settings in order to reproduce any error or warning you see on this page.
Package 13/1882HostnameOS / ArchINSTALLBUILDCHECKBUILD BIN
aCGH 1.67.0
Peter Dimitrov
Snapshot Date: 2020-08-09 14:51:29 -0400 (Sun, 09 Aug 2020)
URL: https://git.bioconductor.org/packages/aCGH
Branch: master
Last Commit: a8f3d34
Last Changed Date: 2020-04-27 14:09:56 -0400 (Mon, 27 Apr 2020)
malbec1 Linux (Ubuntu 18.04.4 LTS) / x86_64 [ OK ] OK  OK UNNEEDED, same version exists in internal repository
nebbiolo1 Linux (Ubuntu 20.04.1 LTS) / x86_64  OK  OK  OK 
tokay1 Windows Server 2012 R2 Standard / x64  OK  OK  OK  OK UNNEEDED, same version exists in internal repository
merida1 macOS 10.14.6 Mojave / x86_64  OK  OK  OK  OK UNNEEDED, same version exists in internal repository

Summary

Package: aCGH
Version: 1.67.0
Command: /home/biocbuild/bbs-3.12-bioc/R/bin/R CMD INSTALL aCGH
StartedAt: 2020-08-09 16:09:04 -0400 (Sun, 09 Aug 2020)
EndedAt: 2020-08-09 16:09:16 -0400 (Sun, 09 Aug 2020)
EllapsedTime: 12.2 seconds
RetCode: 0
Status:  OK 

Command output

##############################################################################
##############################################################################
###
### Running command:
###
###   /home/biocbuild/bbs-3.12-bioc/R/bin/R CMD INSTALL aCGH
###
##############################################################################
##############################################################################


* installing to library ‘/home/biocbuild/bbs-3.12-bioc/R/library’
* installing *source* package ‘aCGH’ ...
** using staged installation
** libs
g++ -std=gnu++11 -I"/home/biocbuild/bbs-3.12-bioc/R/include" -DNDEBUG -DUSEDOUBLE -g3  -I/usr/local/include   -fpic  -g -O2  -Wall -c hmm.cpp -o hmm.o
g++ -std=gnu++11 -shared -L/home/biocbuild/bbs-3.12-bioc/R/lib -L/usr/local/lib -o aCGH.so hmm.o -lm -L/home/biocbuild/bbs-3.12-bioc/R/lib -lR
installing to /home/biocbuild/bbs-3.12-bioc/R/library/00LOCK-aCGH/00new/aCGH/libs
** R
** data
** demo
** inst
** byte-compile and prepare package for lazy loading
** help
*** installing help indices
** building package indices
** installing vignettes
** testing if installed package can be loaded from temporary location
** checking absolute paths in shared objects and dynamic libraries
** testing if installed package can be loaded from final location
** testing if installed package keeps a record of temporary installation path
* DONE (aCGH)