Back to Multiple platform build/check report for BioC 3.12
A[B]CDEFGHIJKLMNOPQRSTUVWXYZ

BUILD report for BioMVCClass on tokay1

This page was generated on 2020-09-21 11:10:47 -0400 (Mon, 21 Sep 2020).

TO THE DEVELOPERS/MAINTAINERS OF THE BioMVCClass PACKAGE: Please make sure to use the following settings in order to reproduce any error or warning you see on this page.
Package 172/1912HostnameOS / ArchINSTALLBUILDCHECKBUILD BIN
BioMVCClass 1.57.0
Elizabeth Whalen
Snapshot Date: 2020-09-20 14:41:51 -0400 (Sun, 20 Sep 2020)
URL: https://git.bioconductor.org/packages/BioMVCClass
Branch: master
Last Commit: a6772db
Last Changed Date: 2020-04-27 14:13:46 -0400 (Mon, 27 Apr 2020)
malbec1 Linux (Ubuntu 18.04.4 LTS) / x86_64  OK  OK  OK UNNEEDED, same version exists in internal repository
nebbiolo1 Linux (Ubuntu 20.04.1 LTS) / x86_64  OK  OK  OK 
tokay1 Windows Server 2012 R2 Standard / x64  OK [ OK ] OK  OK UNNEEDED, same version exists in internal repository
riesling1 Windows Server 2019 Standard / x64  OK  OK  OK  OK 
merida1 macOS 10.14.6 Mojave / x86_64  OK  OK  OK  OK UNNEEDED, same version exists in internal repository

Summary

Package: BioMVCClass
Version: 1.57.0
Command: chmod a+r BioMVCClass -R && C:\Users\biocbuild\bbs-3.12-bioc\R\bin\R.exe CMD build --keep-empty-dirs --no-resave-data BioMVCClass
StartedAt: 2020-09-20 19:24:59 -0400 (Sun, 20 Sep 2020)
EndedAt: 2020-09-20 19:25:41 -0400 (Sun, 20 Sep 2020)
EllapsedTime: 41.7 seconds
RetCode: 0
Status:  OK  
PackageFile: BioMVCClass_1.57.0.tar.gz
PackageFileSize: 171.4 KiB

Command output

##############################################################################
##############################################################################
###
### Running command:
###
###   chmod a+r BioMVCClass -R && C:\Users\biocbuild\bbs-3.12-bioc\R\bin\R.exe CMD build --keep-empty-dirs --no-resave-data BioMVCClass
###
##############################################################################
##############################################################################


* checking for file 'BioMVCClass/DESCRIPTION' ... OK
* preparing 'BioMVCClass':
* checking DESCRIPTION meta-information ... OK
* installing the package to build vignettes
* creating vignettes ... OK
* checking for LF line-endings in source and make files and shell scripts
* checking for empty or unneeded directories
* building 'BioMVCClass_1.57.0.tar.gz'