Back to Multiple platform build/check report for BioC 3.12
ABCDEFGHIJKLMNOPQR[S]TUVWXYZ

Multiple platform build/check report for BioC 3.12

Results for sapFinder

This page was generated on 2020-10-30 12:04:57 -0400 (Fri, 30 Oct 2020).

Package 1618/1974HostnameOS / ArchINSTALLBUILDCHECKBUILD BIN
sapFinder 1.28.0
Shaohang Xu , Bo Wen
Snapshot Date: 2020-10-29 14:45:49 -0400 (Thu, 29 Oct 2020)
URL: https://git.bioconductor.org/packages/sapFinder
Branch: RELEASE_3_12
Last Commit: e960481
Last Changed Date: 2020-10-27 10:55:33 -0400 (Tue, 27 Oct 2020)
malbec1 Linux (Ubuntu 18.04.4 LTS) / x86_64  OK  OK  WARNINGS UNNEEDED, same version exists in internal repository
nebbiolo1 Linux (Ubuntu 20.04.1 LTS) / x86_64  OK  OK  WARNINGS 
tokay1 Windows Server 2012 R2 Standard / x64  OK  OK  WARNINGS  OK UNNEEDED, same version exists in internal repository
merida1 macOS 10.14.6 Mojave / x86_64  ERROR  ERROR  skipped  skipped