Back to Multiple platform build/check report for BioC 3.12
AB[C]DEFGHIJKLMNOPQRSTUVWXYZ

BUILD report for CancerSubtypes on tokay1

This page was generated on 2020-08-10 12:21:07 -0400 (Mon, 10 Aug 2020).

TO THE DEVELOPERS/MAINTAINERS OF THE CancerSubtypes PACKAGE: Please make sure to use the following settings in order to reproduce any error or warning you see on this page.
Package 221/1882HostnameOS / ArchINSTALLBUILDCHECKBUILD BIN
CancerSubtypes 1.15.0
Taosheng Xu
Snapshot Date: 2020-08-09 14:51:29 -0400 (Sun, 09 Aug 2020)
URL: https://git.bioconductor.org/packages/CancerSubtypes
Branch: master
Last Commit: 6859df3
Last Changed Date: 2020-04-27 15:00:39 -0400 (Mon, 27 Apr 2020)
malbec1 Linux (Ubuntu 18.04.4 LTS) / x86_64  OK  OK  OK UNNEEDED, same version exists in internal repository
nebbiolo1 Linux (Ubuntu 20.04.1 LTS) / x86_64  OK  OK  OK 
tokay1 Windows Server 2012 R2 Standard / x64  OK [ OK ] OK  OK UNNEEDED, same version exists in internal repository
merida1 macOS 10.14.6 Mojave / x86_64  OK  OK  OK  OK UNNEEDED, same version exists in internal repository

Summary

Package: CancerSubtypes
Version: 1.15.0
Command: chmod a+r CancerSubtypes -R && C:\Users\biocbuild\bbs-3.12-bioc\R\bin\R.exe CMD build --keep-empty-dirs --no-resave-data CancerSubtypes
StartedAt: 2020-08-09 21:21:00 -0400 (Sun, 09 Aug 2020)
EndedAt: 2020-08-09 21:24:59 -0400 (Sun, 09 Aug 2020)
EllapsedTime: 238.1 seconds
RetCode: 0
Status:  OK  
PackageFile: CancerSubtypes_1.15.0.tar.gz
PackageFileSize: 1.613 MiB

Command output

##############################################################################
##############################################################################
###
### Running command:
###
###   chmod a+r CancerSubtypes -R && C:\Users\biocbuild\bbs-3.12-bioc\R\bin\R.exe CMD build --keep-empty-dirs --no-resave-data CancerSubtypes
###
##############################################################################
##############################################################################


* checking for file 'CancerSubtypes/DESCRIPTION' ... OK
* preparing 'CancerSubtypes':
* checking DESCRIPTION meta-information ... OK
* installing the package to build vignettes
* creating vignettes ... OK
Warning: 'inst/doc' files
    'CancerSubtypes-vignette.Rmd', 'CancerSubtypes-vignette.html',  'CancerSubtypes-vignette.R'
  ignored as vignettes have been rebuilt.
  Run R CMD build with --no-build-vignettes to prevent rebuilding.
* checking for LF line-endings in source and make files and shell scripts
* checking for empty or unneeded directories
* looking to see if a 'data/datalist' file should be added
* building 'CancerSubtypes_1.15.0.tar.gz'