Back to Multiple platform build/check report for BioC 3.12
[A]BCDEFGHIJKLMNOPQRSTUVWXYZ

INSTALL report for affyContam on merida1

This page was generated on 2020-08-13 11:49:06 -0400 (Thu, 13 Aug 2020).

TO THE DEVELOPERS/MAINTAINERS OF THE affyContam PACKAGE: Please make sure to use the following settings in order to reproduce any error or warning you see on this page.
Package 26/1885HostnameOS / ArchINSTALLBUILDCHECKBUILD BIN
affyContam 1.47.0
V. Carey
Snapshot Date: 2020-08-12 14:52:00 -0400 (Wed, 12 Aug 2020)
URL: https://git.bioconductor.org/packages/affyContam
Branch: master
Last Commit: 24a5fca
Last Changed Date: 2020-04-27 14:18:21 -0400 (Mon, 27 Apr 2020)
malbec1 Linux (Ubuntu 18.04.4 LTS) / x86_64  OK  OK  OK UNNEEDED, same version exists in internal repository
nebbiolo1 Linux (Ubuntu 20.04.1 LTS) / x86_64  OK  OK  OK 
tokay1 Windows Server 2012 R2 Standard / x64  OK  OK  OK  OK UNNEEDED, same version exists in internal repository
merida1 macOS 10.14.6 Mojave / x86_64 [ OK ] OK  OK  OK UNNEEDED, same version exists in internal repository

Summary

Package: affyContam
Version: 1.47.0
Command: /Library/Frameworks/R.framework/Versions/Current/Resources/bin/R CMD INSTALL affyContam
StartedAt: 2020-08-12 16:09:15 -0400 (Wed, 12 Aug 2020)
EndedAt: 2020-08-12 16:09:53 -0400 (Wed, 12 Aug 2020)
EllapsedTime: 37.4 seconds
RetCode: 0
Status:  OK 

Command output

##############################################################################
##############################################################################
###
### Running command:
###
###   /Library/Frameworks/R.framework/Versions/Current/Resources/bin/R CMD INSTALL affyContam
###
##############################################################################
##############################################################################


* installing to library ‘/Library/Frameworks/R.framework/Versions/4.0/Resources/library’
* installing *source* package ‘affyContam’ ...
** using staged installation
** R
** byte-compile and prepare package for lazy loading
     Package   
[1,] "affydata"
     LibPath                                                         
[1,] "/Library/Frameworks/R.framework/Versions/4.0/Resources/library"
     Item       Title                        
[1,] "Dilution" "AffyBatch instance Dilution"
** help
*** installing help indices
** building package indices
** installing vignettes
** testing if installed package can be loaded from temporary location
     Package   
[1,] "affydata"
     LibPath                                                         
[1,] "/Library/Frameworks/R.framework/Versions/4.0/Resources/library"
     Item       Title                        
[1,] "Dilution" "AffyBatch instance Dilution"
** testing if installed package can be loaded from final location
     Package   
[1,] "affydata"
     LibPath                                                         
[1,] "/Library/Frameworks/R.framework/Versions/4.0/Resources/library"
     Item       Title                        
[1,] "Dilution" "AffyBatch instance Dilution"
** testing if installed package keeps a record of temporary installation path
* DONE (affyContam)