Back to Multiple platform build/check report for BioC 3.12
[A]BCDEFGHIJKLMNOPQRSTUVWXYZ

BUILD report for altcdfenvs on malbec1

This page was generated on 2020-08-10 11:31:51 -0400 (Mon, 10 Aug 2020).

TO THE DEVELOPERS/MAINTAINERS OF THE altcdfenvs PACKAGE: Please make sure to use the following settings in order to reproduce any error or warning you see on this page.
Package 47/1882HostnameOS / ArchINSTALLBUILDCHECKBUILD BIN
altcdfenvs 2.51.0
Laurent Gautier
Snapshot Date: 2020-08-09 14:51:29 -0400 (Sun, 09 Aug 2020)
URL: https://git.bioconductor.org/packages/altcdfenvs
Branch: master
Last Commit: ce94335
Last Changed Date: 2020-04-27 14:09:31 -0400 (Mon, 27 Apr 2020)
malbec1 Linux (Ubuntu 18.04.4 LTS) / x86_64  OK [ OK ] OK UNNEEDED, same version exists in internal repository
nebbiolo1 Linux (Ubuntu 20.04.1 LTS) / x86_64  OK  OK  OK 
tokay1 Windows Server 2012 R2 Standard / x64  OK  OK  OK  OK UNNEEDED, same version exists in internal repository
merida1 macOS 10.14.6 Mojave / x86_64  OK  OK  OK  OK UNNEEDED, same version exists in internal repository

Summary

Package: altcdfenvs
Version: 2.51.0
Command: /home/biocbuild/bbs-3.12-bioc/R/bin/R CMD build --keep-empty-dirs --no-resave-data altcdfenvs
StartedAt: 2020-08-09 17:32:17 -0400 (Sun, 09 Aug 2020)
EndedAt: 2020-08-09 17:33:12 -0400 (Sun, 09 Aug 2020)
EllapsedTime: 54.6 seconds
RetCode: 0
Status:  OK 
PackageFile: altcdfenvs_2.51.0.tar.gz
PackageFileSize: 373.6 KiB

Command output

##############################################################################
##############################################################################
###
### Running command:
###
###   /home/biocbuild/bbs-3.12-bioc/R/bin/R CMD build --keep-empty-dirs --no-resave-data altcdfenvs
###
##############################################################################
##############################################################################


* checking for file ‘altcdfenvs/DESCRIPTION’ ... OK
* preparing ‘altcdfenvs’:
* checking DESCRIPTION meta-information ... OK
* installing the package to build vignettes
* creating vignettes ... OK
* checking for LF line-endings in source and make files and shell scripts
* checking for empty or unneeded directories
* looking to see if a ‘data/datalist’ file should be added
* building ‘altcdfenvs_2.51.0.tar.gz’