Back to Multiple platform build/check report for BioC 3.12
[A]BCDEFGHIJKLMNOPQRSTUVWXYZ

BUILD report for AgiMicroRna on merida1

This page was generated on 2020-10-29 12:36:05 -0400 (Thu, 29 Oct 2020).

TO THE DEVELOPERS/MAINTAINERS OF THE AgiMicroRna PACKAGE: Please make sure to use the following settings in order to reproduce any error or warning you see on this page.
Package 40/1974HostnameOS / ArchINSTALLBUILDCHECKBUILD BIN
AgiMicroRna 2.40.0
Pedro Lopez-Romero
Snapshot Date: 2020-10-28 14:42:40 -0400 (Wed, 28 Oct 2020)
URL: https://git.bioconductor.org/packages/AgiMicroRna
Branch: RELEASE_3_12
Last Commit: cfa4acb
Last Changed Date: 2020-10-27 10:36:25 -0400 (Tue, 27 Oct 2020)
malbec1 Linux (Ubuntu 18.04.4 LTS) / x86_64  OK  OK  OK UNNEEDED, same version exists in internal repository
nebbiolo1 Linux (Ubuntu 20.04.1 LTS) / x86_64  OK  OK  OK 
tokay1 Windows Server 2012 R2 Standard / x64  OK  OK  OK  OK UNNEEDED, same version exists in internal repository
merida1 macOS 10.14.6 Mojave / x86_64  OK [ OK ] OK  OK UNNEEDED, same version exists in internal repository

Summary

Package: AgiMicroRna
Version: 2.40.0
Command: /Library/Frameworks/R.framework/Versions/Current/Resources/bin/R CMD build --keep-empty-dirs --no-resave-data AgiMicroRna
StartedAt: 2020-10-28 18:02:59 -0400 (Wed, 28 Oct 2020)
EndedAt: 2020-10-28 18:06:02 -0400 (Wed, 28 Oct 2020)
EllapsedTime: 183.2 seconds
RetCode: 0
Status:  OK 
PackageFile: AgiMicroRna_2.40.0.tar.gz
PackageFileSize: 3.007 MiB

Command output

##############################################################################
##############################################################################
###
### Running command:
###
###   /Library/Frameworks/R.framework/Versions/Current/Resources/bin/R CMD build --keep-empty-dirs --no-resave-data AgiMicroRna
###
##############################################################################
##############################################################################


* checking for file ‘AgiMicroRna/DESCRIPTION’ ... OK
* preparing ‘AgiMicroRna’:
* checking DESCRIPTION meta-information ... OK
* installing the package to build vignettes
* creating vignettes ... OK
* checking for LF line-endings in source and make files and shell scripts
* checking for empty or unneeded directories
* looking to see if a ‘data/datalist’ file should be added
* building ‘AgiMicroRna_2.40.0.tar.gz’