Back to Multiple platform build/check report for BioC 3.12
[A]BCDEFGHIJKLMNOPQRSTUVWXYZ

BUILD BIN report for AffyCompatible on merida1

This page was generated on 2021-04-16 12:12:08 -0400 (Fri, 16 Apr 2021).

To the developers/maintainers of the AffyCompatible package:
Please make sure to use the following settings in order to reproduce any error or warning you see on this page.
Package 26/1974HostnameOS / ArchINSTALLBUILDCHECKBUILD BIN
AffyCompatible 1.50.0  (landing page)
Martin Morgan
Snapshot Date: 2021-04-15 14:51:40 -0400 (Thu, 15 Apr 2021)
URL: https://git.bioconductor.org/packages/AffyCompatible
Branch: RELEASE_3_12
Last Commit: 3b12d12
Last Changed Date: 2020-10-27 10:33:21 -0400 (Tue, 27 Oct 2020)
malbec1Linux (Ubuntu 18.04.5 LTS) / x86_64  OK    OK    OK  UNNEEDED, same version exists in internal repository
tokay1Windows Server 2012 R2 Standard / x64  OK    OK    OK    OK  UNNEEDED, same version exists in internal repository
merida1macOS 10.14.6 Mojave / x86_64  OK    OK    OK    OK  UNNEEDED, same version exists in internal repository

Summary

Package: AffyCompatible
Version: 1.50.0
Command: rm -rf AffyCompatible.buildbin-libdir && mkdir AffyCompatible.buildbin-libdir && /Users/biocbuild/BBS/utils/build-universal.sh AffyCompatible_1.50.0.tar.gz /Library/Frameworks/R.framework/Versions/Current/Resources/bin/R AffyCompatible.buildbin-libdir
StartedAt: 2021-04-16 06:00:00 -0400 (Fri, 16 Apr 2021)
EndedAt: 2021-04-16 06:00:56 -0400 (Fri, 16 Apr 2021)
EllapsedTime: 56.4 seconds
RetCode: 0
Status:   OK  
PackageFile: AffyCompatible_1.50.0.tgz
PackageFileSize: 2.006 MiB

Command output

##############################################################################
##############################################################################
###
### Running command:
###
###   rm -rf AffyCompatible.buildbin-libdir && mkdir AffyCompatible.buildbin-libdir && /Users/biocbuild/BBS/utils/build-universal.sh AffyCompatible_1.50.0.tar.gz /Library/Frameworks/R.framework/Versions/Current/Resources/bin/R AffyCompatible.buildbin-libdir
###
##############################################################################
##############################################################################


>>>>>>> 
>>>>>>> INSTALLATION WITH 'R CMD INSTALL --preclean --no-multiarch --library=AffyCompatible.buildbin-libdir AffyCompatible_1.50.0.tar.gz'
>>>>>>> 

* installing *source* package ‘AffyCompatible’ ...
** using staged installation
** R
** inst
** byte-compile and prepare package for lazy loading
** help
*** installing help indices
** building package indices
** installing vignettes
** testing if installed package can be loaded from temporary location
** testing if installed package can be loaded from final location
** testing if installed package keeps a record of temporary installation path
* DONE (AffyCompatible)