Back to Multiple platform build/check report for BioC 3.12
[A]BCDEFGHIJKLMNOPQRSTUVWXYZ

BUILD report for affy on tokay1

This page was generated on 2020-08-10 12:10:00 -0400 (Mon, 10 Aug 2020).

TO THE DEVELOPERS/MAINTAINERS OF THE affy PACKAGE: Please make sure to use the following settings in order to reproduce any error or warning you see on this page.
Package 23/1882HostnameOS / ArchINSTALLBUILDCHECKBUILD BIN
affy 1.67.0
Rafael A. Irizarry
Snapshot Date: 2020-08-09 14:51:29 -0400 (Sun, 09 Aug 2020)
URL: https://git.bioconductor.org/packages/affy
Branch: master
Last Commit: 7335b94
Last Changed Date: 2020-04-27 14:08:09 -0400 (Mon, 27 Apr 2020)
malbec1 Linux (Ubuntu 18.04.4 LTS) / x86_64  OK  OK  WARNINGS UNNEEDED, same version exists in internal repository
nebbiolo1 Linux (Ubuntu 20.04.1 LTS) / x86_64  OK  OK  WARNINGS 
tokay1 Windows Server 2012 R2 Standard / x64  OK [ OK ] WARNINGS  OK UNNEEDED, same version exists in internal repository
merida1 macOS 10.14.6 Mojave / x86_64  OK  OK  WARNINGS  OK UNNEEDED, same version exists in internal repository

Summary

Package: affy
Version: 1.67.0
Command: chmod a+r affy -R && C:\Users\biocbuild\bbs-3.12-bioc\R\bin\R.exe CMD build --keep-empty-dirs --no-resave-data affy
StartedAt: 2020-08-09 19:05:20 -0400 (Sun, 09 Aug 2020)
EndedAt: 2020-08-09 19:07:20 -0400 (Sun, 09 Aug 2020)
EllapsedTime: 119.6 seconds
RetCode: 0
Status:  OK  
PackageFile: affy_1.67.0.tar.gz
PackageFileSize: 1.26 MiB

Command output

##############################################################################
##############################################################################
###
### Running command:
###
###   chmod a+r affy -R && C:\Users\biocbuild\bbs-3.12-bioc\R\bin\R.exe CMD build --keep-empty-dirs --no-resave-data affy
###
##############################################################################
##############################################################################


* checking for file 'affy/DESCRIPTION' ... OK
* preparing 'affy':
* checking DESCRIPTION meta-information ... OK
* cleaning src
* installing the package to build vignettes
* creating vignettes ... OK
* cleaning src
* checking for LF line-endings in source and make files and shell scripts
* checking for empty or unneeded directories
* looking to see if a 'data/datalist' file should be added
* building 'affy_1.67.0.tar.gz'
Warning: file 'affy/cleanup' did not have execute permissions: corrected
Warning: file 'affy/configure' did not have execute permissions: corrected