Back to Multiple platform build/check report for BioC 3.12
[A]BCDEFGHIJKLMNOPQRSTUVWXYZ

INSTALL report for AnnotationFilter on tokay1

This page was generated on 2020-08-13 11:42:10 -0400 (Thu, 13 Aug 2020).

TO THE DEVELOPERS/MAINTAINERS OF THE AnnotationFilter PACKAGE: Please make sure to use the following settings in order to reproduce any error or warning you see on this page.
Package 59/1885HostnameOS / ArchINSTALLBUILDCHECKBUILD BIN
AnnotationFilter 1.13.0
Bioconductor Package Maintainer
Snapshot Date: 2020-08-12 14:52:00 -0400 (Wed, 12 Aug 2020)
URL: https://git.bioconductor.org/packages/AnnotationFilter
Branch: master
Last Commit: dd53a9e
Last Changed Date: 2020-04-27 15:06:41 -0400 (Mon, 27 Apr 2020)
malbec1 Linux (Ubuntu 18.04.4 LTS) / x86_64  OK  OK  OK UNNEEDED, same version exists in internal repository
nebbiolo1 Linux (Ubuntu 20.04.1 LTS) / x86_64  OK  OK  OK 
tokay1 Windows Server 2012 R2 Standard / x64 [ OK ] OK  OK  OK UNNEEDED, same version exists in internal repository
merida1 macOS 10.14.6 Mojave / x86_64  OK  OK  OK  OK UNNEEDED, same version exists in internal repository

Summary

Package: AnnotationFilter
Version: 1.13.0
Command: C:\cygwin\bin\curl.exe -O https://malbec1.bioconductor.org/BBS/3.12/bioc/src/contrib/AnnotationFilter_1.13.0.tar.gz && rm -rf AnnotationFilter.buildbin-libdir && mkdir AnnotationFilter.buildbin-libdir && C:\Users\biocbuild\bbs-3.12-bioc\R\bin\R.exe CMD INSTALL --merge-multiarch --build --library=AnnotationFilter.buildbin-libdir AnnotationFilter_1.13.0.tar.gz && C:\Users\biocbuild\bbs-3.12-bioc\R\bin\R.exe CMD INSTALL AnnotationFilter_1.13.0.zip && rm AnnotationFilter_1.13.0.tar.gz AnnotationFilter_1.13.0.zip
StartedAt: 2020-08-12 17:36:26 -0400 (Wed, 12 Aug 2020)
EndedAt: 2020-08-12 17:37:08 -0400 (Wed, 12 Aug 2020)
EllapsedTime: 41.8 seconds
RetCode: 0
Status:  OK  

Command output

##############################################################################
##############################################################################
###
### Running command:
###
###   C:\cygwin\bin\curl.exe -O https://malbec1.bioconductor.org/BBS/3.12/bioc/src/contrib/AnnotationFilter_1.13.0.tar.gz && rm -rf AnnotationFilter.buildbin-libdir && mkdir AnnotationFilter.buildbin-libdir && C:\Users\biocbuild\bbs-3.12-bioc\R\bin\R.exe CMD INSTALL --merge-multiarch --build --library=AnnotationFilter.buildbin-libdir AnnotationFilter_1.13.0.tar.gz && C:\Users\biocbuild\bbs-3.12-bioc\R\bin\R.exe CMD INSTALL AnnotationFilter_1.13.0.zip && rm AnnotationFilter_1.13.0.tar.gz AnnotationFilter_1.13.0.zip
###
##############################################################################
##############################################################################


  % Total    % Received % Xferd  Average Speed   Time    Time     Time  Current
                                 Dload  Upload   Total   Spent    Left  Speed

  0     0    0     0    0     0      0      0 --:--:-- --:--:-- --:--:--     0
100 21230  100 21230    0     0   586k      0 --:--:-- --:--:-- --:--:--  668k

install for i386

* installing *source* package 'AnnotationFilter' ...
** using staged installation
** R
** byte-compile and prepare package for lazy loading
** help
*** installing help indices
  converting help for package 'AnnotationFilter'
    finding HTML links ... done
    AnnotationFilter                        html  
    AnnotationFilterList                    html  
    GenenameFilter                          html  
** building package indices
** installing vignettes
** testing if installed package can be loaded from temporary location
** testing if installed package can be loaded from final location
** testing if installed package keeps a record of temporary installation path

install for x64

* installing *source* package 'AnnotationFilter' ...
** testing if installed package can be loaded
* MD5 sums
packaged installation of 'AnnotationFilter' as AnnotationFilter_1.13.0.zip
* DONE (AnnotationFilter)
* installing to library 'C:/Users/biocbuild/bbs-3.12-bioc/R/library'
package 'AnnotationFilter' successfully unpacked and MD5 sums checked