Back to Multiple platform build/check report for BioC 3.12
AB[C]DEFGHIJKLMNOPQRSTUVWXYZ

INSTALL report for CHARGE on tokay1

This page was generated on 2020-08-14 11:04:46 -0400 (Fri, 14 Aug 2020).

TO THE DEVELOPERS/MAINTAINERS OF THE CHARGE PACKAGE: Please make sure to use the following settings in order to reproduce any error or warning you see on this page.
Package 262/1889HostnameOS / ArchINSTALLBUILDCHECKBUILD BIN
CHARGE 1.9.1
Benjamin Mayne
Snapshot Date: 2020-08-13 14:54:37 -0400 (Thu, 13 Aug 2020)
URL: https://git.bioconductor.org/packages/CHARGE
Branch: master
Last Commit: eadf39e
Last Changed Date: 2020-06-08 10:06:16 -0400 (Mon, 08 Jun 2020)
malbec1 Linux (Ubuntu 18.04.4 LTS) / x86_64  ERROR  ERROR  skipped 
nebbiolo1 Linux (Ubuntu 20.04.1 LTS) / x86_64  ERROR  ERROR  skipped 
tokay1 Windows Server 2012 R2 Standard / x64 [ ERROR ] ERROR  skipped  skipped 
merida1 macOS 10.14.6 Mojave / x86_64  ERROR  ERROR  skipped  skipped 

Summary

Package: CHARGE
Version: 1.9.1
Command: C:\cygwin\bin\curl.exe -O https://malbec1.bioconductor.org/BBS/3.12/bioc/src/contrib/CHARGE_1.9.1.tar.gz && rm -rf CHARGE.buildbin-libdir && mkdir CHARGE.buildbin-libdir && C:\Users\biocbuild\bbs-3.12-bioc\R\bin\R.exe CMD INSTALL --merge-multiarch --build --library=CHARGE.buildbin-libdir CHARGE_1.9.1.tar.gz && C:\Users\biocbuild\bbs-3.12-bioc\R\bin\R.exe CMD INSTALL CHARGE_1.9.1.zip && rm CHARGE_1.9.1.tar.gz CHARGE_1.9.1.zip
StartedAt: 2020-08-13 18:59:11 -0400 (Thu, 13 Aug 2020)
EndedAt: 2020-08-13 18:59:12 -0400 (Thu, 13 Aug 2020)
EllapsedTime: 1.0 seconds
RetCode: 1
Status:  ERROR  

Command output

##############################################################################
##############################################################################
###
### Running command:
###
###   C:\cygwin\bin\curl.exe -O https://malbec1.bioconductor.org/BBS/3.12/bioc/src/contrib/CHARGE_1.9.1.tar.gz && rm -rf CHARGE.buildbin-libdir && mkdir CHARGE.buildbin-libdir && C:\Users\biocbuild\bbs-3.12-bioc\R\bin\R.exe CMD INSTALL --merge-multiarch --build --library=CHARGE.buildbin-libdir CHARGE_1.9.1.tar.gz && C:\Users\biocbuild\bbs-3.12-bioc\R\bin\R.exe CMD INSTALL CHARGE_1.9.1.zip && rm CHARGE_1.9.1.tar.gz CHARGE_1.9.1.zip
###
##############################################################################
##############################################################################


  % Total    % Received % Xferd  Average Speed   Time    Time     Time  Current
                                 Dload  Upload   Total   Spent    Left  Speed

  0     0    0     0    0     0      0      0 --:--:-- --:--:-- --:--:--     0
100  840k  100  840k    0     0  4440k      0 --:--:-- --:--:-- --:--:-- 4521k

install for i386

ERROR: dependency 'modes' is not available for package 'CHARGE'
* removing 'C:/Users/biocbuild/bbs-3.12-bioc/meat/CHARGE.buildbin-libdir/CHARGE'